BEGIN:VCALENDAR
VERSION:2.0
PRODID:-//Behindertenverband Leipzig e.V. - ECPv6.15.20//NONSGML v1.0//EN
CALSCALE:GREGORIAN
METHOD:PUBLISH
X-WR-CALNAME:Behindertenverband Leipzig e.V.
X-ORIGINAL-URL:https://behindertenverband-leipzig.de
X-WR-CALDESC:Veranstaltungen für Behindertenverband Leipzig e.V.
REFRESH-INTERVAL;VALUE=DURATION:PT1H
X-Robots-Tag:noindex
X-PUBLISHED-TTL:PT1H
BEGIN:VTIMEZONE
TZID:Europe/Berlin
BEGIN:DAYLIGHT
TZOFFSETFROM:+0100
TZOFFSETTO:+0200
TZNAME:CEST
DTSTART:20240331T010000
END:DAYLIGHT
BEGIN:STANDARD
TZOFFSETFROM:+0200
TZOFFSETTO:+0100
TZNAME:CET
DTSTART:20241027T010000
END:STANDARD
BEGIN:DAYLIGHT
TZOFFSETFROM:+0100
TZOFFSETTO:+0200
TZNAME:CEST
DTSTART:20250330T010000
END:DAYLIGHT
BEGIN:STANDARD
TZOFFSETFROM:+0200
TZOFFSETTO:+0100
TZNAME:CET
DTSTART:20251026T010000
END:STANDARD
BEGIN:DAYLIGHT
TZOFFSETFROM:+0100
TZOFFSETTO:+0200
TZNAME:CEST
DTSTART:20260329T010000
END:DAYLIGHT
BEGIN:STANDARD
TZOFFSETFROM:+0200
TZOFFSETTO:+0100
TZNAME:CET
DTSTART:20261025T010000
END:STANDARD
END:VTIMEZONE
BEGIN:VEVENT
DTSTART;TZID=Europe/Berlin:20251202T143000
DTEND;TZID=Europe/Berlin:20251202T160000
DTSTAMP:20260421T223334
CREATED:20251118T150635Z
LAST-MODIFIED:20251118T150636Z
UID:4946-1764685800-1764691200@behindertenverband-leipzig.de
SUMMARY:Unterwegs in der digitalen Welt
DESCRIPTION:Wir unterstützen Sie einmal im Monat dabei\, persönliche Anliegen passgenau im Internet zu recherchieren und im Umgang mit der digitalen Welt und ihren Geräten sicherer zu werden. Gerne das eigene Gerät mitbringen\, es steht aber auch ein Computer zur Verfügung\, an dem wir gemeinsam lernen und ausprobieren können
URL:https://behindertenverband-leipzig.de/event/unterwegs-in-der-digitalen-welt-9/
LOCATION:Haus der Demokratie\, Raum 011\, Bernhard-Göring-Str. 152\, Leipzig\, 04277
END:VEVENT
BEGIN:VEVENT
DTSTART;TZID=Europe/Berlin:20251203T140000
DTEND;TZID=Europe/Berlin:20251203T163000
DTSTAMP:20260421T223334
CREATED:20251118T150336Z
LAST-MODIFIED:20251118T150337Z
UID:4940-1764770400-1764779400@behindertenverband-leipzig.de
SUMMARY:Weihnachtliche Ausmalbilder
DESCRIPTION:Wir stimmen uns auf die Weihnachtszeit ein und machen uns einen gemütlichen Nachmittag\, bei dem nach Lust und Laune weihnachtliche Ausmalbilder koloriert werden.
URL:https://behindertenverband-leipzig.de/event/weihnachtliche-ausmalbilder/
LOCATION:Haus der Demokratie\, Café\, Bernhard-Göring-Str. 152\, Leipzig\, 04277\, Deutschland
END:VEVENT
BEGIN:VEVENT
DTSTART;TZID=Europe/Berlin:20251208T080000
DTEND;TZID=Europe/Berlin:20251208T170000
DTSTAMP:20260421T223334
CREATED:20251118T150847Z
LAST-MODIFIED:20251118T150847Z
UID:4950-1765180800-1765213200@behindertenverband-leipzig.de
SUMMARY:Kreatives Gestalten
DESCRIPTION:Damit an Weihnachten festlich dekoriert werden kann\, basteln wir zusammen originellen Christbaumschmuck\, wie zum Beispiel Sektkorken-Nussknacker oder Eierschachtelsterne.
URL:https://behindertenverband-leipzig.de/event/kreatives-gestalten-44/
LOCATION:Haus der Demokratie\, Raum 011\, Bernhard-Göring-Str. 152\, Leipzig\, 04277
END:VEVENT
BEGIN:VEVENT
DTSTART;TZID=Europe/Berlin:20251208T170000
DTEND;TZID=Europe/Berlin:20251208T190000
DTSTAMP:20260421T223334
CREATED:20251105T094125Z
LAST-MODIFIED:20251105T094149Z
UID:4916-1765213200-1765220400@behindertenverband-leipzig.de
SUMMARY:Friedensgebet
DESCRIPTION:Am Montag\, dem 08. Dezember 2025\, um 17.00 Uhr gestalten wir in bewährter Tradition gemeinsam mit dem Netzwerk Weiterbildung das Friedensgebet in der Nikolaikirche.In diesem Jahr begeben wir uns auf eine inklusive Abenteuerreise durch Sachsen\, um allen Personen mit und ohne Behinderungen Ferien zu ermöglichen. Die Basis bildet unser neues Brettspiel. \n\n\n\nBesonders gelungene barrierefreie Einrichtungen können aufgesucht und zur Nachahmung empfohlen werden. Barrierefreiheit beginnt in unser aller Köpfen\, aber manchmal dauert es sehr lange. Somit ist der Reiseweg von den alltäglichen Problemen gekennzeichnet\,die leider immer wieder erfahren werden müssen. Doch lassen Sie sich überraschen. Wir suchen gemeinsam den inklusiven Weg. \n\n\n\nBegleiten werden uns Pfarrerin Angelika Rudnik aus Halle und Pfarrer Andreas Fünfstück aus Arnsdorf. Frau Barth und der Gehörlosenpfarrer A. Konrath dolmetschen für unsere gehörlosen Besucher. \n\n\n\nWie jedes Jahr wird uns Nikolaipfarrer Bernhard Stief begrüßen und Kantor Markus Kaufmann an der Orgel begleiten. Wir freuen uns auf Ihr Kommen.
URL:https://behindertenverband-leipzig.de/event/friedensgebet-6/
LOCATION:Nikolaikirche\, Nikolaikirchhof 3\, Leipzig\, 04109\, Germany
END:VEVENT
BEGIN:VEVENT
DTSTART;TZID=Europe/Berlin:20251210T140000
DTEND;TZID=Europe/Berlin:20251210T163000
DTSTAMP:20260421T223334
CREATED:20251118T150506Z
LAST-MODIFIED:20251118T150506Z
UID:4942-1765375200-1765384200@behindertenverband-leipzig.de
SUMMARY:Weihnachtsplätzchen backen
DESCRIPTION:Wir verwandeln das Café in eine Weihnachtsbäckerei und zaubern gemeinsam leckere Weihnachtsplätzchen\, die dann auch direkt verspeist werden.
URL:https://behindertenverband-leipzig.de/event/weihnachtsplaetzchen-backen/
LOCATION:Haus der Demokratie\, Café\, Bernhard-Göring-Str. 152\, Leipzig\, 04277\, Deutschland
END:VEVENT
BEGIN:VEVENT
DTSTART;TZID=Europe/Berlin:20251213T150000
DTEND;TZID=Europe/Berlin:20251213T190000
DTSTAMP:20260421T223334
CREATED:20251118T150709Z
LAST-MODIFIED:20251118T150803Z
UID:4948-1765638000-1765652400@behindertenverband-leipzig.de
SUMMARY:BVL-Weihnachsfeier
DESCRIPTION:Wir laden Sie herzlich zu unserer diesjährigen Weihnachtsfeier in der Pauluskirche in Grünau ein. Für die musikalische Begleitung sorgt dieses Jahr wieder der Grünauer Chor e.V.An alle\, die in der Zeit zwischen Stolle\, Glühwein und Abendbrot ein paar Nüsse knacken möchten\, die Bitte\, einen eigenen Nussknacker mitzubringen. Ab 15.00 Uhr heißen wir Sie herzlich willkommen\, bis 19.00 Uhr feiern wir gemeinsam.Die Teilnahmegebühr beträgt 14 Euro\, mit Leipzig Pass 11\,50 Euro.Anmeldeschluss ist der 10.12.2024\, Tel.: 0341 3065 120Wenn es für Sie gerade nicht möglich ist die Verpflegungsgebühr zu entrichten\, dann melden Sie sich bitte und wir finden gemeinsam eine Lösung! Wir möchten allen eine Teilnahme ermöglichen.Tel.: 0341 3065 122 – Frau Berger
URL:https://behindertenverband-leipzig.de/event/bvl-weihnachsfeier/
LOCATION:Ev.-Luth. Pauluskirchgemeinde Leipzig-Grünau\, Alte Salzstraße 185\, Leipzig\, Deutschland
END:VEVENT
BEGIN:VEVENT
DTSTART;TZID=Europe/Berlin:20251215T140000
DTEND;TZID=Europe/Berlin:20251215T160000
DTSTAMP:20260421T223334
CREATED:20251118T150952Z
LAST-MODIFIED:20251118T150953Z
UID:4952-1765807200-1765814400@behindertenverband-leipzig.de
SUMMARY:Spielenachmittag
DESCRIPTION:
URL:https://behindertenverband-leipzig.de/event/spielenachmittag-22/
LOCATION:Haus der Demokratie\, Raum 011\, Bernhard-Göring-Str. 152\, Leipzig\, 04277
END:VEVENT
BEGIN:VEVENT
DTSTART;TZID=Europe/Berlin:20251217T140000
DTEND;TZID=Europe/Berlin:20251217T163000
DTSTAMP:20260421T223334
CREATED:20251118T150549Z
LAST-MODIFIED:20251118T150550Z
UID:4944-1765980000-1765989000@behindertenverband-leipzig.de
SUMMARY:Weihnachtswichteln
DESCRIPTION:Weihnachten steht vor der Tür und wir wollen dieses Jahr gemeinsam wichteln. Deshalb ziehen wir unter allen\, die mitmachen möchten\, am 10.12. einen Namen und machen der gelosten Person dann ein kleines\, möglichst nützliches\, Geschenk für unter 5€
URL:https://behindertenverband-leipzig.de/event/weihnachtswichteln/
LOCATION:Haus der Demokratie\, Café\, Bernhard-Göring-Str. 152\, Leipzig\, 04277\, Deutschland
END:VEVENT
END:VCALENDAR