BEGIN:VCALENDAR
VERSION:2.0
PRODID:-//Behindertenverband Leipzig e.V. - ECPv6.15.20//NONSGML v1.0//EN
CALSCALE:GREGORIAN
METHOD:PUBLISH
X-WR-CALNAME:Behindertenverband Leipzig e.V.
X-ORIGINAL-URL:https://behindertenverband-leipzig.de
X-WR-CALDESC:Veranstaltungen für Behindertenverband Leipzig e.V.
REFRESH-INTERVAL;VALUE=DURATION:PT1H
X-Robots-Tag:noindex
X-PUBLISHED-TTL:PT1H
BEGIN:VTIMEZONE
TZID:Europe/Berlin
BEGIN:DAYLIGHT
TZOFFSETFROM:+0100
TZOFFSETTO:+0200
TZNAME:CEST
DTSTART:20240331T010000
END:DAYLIGHT
BEGIN:STANDARD
TZOFFSETFROM:+0200
TZOFFSETTO:+0100
TZNAME:CET
DTSTART:20241027T010000
END:STANDARD
BEGIN:DAYLIGHT
TZOFFSETFROM:+0100
TZOFFSETTO:+0200
TZNAME:CEST
DTSTART:20250330T010000
END:DAYLIGHT
BEGIN:STANDARD
TZOFFSETFROM:+0200
TZOFFSETTO:+0100
TZNAME:CET
DTSTART:20251026T010000
END:STANDARD
BEGIN:DAYLIGHT
TZOFFSETFROM:+0100
TZOFFSETTO:+0200
TZNAME:CEST
DTSTART:20260329T010000
END:DAYLIGHT
BEGIN:STANDARD
TZOFFSETFROM:+0200
TZOFFSETTO:+0100
TZNAME:CET
DTSTART:20261025T010000
END:STANDARD
END:VTIMEZONE
BEGIN:VEVENT
DTSTART;TZID=Europe/Berlin:20251001T140000
DTEND;TZID=Europe/Berlin:20251001T163000
DTSTAMP:20260422T020516
CREATED:20250926T072011Z
LAST-MODIFIED:20250926T072012Z
UID:4863-1759327200-1759336200@behindertenverband-leipzig.de
SUMMARY:Café Inklusiv(e): Tanzgruppe Melitta
DESCRIPTION:Tanzgruppe MelittaDie Frauentanzgruppe „Melitta“ besteht seit 2006. Alle sind unterschiedlichen Alters und haben unterschiedliche Berufe\, was die Frauen verbindet\, ist die Liebe zur Folklore (Musik und Tanz).Uns erwartet ein buntes Programm unterschiedlicher Tänze.
URL:https://behindertenverband-leipzig.de/event/cafe-inklusive-tanzgruppe-melitta-4/
LOCATION:Haus der Demokratie\, Café\, Bernhard-Göring-Str. 152\, Leipzig\, 04277\, Deutschland
END:VEVENT
BEGIN:VEVENT
DTSTART;TZID=Europe/Berlin:20251003T000000
DTEND;TZID=Europe/Berlin:20251005T235959
DTSTAMP:20260422T020516
CREATED:20250926T073255Z
LAST-MODIFIED:20250926T073312Z
UID:4882-1759449600-1759708799@behindertenverband-leipzig.de
SUMMARY:Hobbymesse Leipzig
DESCRIPTION:Auch dieses Jahr haben wir wieder einen Stand auf der\, ehemals Modell-Hobby-Spiel\, jetzt Hobbymesse Leipzig.Dort gibt es unter anderem das neue Memospiel zu entdecken und es darf schon mal eine Testversion unseres bald erscheinenden Brettspiels ausprobiert werden.Wir freuen uns über zahlreichen Besuch! \n\n\n\nWir befinden uns dieses Jahr in Halle 1\, Stand B41
URL:https://behindertenverband-leipzig.de/event/hobbymesse-leipzig/
LOCATION:Leipziger Messe\, Messe-Allee 1\, Leipzig\, 04356
END:VEVENT
BEGIN:VEVENT
DTSTART;TZID=Europe/Berlin:20251007T143000
DTEND;TZID=Europe/Berlin:20251007T160000
DTSTAMP:20260422T020516
CREATED:20250926T072734Z
LAST-MODIFIED:20250926T072818Z
UID:4873-1759847400-1759852800@behindertenverband-leipzig.de
SUMMARY:Unterwegs in der digitalen Welt
DESCRIPTION:Wir unterstützen Sie einmal im Monat dabei\, persönliche Anliegen passgenau im Internet zu recherchieren und im Umgang mit der digitalen Welt und ihren Geräten sicherer zu werden. Gerne das eigene Gerät mitbringen\, es steht aber auch ein Computer zur Verfügung\, an dem wir gemeinsam lernen und ausprobieren können
URL:https://behindertenverband-leipzig.de/event/unterwegs-in-der-digitalen-welt-7/
LOCATION:Haus der Demokratie\, Raum 011\, Bernhard-Göring-Str. 152\, Leipzig\, 04277
END:VEVENT
BEGIN:VEVENT
DTSTART;TZID=Europe/Berlin:20251008T140000
DTEND;TZID=Europe/Berlin:20251008T163000
DTSTAMP:20260422T020516
CREATED:20250926T072121Z
LAST-MODIFIED:20250926T072122Z
UID:4865-1759932000-1759941000@behindertenverband-leipzig.de
SUMMARY:Café Inklusiv(e): Eine Tramfahrt durch Leipzig
DESCRIPTION:Wir begeben uns zurück ins Jahr 1931 auf eine Straßenbahnfahrt durch das alte Leipzig.Der Originalfilm wurde einst zur Schulung von Straßenbahnfahrern aufgenommen.Im Leipzig des Jahres 1931 gibt es neben der schieren Ästhetik einer Weltstadt des frühen 20. Jahrhunderts in Architektur\, Garderobe\, Lebensart\, wie sie heute nirgendwo mehr zu finden ist\, unendlich viel zu entdecken. Begeben wir uns gemeinsam auf eine Zeitreise.
URL:https://behindertenverband-leipzig.de/event/cafe-inklusive-eine-tramfahrt-durch-leipzig/
LOCATION:Haus der Demokratie\, Café\, Bernhard-Göring-Str. 152\, Leipzig\, 04277\, Deutschland
END:VEVENT
BEGIN:VEVENT
DTSTART;TZID=Europe/Berlin:20251011T150000
DTEND;TZID=Europe/Berlin:20251011T190000
DTSTAMP:20260422T020516
CREATED:20250926T072620Z
LAST-MODIFIED:20250926T072621Z
UID:4871-1760194800-1760209200@behindertenverband-leipzig.de
SUMMARY:BVL Herbstfest
DESCRIPTION:Wir laden Sie herzlich zu unserem Herbstfest in der Pauluskirche in Grünau ein und freuen uns\, den Sommer gemeinsam mit Ihnen bei Speis und Trank ausklingen zu lassen.Dieses Jahr haben wir einen besonderen Gast: Wir dürfen die DDR Jonglage Legende SIR Mike Schnelle mit seiner Ein-Mann Bühnenshow bei uns begrüßen. Außerdem haben wir endlich genug gesammelt und es wird eine Tombola geben! \n\n\n\nAb 15.00 Uhr heißen wir alle herzlich willkommen\, bis 19.00 Uhr feiern wir gemeinsam.Die Teilnahmegebühr liegt bei 14\,- EUR\, mit LeipzigPass bei 11\,50 €. Anmeldeschluss ist der 06.10.25\, Tel.: 0341 3065 120. \n\n\n\nWenn es für Sie gerade nicht möglich ist die Verpflegungsgebühr zu entrichten\, dann melden Sie sich bitte und wir finden gemeinsam eine Lösung! Wir möchten allen eine Teilnahme ermöglichen.
URL:https://behindertenverband-leipzig.de/event/bvl-herbstfest-2/
LOCATION:Ev.-Luth. Pauluskirchgemeinde Leipzig-Grünau\, Alte Salzstraße 185\, Leipzig\, Deutschland
END:VEVENT
BEGIN:VEVENT
DTSTART;TZID=Europe/Berlin:20251013T143000
DTEND;TZID=Europe/Berlin:20251013T160000
DTSTAMP:20260422T020516
CREATED:20250926T072910Z
LAST-MODIFIED:20250926T072911Z
UID:4876-1760365800-1760371200@behindertenverband-leipzig.de
SUMMARY:Kreatives Gestalten
DESCRIPTION:Weil es beim letzten Mal so schön war und wir unsere Kunstwerke nicht ganz vollenden konnten\, widmen wir uns an diesem Montag ein zweites Mal der Diamantmalerei.
URL:https://behindertenverband-leipzig.de/event/kreatives-gestalten-42/
LOCATION:Haus der Demokratie\, Raum 011\, Bernhard-Göring-Str. 152\, Leipzig\, 04277
END:VEVENT
BEGIN:VEVENT
DTSTART;TZID=Europe/Berlin:20251015T140000
DTEND;TZID=Europe/Berlin:20251015T163000
DTSTAMP:20260422T020516
CREATED:20250926T072217Z
LAST-MODIFIED:20250926T072218Z
UID:4867-1760536800-1760545800@behindertenverband-leipzig.de
SUMMARY:Café Inklusiv(e): Leipzig vor 60 Jahren
DESCRIPTION:Wir erinnern uns gemeinsam mit Frank Baacke und blicken zurück auf das ereignisreiche Jahr 1965.
URL:https://behindertenverband-leipzig.de/event/cafe-inklusive-leipzig-vor-60-jahren/
LOCATION:Haus der Demokratie\, Café\, Bernhard-Göring-Str. 152\, Leipzig\, 04277\, Deutschland
END:VEVENT
BEGIN:VEVENT
DTSTART;TZID=Europe/Berlin:20251021T130000
DTEND;TZID=Europe/Berlin:20251021T160000
DTSTAMP:20260422T020516
CREATED:20250926T073133Z
LAST-MODIFIED:20250926T073134Z
UID:4880-1761051600-1761062400@behindertenverband-leipzig.de
SUMMARY:E-Rolli Wandergruppe
DESCRIPTION:Liebe Wanderfreunde\,im Oktober beginnen wir unsere Wintertouren.Wir treffen uns also am Dienstag\, dem 21. Oktober 2025 um 13 Uhr vor dem Zeitgeschichtlichen Forum in der Grimmaischen Straße 6.Dort findet derzeit die Ausstellung „Mythos Mosaik?“ statt. Anlass sind sowohl 70 Jahre Digedags als auch 100 Jahre Hannes Hegen.Bis dahin alles Gute. Ich freue mich.Eure Gaby
URL:https://behindertenverband-leipzig.de/event/e-rolli-wandergruppe-39/
END:VEVENT
BEGIN:VEVENT
DTSTART;TZID=Europe/Berlin:20251022T140000
DTEND;TZID=Europe/Berlin:20251022T163000
DTSTAMP:20260422T020516
CREATED:20250926T072400Z
LAST-MODIFIED:20250926T072441Z
UID:4869-1761141600-1761150600@behindertenverband-leipzig.de
SUMMARY:Café Inklusiv(e): Gedächtnistraining
DESCRIPTION:Anett Reichel\, zertifizierte Gedächtnistrainerin von „Mobile Lichtmomente“ besucht uns mit einem Leipziger Allerlei verschiedener Fragen und Aufgaben\, um unsere Gehirne ein bisschen auf Touren zu bringen.
URL:https://behindertenverband-leipzig.de/event/cafe-inklusive-gedaechtnistraining-4/
LOCATION:Haus der Demokratie\, Café\, Bernhard-Göring-Str. 152\, Leipzig\, 04277\, Deutschland
END:VEVENT
BEGIN:VEVENT
DTSTART;TZID=Europe/Berlin:20251029T140000
DTEND;TZID=Europe/Berlin:20251029T163000
DTSTAMP:20260422T020516
CREATED:20251027T084915Z
LAST-MODIFIED:20251027T084918Z
UID:4889-1761746400-1761755400@behindertenverband-leipzig.de
SUMMARY:Café inklusiv
DESCRIPTION:Wir plaudern in gemütlicher Atmosphäre mit Kaffee und Kuchen. Alle sind herzlich willkommen!
URL:https://behindertenverband-leipzig.de/event/cafe-inklusiv-43/
LOCATION:Haus der Demokratie\, Café\, Bernhard-Göring-Str. 152\, Leipzig\, 04277\, Deutschland
END:VEVENT
BEGIN:VEVENT
DTSTART;TZID=Europe/Berlin:20251030T140000
DTEND;TZID=Europe/Berlin:20251030T160000
DTSTAMP:20260422T020516
CREATED:20251027T085113Z
LAST-MODIFIED:20251027T085115Z
UID:4891-1761832800-1761840000@behindertenverband-leipzig.de
SUMMARY:Spielenachmittag im Grassi
DESCRIPTION:Jeden geraden Monat treffen wir uns im Bonvenon Raum des Grassi Museums und spielen dort gemeinsam unsere Lieblingsspiele. Es darf gerne das eigene Spiel mitgebracht werden\, aber auch vor Ort ist eine große Auswahl zu entdecken.
URL:https://behindertenverband-leipzig.de/event/spielenachmittag-im-grassi-8/
LOCATION:GRASSI Museum für Völkerkunde\, Johannisplatz 5-11\, Leipzig\, 04103
END:VEVENT
END:VCALENDAR