BEGIN:VCALENDAR
VERSION:2.0
PRODID:-//Behindertenverband Leipzig e.V. - ECPv6.15.20//NONSGML v1.0//EN
CALSCALE:GREGORIAN
METHOD:PUBLISH
X-WR-CALNAME:Behindertenverband Leipzig e.V.
X-ORIGINAL-URL:https://behindertenverband-leipzig.de
X-WR-CALDESC:Veranstaltungen für Behindertenverband Leipzig e.V.
REFRESH-INTERVAL;VALUE=DURATION:PT1H
X-Robots-Tag:noindex
X-PUBLISHED-TTL:PT1H
BEGIN:VTIMEZONE
TZID:Europe/Berlin
BEGIN:DAYLIGHT
TZOFFSETFROM:+0100
TZOFFSETTO:+0200
TZNAME:CEST
DTSTART:20240331T010000
END:DAYLIGHT
BEGIN:STANDARD
TZOFFSETFROM:+0200
TZOFFSETTO:+0100
TZNAME:CET
DTSTART:20241027T010000
END:STANDARD
BEGIN:DAYLIGHT
TZOFFSETFROM:+0100
TZOFFSETTO:+0200
TZNAME:CEST
DTSTART:20250330T010000
END:DAYLIGHT
BEGIN:STANDARD
TZOFFSETFROM:+0200
TZOFFSETTO:+0100
TZNAME:CET
DTSTART:20251026T010000
END:STANDARD
BEGIN:DAYLIGHT
TZOFFSETFROM:+0100
TZOFFSETTO:+0200
TZNAME:CEST
DTSTART:20260329T010000
END:DAYLIGHT
BEGIN:STANDARD
TZOFFSETFROM:+0200
TZOFFSETTO:+0100
TZNAME:CET
DTSTART:20261025T010000
END:STANDARD
END:VTIMEZONE
BEGIN:VEVENT
DTSTART;TZID=Europe/Berlin:20250902T143000
DTEND;TZID=Europe/Berlin:20250902T160000
DTSTAMP:20260422T034245
CREATED:20250821T112759Z
LAST-MODIFIED:20250821T112800Z
UID:4836-1756823400-1756828800@behindertenverband-leipzig.de
SUMMARY:Unterwegs in der digitalen Welt
DESCRIPTION:Wir unterstützen Sie einmal im Monat dabei\, persönliche Anliegen passgenau im Internet zu recherchieren und im Umgang mit der digitalen Welt und ihren Geräten sicherer zu werden.Gerne das eigene Gerät mitbringen\, es steht aber auch ein Computer zur Verfügung\, an dem wir gemeinsam lernen und ausprobieren können
URL:https://behindertenverband-leipzig.de/event/unterwegs-in-der-digitalen-welt-6/
END:VEVENT
BEGIN:VEVENT
DTSTART;TZID=Europe/Berlin:20250903T160000
DTEND;TZID=Europe/Berlin:20250903T163000
DTSTAMP:20260422T034245
CREATED:20250821T112256Z
LAST-MODIFIED:20250821T112258Z
UID:4830-1756915200-1756917000@behindertenverband-leipzig.de
SUMMARY:Café Inklusiv(e) – Botanischer Garten
DESCRIPTION:Wegen Renovierungsarbeiten im Haus der Demokratie können wir das Café nicht nutzen.Wir werden deshalb einen kleinen Ausflug in den Botanischen Garten machen und dort gemeinsam den Nachmittag genießen.Treffpunkt ist um 14:00 Uhr vor dem Eingang Johannisallee.
URL:https://behindertenverband-leipzig.de/event/cafe-inklusive-botanischer-garten-2/
LOCATION:Botanischer Garten\, Linnéstraße 1\, Leipzig\, 04103\, Deutschland
END:VEVENT
BEGIN:VEVENT
DTSTART;TZID=Europe/Berlin:20250910T140000
DTEND;TZID=Europe/Berlin:20250910T163000
DTSTAMP:20260422T034245
CREATED:20250821T112522Z
LAST-MODIFIED:20250821T112523Z
UID:4832-1757512800-1757521800@behindertenverband-leipzig.de
SUMMARY:Café Inklusiv(e) – Begegnungsfahrt auf dem Markkleeberger See
DESCRIPTION:Liebe Mittwochsrunde und Interessierte\,dieses Jahr möchten wir Sie endlich mal wieder zu einem kleinen Ausflug einladen. Gemeinsam machen wir uns auf zum Markkleeberger See\, um dort eine zweistündige Rundfahrt auf einem Schiff zu genießen und bei Kaffee und Kuchen die Seele baumeln zu lassen. \n\n\n\nDas Schiff ist barrierefrei und es gibt eine rollstuhlgerechte Toilette.Kosten: 10 € für Schifffahrt und Verpflegung an Deck\, zzgl. Fahrtkosten\, falls Sie mit dem Fahrdienst fahren.Anmeldeschluss: Mittwoch\, der 01.09.2025\, nur angemeldete Personen können am Ausflug teilnehmen! \n\n\n\nEs wird eine Gruppe geben\, die gemeinsam mit Frau Keitel mit den öffentlichen Verkehrsmitteln anreist.Dazu treffen wir uns um 13:00 Uhr an der Tramhaltestelle Connewitzer Kreuz\, nehmen dort um 13:10 Uhr die Tram 11 Richtung Markkleeberg Ost und steigen an der Haltestelle Markkleeberg Ost Schillerplatz aus. Den Bootsanlegesteg erreichen wir dann in ca. 10 Minuten \n\n\n\nBitte kümmern Sie sich eigenständig um den Erwerb von Tickets für die Tram und melden Sie sich bei Frau Keitel\, wenn Sie hierfür Unterstützung wünschen.Falls Sie einen Schieberollstuhl haben und noch jemand zum Schieben brauchen\, sagen Sie Bescheid – wir versuchen es möglich zu machen. Wir freuen uns auf den gemeinsamen Nachmittag auf dem Wasser!
URL:https://behindertenverband-leipzig.de/event/cafe-inklusive-begegnungsfahrt-auf-dem-markkleeberger-see/
END:VEVENT
BEGIN:VEVENT
DTSTART;TZID=Europe/Berlin:20250915T140000
DTEND;TZID=Europe/Berlin:20250915T160000
DTSTAMP:20260422T034245
CREATED:20250821T113215Z
LAST-MODIFIED:20250821T113216Z
UID:4842-1757944800-1757952000@behindertenverband-leipzig.de
SUMMARY:Spielenachmittag
DESCRIPTION:Wir wollen gemeinsam Spielen. Eine kleine Sammlung ist vorhanden\, Lieblingsspiele dürfen gerne mitgebracht werden.
URL:https://behindertenverband-leipzig.de/event/spielenachmittag-21/
LOCATION:Haus der Demokratie\, Raum 011\, Bernhard-Göring-Str. 152\, Leipzig\, 04277
END:VEVENT
BEGIN:VEVENT
DTSTART;TZID=Europe/Berlin:20250916T130000
DTEND;TZID=Europe/Berlin:20250916T160000
DTSTAMP:20260422T034245
CREATED:20250821T113015Z
LAST-MODIFIED:20250821T113016Z
UID:4840-1758027600-1758038400@behindertenverband-leipzig.de
SUMMARY:E-Rolli Wandergruppe
DESCRIPTION:Liebe Wanderfreunde\,leider ist ja unser ZOO-Besuch im Juli\, im wahrsten Sinne des Wortes\, ins Wasser gefallen. Deshalb wollen wir es im September erneut versuchen.Wir treffen uns also am Dienstag\, dem 16.09.2025 um 13 Uhr vor dem Eingang zum ZOO.Das Ende kann jeder für sich planen.Drückt mal die Daumen\, dass das Wetter diesmal mitspielt.Bleibt gesund! Ich freue mich.Eure Gaby
URL:https://behindertenverband-leipzig.de/event/e-rolli-wandergruppe-38/
LOCATION:Zoo Leipzig\, Pfaffendorfer Str. 29\, Leipzig\, 04105\, Deutschland
END:VEVENT
BEGIN:VEVENT
DTSTART;TZID=Europe/Berlin:20250917T140000
DTEND;TZID=Europe/Berlin:20250917T163000
DTSTAMP:20260422T034245
CREATED:20250917T060535Z
LAST-MODIFIED:20250917T060536Z
UID:4860-1758117600-1758126600@behindertenverband-leipzig.de
SUMMARY:Café inklusiv
DESCRIPTION:Wir plaudern in gemütlicher Atmosphäre mit Kaffee und Kuchen. Alle sind herzlich willkommen!
URL:https://behindertenverband-leipzig.de/event/cafe-inklusiv-42/
LOCATION:Haus der Demokratie\, Café\, Bernhard-Göring-Str. 152\, Leipzig\, 04277\, Deutschland
END:VEVENT
BEGIN:VEVENT
DTSTART;TZID=Europe/Berlin:20250922T143000
DTEND;TZID=Europe/Berlin:20250922T160000
DTSTAMP:20260422T034245
CREATED:20250821T112910Z
LAST-MODIFIED:20250821T112911Z
UID:4838-1758551400-1758556800@behindertenverband-leipzig.de
SUMMARY:Kreatives Gestalten
DESCRIPTION:Diamond Painting kombiniert das Prinzip beliebter Freizeitbeschäftigungen wie Malen nach Zahlen oder Kreuzstich\, ist jedoch viel einfacher zu erlernen und liefert schneller großartige Ergebnisse. Wir kleben dabei nach und nach kleine Glitzersteinchen auf eine selbstklebende Leinwand.Mit der Diamantmalerei können Sie nicht nur hervorragend relaxen und Stress abbauen\, sondern auch gezielt Ihre Konzentration trainieren und feinmotorische Fähigkeiten verbessern.
URL:https://behindertenverband-leipzig.de/event/kreatives-gestalten-41/
LOCATION:Haus der Demokratie\, Raum 011\, Bernhard-Göring-Str. 152\, Leipzig\, 04277
END:VEVENT
BEGIN:VEVENT
DTSTART;TZID=Europe/Berlin:20250924T140000
DTEND;TZID=Europe/Berlin:20250924T163000
DTSTAMP:20260422T034245
CREATED:20250821T112700Z
LAST-MODIFIED:20250821T112701Z
UID:4834-1758722400-1758731400@behindertenverband-leipzig.de
SUMMARY:Café Inklusiv(e) – Vortrag über Indien mit dem Eine Welt e.V.
DESCRIPTION:„Namasté“ – Guten Tag Indien! Indien kann faszinieren und gleichzeitig abschrecken. In der Veranstaltung geht es um den Lebensalltag der Menschen in Indien\, den Hinduismus und das Kastenwesen. Im Mittelpunkt steht eine Fotoserie\, die verschiedene Aspekte des Lebens in Indien beleuchtet. Tradition und Moderne stehen sich hier gleichermaßen gegenüber. In einem praktischen Teil können Sie einmal einen Sari anprobieren.
URL:https://behindertenverband-leipzig.de/event/cafe-inklusive-vortrag-ueber-indien-mit-dem-eine-welt-e-v/
LOCATION:Haus der Demokratie\, Café\, Bernhard-Göring-Str. 152\, Leipzig\, 04277\, Deutschland
END:VEVENT
END:VCALENDAR