BEGIN:VCALENDAR
VERSION:2.0
PRODID:-//Behindertenverband Leipzig e.V. - ECPv6.15.20//NONSGML v1.0//EN
CALSCALE:GREGORIAN
METHOD:PUBLISH
X-ORIGINAL-URL:https://behindertenverband-leipzig.de
X-WR-CALDESC:Veranstaltungen für Behindertenverband Leipzig e.V.
REFRESH-INTERVAL;VALUE=DURATION:PT1H
X-Robots-Tag:noindex
X-PUBLISHED-TTL:PT1H
BEGIN:VTIMEZONE
TZID:Europe/Berlin
BEGIN:DAYLIGHT
TZOFFSETFROM:+0100
TZOFFSETTO:+0200
TZNAME:CEST
DTSTART:20240331T010000
END:DAYLIGHT
BEGIN:STANDARD
TZOFFSETFROM:+0200
TZOFFSETTO:+0100
TZNAME:CET
DTSTART:20241027T010000
END:STANDARD
BEGIN:DAYLIGHT
TZOFFSETFROM:+0100
TZOFFSETTO:+0200
TZNAME:CEST
DTSTART:20250330T010000
END:DAYLIGHT
BEGIN:STANDARD
TZOFFSETFROM:+0200
TZOFFSETTO:+0100
TZNAME:CET
DTSTART:20251026T010000
END:STANDARD
BEGIN:DAYLIGHT
TZOFFSETFROM:+0100
TZOFFSETTO:+0200
TZNAME:CEST
DTSTART:20260329T010000
END:DAYLIGHT
BEGIN:STANDARD
TZOFFSETFROM:+0200
TZOFFSETTO:+0100
TZNAME:CET
DTSTART:20261025T010000
END:STANDARD
END:VTIMEZONE
BEGIN:VEVENT
DTSTART;TZID=Europe/Berlin:20250506T143000
DTEND;TZID=Europe/Berlin:20250506T160000
DTSTAMP:20260422T094437
CREATED:20250430T123134Z
LAST-MODIFIED:20250430T123134Z
UID:4718-1746541800-1746547200@behindertenverband-leipzig.de
SUMMARY:Unterwegs in der digitalen Welt
DESCRIPTION:Wir unterstützen Sie einmal im Monat dabei\, persönliche Anliegen passgenau im Internet zu recherchieren und im Umgang mit der digitalen Welt und ihren Geräten sicherer zu werden.Gerne das eigene Gerät mitbringen\, es steht aber auch ein Computer zur Verfügung\, an dem wir gemeinsam lernen und ausprobieren können.
URL:https://behindertenverband-leipzig.de/event/unterwegs-in-der-digitalen-welt-3/
LOCATION:Haus der Demokratie\, Raum 011\, Bernhard-Göring-Str. 152\, Leipzig\, 04277
END:VEVENT
BEGIN:VEVENT
DTSTART;TZID=Europe/Berlin:20250507T140000
DTEND;TZID=Europe/Berlin:20250507T170000
DTSTAMP:20260422T094437
CREATED:20250430T122554Z
LAST-MODIFIED:20251030T145406Z
UID:4709-1746626400-1746637200@behindertenverband-leipzig.de
SUMMARY:Café Inklusiv(e) - Treffpunkt Inklusion
DESCRIPTION:Gemeinsam mit dem Blinden und Sehbehindertenverband\, dem Stadtverband der Hörgeschädigten und dem Haus der Demokratie laden wir Sie herzlich zu einer offenen Kaffeetafel ein\, bei der alle zusammenkommen können. \n\n\n\nDie Zusammenkunft findet im Rahmen der Protestwoche für die Belange von Menschen mit Behinderung statt. Passend dazu erwartet Sie ein informativer Vortrag zum Thema politische Teilhabe. Im Anschluss möchten wir in einer gemeinsamen Runde politische Forderungen erarbeiten\, die wir anschließend an Entscheidungsträgerinnen und Entscheidungsträger weiterleiten werden. \n\n\n\nFür eine gemütliche Atmosphäre ist selbstverständlich gesorgt – mit Kaffee\, Kuchen und kleinen Überraschungen.Wir freuen uns auf einen regen Austausch\, anregende Gespräche und ein bestärkendes Miteinander! \n\n\n\nDie Aktion Mensch fördert unsere Aktion. Das diesjährige Motto der Protestwoche lautet „5. Mai 2025 – Neustart Inklusion“. Unter dem Hashtag #WirSind10Millionen findet man alle weiteren Informationen und Aktionen im Zusammenhang mit dem Europäischen Protesttag zur Gleichstellung von Menschen mit Behinderung. Wir laden euch alle herzlich zum Austausch auf Augenhöhe ein.
URL:https://behindertenverband-leipzig.de/event/cafe-inklusive-treffpunkt-inklusion/
LOCATION:Haus der Demokratie\, Café\, Bernhard-Göring-Str. 152\, Leipzig\, 04277\, Deutschland
END:VEVENT
BEGIN:VEVENT
DTSTART;TZID=Europe/Berlin:20250512T143000
DTEND;TZID=Europe/Berlin:20250512T160000
DTSTAMP:20260422T094437
CREATED:20250430T123235Z
LAST-MODIFIED:20250430T123236Z
UID:4720-1747060200-1747065600@behindertenverband-leipzig.de
SUMMARY:Kreatives Gestalten
DESCRIPTION:Aus alten Konservendosen\, Schraubverschlüssen und Bierdeckeln basteln wir eine lustige Eule\, die wir im Garten oder auf dem Balkon aufhängen können. Bei Bedarf ist sie auch mit Vogelfutter befüllbar für unsere gefiederten Freunde.
URL:https://behindertenverband-leipzig.de/event/kreatives-gestalten-40/
LOCATION:Haus der Demokratie\, Raum 011\, Bernhard-Göring-Str. 152\, Leipzig\, 04277
END:VEVENT
BEGIN:VEVENT
DTSTART;TZID=Europe/Berlin:20250514T140000
DTEND;TZID=Europe/Berlin:20250514T163000
DTSTAMP:20260422T094437
CREATED:20250430T122744Z
LAST-MODIFIED:20250430T122745Z
UID:4712-1747231200-1747240200@behindertenverband-leipzig.de
SUMMARY:Café Inklusiv(e) - Darüber lachte und lacht die Welt
DESCRIPTION:Die spannende Geschichte der Hofnarren\, Hanswurste & Clowns.Vorgestellt von Hans-Dieter Hormann\, dem ehemaligen Inhaber des Clownmuseums Leipzig\, in Erzählungen\, bewegten Bildern und einem besonderen Gast.
URL:https://behindertenverband-leipzig.de/event/cafe-inklusive-darueber-lachte-und-lacht-die-welt/
LOCATION:Haus der Demokratie\, Café\, Bernhard-Göring-Str. 152\, Leipzig\, 04277\, Deutschland
END:VEVENT
BEGIN:VEVENT
DTSTART;TZID=Europe/Berlin:20250519T140000
DTEND;TZID=Europe/Berlin:20250519T160000
DTSTAMP:20260422T094437
CREATED:20250430T123451Z
LAST-MODIFIED:20250430T123452Z
UID:4723-1747663200-1747670400@behindertenverband-leipzig.de
SUMMARY:Spielenachmittag
DESCRIPTION:Einmal monatlich treffen wir uns zum gemeinsamen Spielen. Eine kleine Sammlung ist vorhanden\,Lieblingsspiele dürfen gerne mitgebracht werden.
URL:https://behindertenverband-leipzig.de/event/spielenachmittag-18/
LOCATION:Haus der Demokratie\, Raum 011\, Bernhard-Göring-Str. 152\, Leipzig\, 04277
END:VEVENT
BEGIN:VEVENT
DTSTART;TZID=Europe/Berlin:20250521T140000
DTEND;TZID=Europe/Berlin:20250521T163000
DTSTAMP:20260422T094437
CREATED:20250430T122858Z
LAST-MODIFIED:20250430T122859Z
UID:4714-1747836000-1747845000@behindertenverband-leipzig.de
SUMMARY:Café Inklusiv(e) - Tanzgruppe Melitta
DESCRIPTION:Die Frauentanzgruppe „Melitta“ besteht seit 2006. Alle sind unterschiedlichen Alters und haben unterschiedliche Berufe. Was die Frauen verbindet ist die Liebe zur Folklore (Musik und Tanz).Uns erwartet ein buntes Programm unterschiedlicher Tänze.
URL:https://behindertenverband-leipzig.de/event/cafe-inklusive-tanzgruppe-melitta-3/
LOCATION:Haus der Demokratie\, Café\, Bernhard-Göring-Str. 152\, Leipzig\, 04277\, Deutschland
END:VEVENT
BEGIN:VEVENT
DTSTART;TZID=Europe/Berlin:20250528T140000
DTEND;TZID=Europe/Berlin:20250528T163000
DTSTAMP:20260422T094437
CREATED:20250430T123028Z
LAST-MODIFIED:20250430T123029Z
UID:4716-1748440800-1748449800@behindertenverband-leipzig.de
SUMMARY:Café Inklusiv(e) - Ausflug in den Botanischen Garten
DESCRIPTION:Diesen Mittwoch wollen wir mal wieder gemeinsam den Botanischen Garten der Universität Leipzig besuchen. Nach einem kleinen Spaziergang (selbstverständlich mit Kaffee und Keksen)\, werden wir dieses Mal das Schmetterlingshaus und die Gewächshäuser besuchen. Der Eintritt hierfür kostet 3-5 Euro.Wir treffen uns um 14:00 Uhr am Eingang Linnéstraße.
URL:https://behindertenverband-leipzig.de/event/cafe-inklusive-ausflug-in-den-botanischen-garten/
LOCATION:Botanischer Garten\, Linnéstraße 1\, Leipzig\, 04103\, Deutschland
END:VEVENT
END:VCALENDAR