BEGIN:VCALENDAR
VERSION:2.0
PRODID:-//Behindertenverband Leipzig e.V. - ECPv6.15.20//NONSGML v1.0//EN
CALSCALE:GREGORIAN
METHOD:PUBLISH
X-WR-CALNAME:Behindertenverband Leipzig e.V.
X-ORIGINAL-URL:https://behindertenverband-leipzig.de
X-WR-CALDESC:Veranstaltungen für Behindertenverband Leipzig e.V.
REFRESH-INTERVAL;VALUE=DURATION:PT1H
X-Robots-Tag:noindex
X-PUBLISHED-TTL:PT1H
BEGIN:VTIMEZONE
TZID:Europe/Berlin
BEGIN:DAYLIGHT
TZOFFSETFROM:+0100
TZOFFSETTO:+0200
TZNAME:CEST
DTSTART:20240331T010000
END:DAYLIGHT
BEGIN:STANDARD
TZOFFSETFROM:+0200
TZOFFSETTO:+0100
TZNAME:CET
DTSTART:20241027T010000
END:STANDARD
BEGIN:DAYLIGHT
TZOFFSETFROM:+0100
TZOFFSETTO:+0200
TZNAME:CEST
DTSTART:20250330T010000
END:DAYLIGHT
BEGIN:STANDARD
TZOFFSETFROM:+0200
TZOFFSETTO:+0100
TZNAME:CET
DTSTART:20251026T010000
END:STANDARD
BEGIN:DAYLIGHT
TZOFFSETFROM:+0100
TZOFFSETTO:+0200
TZNAME:CEST
DTSTART:20260329T010000
END:DAYLIGHT
BEGIN:STANDARD
TZOFFSETFROM:+0200
TZOFFSETTO:+0100
TZNAME:CET
DTSTART:20261025T010000
END:STANDARD
END:VTIMEZONE
BEGIN:VEVENT
DTSTART;TZID=Europe/Berlin:20250401T143000
DTEND;TZID=Europe/Berlin:20250401T160000
DTSTAMP:20260422T112307
CREATED:20250327T093517Z
LAST-MODIFIED:20250327T094745Z
UID:4662-1743517800-1743523200@behindertenverband-leipzig.de
SUMMARY:Unterwegs in der digitalen Welt
DESCRIPTION:Wir unterstützen Sie einmal im Monat dabei\, persönliche Anliegen passgenau im Internet zu recherchieren und im Umgang mit der digitalen Welt und ihren Geräten sicherer zu werden.Gerne das eigene Gerät mitbringen\, es steht aber auch ein Computer zur Verfügung\, an dem wir gemeinsam lernen und ausprobieren können.
URL:https://behindertenverband-leipzig.de/event/unterwegs-in-der-digitalen-welt-2/
LOCATION:Haus der Demokratie\, Raum 011\, Bernhard-Göring-Str. 152\, Leipzig\, 04277
END:VEVENT
BEGIN:VEVENT
DTSTART;TZID=Europe/Berlin:20250402T140000
DTEND;TZID=Europe/Berlin:20250402T163000
DTSTAMP:20260422T112307
CREATED:20250327T092935Z
LAST-MODIFIED:20250327T092937Z
UID:4654-1743602400-1743611400@behindertenverband-leipzig.de
SUMMARY:Café Inklusiv(e): Vortrag zu Pfefferspray und Deeskalation
DESCRIPTION:An diesem Nachmittag wird uns ein Mitarbeiter der Polizei über den Einsatz von Pfefferspray zur Selbstverteidigung und die damit verbundenen rechtlichen Aspekte aufklären. Außerdem gibt es Wissenswertes zu Deeskalation in Konfliktsituationen.
URL:https://behindertenverband-leipzig.de/event/cafe-inklusive-vortrag-zu-pfefferspray-und-deeskalation/
LOCATION:Haus der Demokratie\, Café\, Bernhard-Göring-Str. 152\, Leipzig\, 04277\, Deutschland
END:VEVENT
BEGIN:VEVENT
DTSTART;TZID=Europe/Berlin:20250409T140000
DTEND;TZID=Europe/Berlin:20250409T163000
DTSTAMP:20260422T112307
CREATED:20250327T095038Z
LAST-MODIFIED:20250327T095040Z
UID:4675-1744207200-1744216200@behindertenverband-leipzig.de
SUMMARY:Café inklusiv
DESCRIPTION:Wir plaudern in gemütlicher Atmosphäre mit Kaffee und Kuchen. Alle sind herzlich willkommen!
URL:https://behindertenverband-leipzig.de/event/cafe-inklusiv-38/
LOCATION:Haus der Demokratie\, Café\, Bernhard-Göring-Str. 152\, Leipzig\, 04277\, Deutschland
END:VEVENT
BEGIN:VEVENT
DTSTART;TZID=Europe/Berlin:20250412T150000
DTEND;TZID=Europe/Berlin:20250412T190000
DTSTAMP:20260422T112307
CREATED:20250327T093939Z
LAST-MODIFIED:20250327T094121Z
UID:4666-1744470000-1744484400@behindertenverband-leipzig.de
SUMMARY:Frühlingsfest
DESCRIPTION:Den allseits sehnsüchtig erwarteten Frühlingsanfang möchten wir gemeinsam mit Ihnen feierlich begehen. Wir laden Sie herzlich zu unserem Frühlingsfest in der Martinskirche in Grünau ein.Dieses Mal dürfen wir uns auf ganz besondere Gäste freuen: Anne Petzold und ihre Kakadushow. Ihre gefiederten Freunde zeigen uns\, wie sie Fahrrad\, Roller\, Rollschuh fahren sowie vieles mehr.Für die musikalische Begleitung sorgt unser allseits beliebter DJ Sondershaus.Ab 15.00 Uhr heißen wir alle herzlich willkommen\, bis 19.00 Uhr feiern wir gemeinsam.Anmeldeschluss ist der 08.04.2025\, Tel.: 0341 3065 120Achtung\, dieses Jahr ist das Frühlingsfest in der Martinskirche!
URL:https://behindertenverband-leipzig.de/event/fruehlingsfest-3/
LOCATION:Martinskirche\, Kolpingweg 1\, Leipzig\, 04209\, Germany
END:VEVENT
BEGIN:VEVENT
DTSTART;TZID=Europe/Berlin:20250414T140000
DTEND;TZID=Europe/Berlin:20250414T160000
DTSTAMP:20260422T112307
CREATED:20250327T093607Z
LAST-MODIFIED:20250327T093610Z
UID:4664-1744639200-1744646400@behindertenverband-leipzig.de
SUMMARY:Kreatives Gestalten
DESCRIPTION:Diesen Monat experimentieren wir mit Acrylic Pouring.Diese Technik verwendet flüssige Acrylfarben\, die auf eine Leinwand gegossen werden\, um ein abstraktes Muster zu erzeugen. Schon einmal ausprobiert?Beim Acrylic Pouring wird jedes Bild zum absolut kreativen Unikat – und das Beste dabei ist\, jeder kann ein solches Bild kreieren.
URL:https://behindertenverband-leipzig.de/event/kreatives-gestalten-39/
LOCATION:Haus der Demokratie\, Raum 011\, Bernhard-Göring-Str. 152\, Leipzig\, 04277
END:VEVENT
BEGIN:VEVENT
DTSTART;TZID=Europe/Berlin:20250415T130000
DTEND;TZID=Europe/Berlin:20250415T160000
DTSTAMP:20260422T112307
CREATED:20250327T094409Z
LAST-MODIFIED:20250327T094414Z
UID:4673-1744722000-1744732800@behindertenverband-leipzig.de
SUMMARY:E-Rolli Wandergruppe
DESCRIPTION:Liebe Wanderfreunde\,im April wollen wir einen Ausstellungsbesuch mit einer Wanderung ins Grüne verbinden.Wir treffen uns am Dienstag\, dem 15. April am Fotomuseum im AGRA-Park. Dort ist neben der Dauerausstellung zur Geschichte der Fotografie die aktuelle Ausstellung „Verlassene Orte\, verlorene Träume“ zu besichtigen. Großformatige Fotografien zeigen so genannte Lost-Places\, also verlassene Orte\, die mit ihrer ursprünglichen Nutzung in Vergessenheit gerieten.Leider kann uns vom Betreiberverein keine Ermäßigung angeboten werden. Im Museum gibt es ein kleines Café und der Park kann auch abgewandert werden. Gegen 16 Uhr könnten wir den Ausflug beenden\, bei schönem Wetter sicher auch später.Meldet euch bitte auch beim Fahrdienst an\, die Mitarbeiter sind über unser Wanderziel informiert.Bleibt gesund. Ich freue mich.Eure Gaby
URL:https://behindertenverband-leipzig.de/event/e-rolli-wandergruppe-35/
END:VEVENT
BEGIN:VEVENT
DTSTART;TZID=Europe/Berlin:20250416T140000
DTEND;TZID=Europe/Berlin:20250416T163000
DTSTAMP:20260422T112307
CREATED:20250327T093051Z
LAST-MODIFIED:20250327T093052Z
UID:4656-1744812000-1744821000@behindertenverband-leipzig.de
SUMMARY:Café Inklusiv(e): Konzert „Alles hat seine Zeit“
DESCRIPTION:An diesem Nachmittag dürfen wir die Leipziger Liedermacherin Ines Reintzsch und ihre Gitarre begrüßen. Sie hat für uns einige Lieder ihres 2017 erschienenen Albums „Alles hat seine Zeit“ im Gepäck\, sowie ein Paar allseits bekannte Volkslieder zum Mitsingen.
URL:https://behindertenverband-leipzig.de/event/cafe-inklusive-konzert-alles-hat-seine-zeit/
LOCATION:Haus der Demokratie\, Café\, Bernhard-Göring-Str. 152\, Leipzig\, 04277\, Deutschland
END:VEVENT
BEGIN:VEVENT
DTSTART;TZID=Europe/Berlin:20250423T140000
DTEND;TZID=Europe/Berlin:20250423T163000
DTSTAMP:20260422T112307
CREATED:20250327T093214Z
LAST-MODIFIED:20250327T093216Z
UID:4658-1745416800-1745425800@behindertenverband-leipzig.de
SUMMARY:Café Inklusiv(e): Gedächtnistraining
DESCRIPTION:Beim letzten Mal war sie leider krank und hatte die falsche Telefonnummer\, deshalb diesen Mittwoch auf ein Neues. Anett Reichel\, zertifizierte Gedächtnistrainerin von „mobile Lichtmomente“ besucht uns mit einem Leipziger Allerlei verschiedener Fragen und Aufgaben\, um unsere Gehirne ein bisschen auf Touren zu bringen.
URL:https://behindertenverband-leipzig.de/event/cafe-inklusive-gedaechtnistraining-3/
LOCATION:Haus der Demokratie\, Café\, Bernhard-Göring-Str. 152\, Leipzig\, 04277\, Deutschland
END:VEVENT
BEGIN:VEVENT
DTSTART;TZID=Europe/Berlin:20250428T140000
DTEND;TZID=Europe/Berlin:20250428T160000
DTSTAMP:20260422T112307
CREATED:20250415T090757Z
LAST-MODIFIED:20250415T090759Z
UID:4690-1745848800-1745856000@behindertenverband-leipzig.de
SUMMARY:Spielenachmittag im BVL
DESCRIPTION:Einmal monatlich treffen wir uns zum gemeinsamen Spielen. Eine kleine Sammlung ist vorhanden\,Lieblingsspiele dürfen gerne mitgebracht werden.
URL:https://behindertenverband-leipzig.de/event/spielenachmittag-im-bvl-7/
LOCATION:Haus der Demokratie\, Raum 011\, Bernhard-Göring-Str. 152\, Leipzig\, 04277
END:VEVENT
BEGIN:VEVENT
DTSTART;TZID=Europe/Berlin:20250430T140000
DTEND;TZID=Europe/Berlin:20250430T163000
DTSTAMP:20260422T112307
CREATED:20250327T093418Z
LAST-MODIFIED:20250415T090832Z
UID:4660-1746021600-1746030600@behindertenverband-leipzig.de
SUMMARY:Café Inklusiv(e): Sitzgymnastik mit Mila
DESCRIPTION:Mila von der Tanzgruppe „Melitta“ kommt uns an diesem Nachmittag mal alleine besuchen und wird mit uns ein bisschen Tanz- und Sitzgymnastik machen.
URL:https://behindertenverband-leipzig.de/event/cafe-inklusive-sitzgymnasik-mit-mila/
LOCATION:Haus der Demokratie\, Café\, Bernhard-Göring-Str. 152\, Leipzig\, 04277\, Deutschland
END:VEVENT
END:VCALENDAR