BEGIN:VCALENDAR
VERSION:2.0
PRODID:-//Behindertenverband Leipzig e.V. - ECPv6.15.20//NONSGML v1.0//EN
CALSCALE:GREGORIAN
METHOD:PUBLISH
X-WR-CALNAME:Behindertenverband Leipzig e.V.
X-ORIGINAL-URL:https://behindertenverband-leipzig.de
X-WR-CALDESC:Veranstaltungen für Behindertenverband Leipzig e.V.
REFRESH-INTERVAL;VALUE=DURATION:PT1H
X-Robots-Tag:noindex
X-PUBLISHED-TTL:PT1H
BEGIN:VTIMEZONE
TZID:Europe/Berlin
BEGIN:DAYLIGHT
TZOFFSETFROM:+0100
TZOFFSETTO:+0200
TZNAME:CEST
DTSTART:20240331T010000
END:DAYLIGHT
BEGIN:STANDARD
TZOFFSETFROM:+0200
TZOFFSETTO:+0100
TZNAME:CET
DTSTART:20241027T010000
END:STANDARD
BEGIN:DAYLIGHT
TZOFFSETFROM:+0100
TZOFFSETTO:+0200
TZNAME:CEST
DTSTART:20250330T010000
END:DAYLIGHT
BEGIN:STANDARD
TZOFFSETFROM:+0200
TZOFFSETTO:+0100
TZNAME:CET
DTSTART:20251026T010000
END:STANDARD
BEGIN:DAYLIGHT
TZOFFSETFROM:+0100
TZOFFSETTO:+0200
TZNAME:CEST
DTSTART:20260329T010000
END:DAYLIGHT
BEGIN:STANDARD
TZOFFSETFROM:+0200
TZOFFSETTO:+0100
TZNAME:CET
DTSTART:20261025T010000
END:STANDARD
END:VTIMEZONE
BEGIN:VEVENT
DTSTART;TZID=Europe/Berlin:20250304T143000
DTEND;TZID=Europe/Berlin:20250304T160000
DTSTAMP:20260422T125134
CREATED:20250221T120007Z
LAST-MODIFIED:20250221T120009Z
UID:4617-1741098600-1741104000@behindertenverband-leipzig.de
SUMMARY:Digitalsprechstunde
DESCRIPTION:Wir unterstützen Sie einmal im Monat dabei\, persönliche Anliegen passgenau im Internet zu recherchieren und im Umgang mit der digitalen Welt und ihren Geräten sicherer zu werden.Gerne das eigene Gerät mitbringen\, es steht aber auch ein Computer zur Verfügung\, an dem wir gemeinsam lernen und ausprobieren können.
URL:https://behindertenverband-leipzig.de/event/digitalsprechstunde/
LOCATION:Haus der Demokratie\, Raum 011\, Bernhard-Göring-Str. 152\, Leipzig\, 04277
END:VEVENT
BEGIN:VEVENT
DTSTART;TZID=Europe/Berlin:20250305T140000
DTEND;TZID=Europe/Berlin:20250305T160000
DTSTAMP:20260422T125134
CREATED:20250221T120126Z
LAST-MODIFIED:20250221T120128Z
UID:4619-1741183200-1741190400@behindertenverband-leipzig.de
SUMMARY:Café inklusiv(e) – Vortrag Kakao & Schokolade
DESCRIPTION:Mit dem Eine Welt e.V. Fast 10 kg Schokolade essen die Deutschen pro Kopf im Jahr. Der Anbau\, die Ernte und die Weiterverarbeitung von Kakao sind aufwendig und die Bedingungen für die Kakaobauern schwierig. Der faire Handel bietet ihnen ein zuverlässiges Einkommen. In einem praktischen Teil besteht die Möglichkeit\, selbst Schokolade herzustellen.
URL:https://behindertenverband-leipzig.de/event/cafe-inklusive-vortrag-kakao-schokolade/
LOCATION:Haus der Demokratie\, Café\, Bernhard-Göring-Str. 152\, Leipzig\, 04277\, Deutschland
END:VEVENT
BEGIN:VEVENT
DTSTART;TZID=Europe/Berlin:20250310T140000
DTEND;TZID=Europe/Berlin:20250310T160000
DTSTAMP:20260422T125134
CREATED:20250221T120252Z
LAST-MODIFIED:20250221T120257Z
UID:4621-1741615200-1741622400@behindertenverband-leipzig.de
SUMMARY:Kreatives Gestalten
DESCRIPTION:Diesen Monat wollen wir wieder mit Ton arbeiten.Fertig gebrannte Stücke der letzten Male werden mitgebracht und können glasiert werden. Es kann aber natürlich auch etwas Neues angefangen werden.
URL:https://behindertenverband-leipzig.de/event/kreatives-gestalten-38/
LOCATION:Haus der Demokratie\, Raum 011\, Bernhard-Göring-Str. 152\, Leipzig\, 04277
END:VEVENT
BEGIN:VEVENT
DTSTART;TZID=Europe/Berlin:20250312T140000
DTEND;TZID=Europe/Berlin:20250312T160000
DTSTAMP:20260422T125134
CREATED:20250221T120345Z
LAST-MODIFIED:20250303T071622Z
UID:4623-1741788000-1741795200@behindertenverband-leipzig.de
SUMMARY:Café inklusiv(e) – Lesecafé mit Frank Baacke
DESCRIPTION:Herr Baacke liest aus Hans Reimanns humoristischen alternativen Reiseführer im feuilletonistischen Stil „Was nicht im Baedeker steht“. Wir freuen uns auf Geschichten aus dem Leipzig vor hundert Jahren.
URL:https://behindertenverband-leipzig.de/event/cafe-inklusive-lesecafemit-frank-baacke/
LOCATION:Haus der Demokratie\, Café\, Bernhard-Göring-Str. 152\, Leipzig\, 04277\, Deutschland
END:VEVENT
BEGIN:VEVENT
DTSTART;TZID=Europe/Berlin:20250317T140000
DTEND;TZID=Europe/Berlin:20250317T160000
DTSTAMP:20260422T125134
CREATED:20250221T120438Z
LAST-MODIFIED:20250221T120440Z
UID:4625-1742220000-1742227200@behindertenverband-leipzig.de
SUMMARY:Spielenachmittag im BVL
DESCRIPTION:Einmal monatlich treffen wir uns zum gemeinsamen Spielen. Eine kleine Sammlung ist vorhanden\,Lieblingsspiele dürfen gerne mitgebracht werden.
URL:https://behindertenverband-leipzig.de/event/spielenachmittag-im-bvl-6/
LOCATION:Haus der Demokratie\, Raum 011\, Bernhard-Göring-Str. 152\, Leipzig\, 04277
END:VEVENT
BEGIN:VEVENT
DTSTART;TZID=Europe/Berlin:20250318T130000
DTEND;TZID=Europe/Berlin:20250318T163000
DTSTAMP:20260422T125134
CREATED:20250221T120727Z
LAST-MODIFIED:20250221T120730Z
UID:4627-1742302800-1742315400@behindertenverband-leipzig.de
SUMMARY:E-Rolli Wandergruppe
DESCRIPTION:Im März werden wir etwas ganz Besonderes erleben. Wir erhalten eine Führung durch die Aula und das Paulinum der Universität Leipzig. Wir treffen uns am Modell der Universitätskirche vor dem Paulinum am Augustusplatz. Sollte das Wetter schlecht sein\, können wir uns auch im Eingangsbereich im Neubau aufhalten.
URL:https://behindertenverband-leipzig.de/event/e-rolli-wandergruppe-34/
LOCATION:Universitätskirche\, Augustusplatz 10\, 04109 Leipzig
END:VEVENT
BEGIN:VEVENT
DTSTART;TZID=Europe/Berlin:20250319T140000
DTEND;TZID=Europe/Berlin:20250319T163000
DTSTAMP:20260422T125134
CREATED:20250221T120813Z
LAST-MODIFIED:20250317T100005Z
UID:4631-1742392800-1742401800@behindertenverband-leipzig.de
SUMMARY:Café inklusiv(e) – Kochnachmittag
DESCRIPTION:An diesem Nachmittag wollen wir in Anknüpfung an den inklusiven Kochkurs vom letzten Jahr unser neues Kochbuch nutzen und lecker in Gemeinschaft kochen. Wir zaubern einen herzhaften Gemüse-Linsen-Eintopf mit Petersilienpesto. Über eine Teilnahmegebühr von 5€ würden wir uns freuen.
URL:https://behindertenverband-leipzig.de/event/cafe-inklusive-kochnachmittag/
LOCATION:Haus der Demokratie\, Café\, Bernhard-Göring-Str. 152\, Leipzig\, 04277\, Deutschland
END:VEVENT
BEGIN:VEVENT
DTSTART;TZID=Europe/Berlin:20250326T140000
DTEND;TZID=Europe/Berlin:20250326T160000
DTSTAMP:20260422T125134
CREATED:20250221T121002Z
LAST-MODIFIED:20250319T104045Z
UID:4633-1742997600-1743004800@behindertenverband-leipzig.de
SUMMARY:Lesecafé Inklusiv
DESCRIPTION:Anlässlich der Leipziger Buchmesse wollen wir uns diese Woche die Gebärdensprache-Lernbüchern von Anja Kuhnert etwas näher ansehen. Frau Kuhnert ist staatlich anerkannt Dozentin für Deutsche Gebärdensprache und selbst gehörlos. Leider wird sie nicht selbst vor Ort sein\, allerdings ist ihre Kollegin und Gebärdendolmetscherin Heike Barth zu Gast.
URL:https://behindertenverband-leipzig.de/event/cafe-inklusiv-37/
LOCATION:Haus der Demokratie\, Café\, Bernhard-Göring-Str. 152\, Leipzig\, 04277\, Deutschland
END:VEVENT
BEGIN:VEVENT
DTSTART;TZID=Europe/Berlin:20250327T100000
DTEND;TZID=Europe/Berlin:20250330T180000
DTSTAMP:20260422T125134
CREATED:20250305T065331Z
LAST-MODIFIED:20250305T065333Z
UID:4639-1743069600-1743357600@behindertenverband-leipzig.de
SUMMARY:Buchmesse Leipzig
DESCRIPTION:Auch dieses Jahr betreuen wir wieder einen Stand auf der Buchmesse vom 27. – 30. März 2025. Neben unseren altbekannten Büchern\, Spielen und Hörspielen stellen wir dieses Jahr unser neues Memospiel „Inklusives Sachsen“ vor.Ihr findet uns in Halle 2\, Stand A402.Wir freuen uns auf regen Besuch. Falls Sie einen Fahrdienst benötigt\, bitte nicht vergessen\, diesen frühzeitig zu bestellen.
URL:https://behindertenverband-leipzig.de/event/buchmesse-leipzig/
LOCATION:Leipziger Messe\, Messe-Allee 1\, Leipzig\, 04356
END:VEVENT
END:VCALENDAR