BEGIN:VCALENDAR
VERSION:2.0
PRODID:-//Behindertenverband Leipzig e.V. - ECPv6.15.20//NONSGML v1.0//EN
CALSCALE:GREGORIAN
METHOD:PUBLISH
X-ORIGINAL-URL:https://behindertenverband-leipzig.de
X-WR-CALDESC:Veranstaltungen für Behindertenverband Leipzig e.V.
REFRESH-INTERVAL;VALUE=DURATION:PT1H
X-Robots-Tag:noindex
X-PUBLISHED-TTL:PT1H
BEGIN:VTIMEZONE
TZID:Europe/Berlin
BEGIN:DAYLIGHT
TZOFFSETFROM:+0100
TZOFFSETTO:+0200
TZNAME:CEST
DTSTART:20230326T010000
END:DAYLIGHT
BEGIN:STANDARD
TZOFFSETFROM:+0200
TZOFFSETTO:+0100
TZNAME:CET
DTSTART:20231029T010000
END:STANDARD
BEGIN:DAYLIGHT
TZOFFSETFROM:+0100
TZOFFSETTO:+0200
TZNAME:CEST
DTSTART:20240331T010000
END:DAYLIGHT
BEGIN:STANDARD
TZOFFSETFROM:+0200
TZOFFSETTO:+0100
TZNAME:CET
DTSTART:20241027T010000
END:STANDARD
BEGIN:DAYLIGHT
TZOFFSETFROM:+0100
TZOFFSETTO:+0200
TZNAME:CEST
DTSTART:20250330T010000
END:DAYLIGHT
BEGIN:STANDARD
TZOFFSETFROM:+0200
TZOFFSETTO:+0100
TZNAME:CET
DTSTART:20251026T010000
END:STANDARD
END:VTIMEZONE
BEGIN:VEVENT
DTSTART;TZID=Europe/Berlin:20241202T170000
DTEND;TZID=Europe/Berlin:20241202T190000
DTSTAMP:20260422T174224
CREATED:20241128T075101Z
LAST-MODIFIED:20241128T075227Z
UID:4466-1733158800-1733166000@behindertenverband-leipzig.de
SUMMARY:Friedensgebet
DESCRIPTION:Am Montag\, dem 02. 12. 2024\, um 17.00 Uhr gestaltenwir in bewährter Tradition gemeinsam mit dem NetzwerkWeiterbildung das Friedensgebet in der Nikolaikirche. \n\n\n\nAls Basis für unser Thema wählten wir das von uns aktuellentwickelte Memospiel „Inklusives Sachsen“. 36 verschiedeneEinrichtungen und Aktionen aus ganz Sachsen\, diebeispielgebend für die Schaffung von Barrierefreiheit undInklusion stehen\, wurden ausgewählt und von unseremMitarbeiter Tom Semmelroth grafisch äußerst ansprechendgestaltet. Barrierefreiheit beginnt im Kopf und deren Umsetzungermöglicht Teilhabe für alle\, wir müssen es nur wollen.Pfarrerin Angelika Rudnik aus Halle und Pfarrer AndreasFünfstück aus Arnsdorf begleiten uns wieder dabei und werdenpredigen. Frau Barth und der Gehörlosenpfarrer Konrathdolmetschen für unsere gehörlosen Besucher.Wie jedes Jahr wird uns Nikolaipfarrer Stief begrüßen undKantor Markus Kaufmann an der Orgel begleiten. Wir freuenuns auf Ihr Kommen.
URL:https://behindertenverband-leipzig.de/event/friedensgebet-5/
LOCATION:Nikolaikirche\, Nikolaikirchhof 3\, Leipzig\, 04109\, Germany
END:VEVENT
BEGIN:VEVENT
DTSTART;TZID=Europe/Berlin:20241203T143000
DTEND;TZID=Europe/Berlin:20241203T160000
DTSTAMP:20260422T174224
CREATED:20241128T074620Z
LAST-MODIFIED:20241128T074622Z
UID:4462-1733236200-1733241600@behindertenverband-leipzig.de
SUMMARY:Smartphone- & Laptopsprechstunde
DESCRIPTION:Alle brennenden Fragen und Probleme rund ums ThemaSmartphone\, Laptop\, Computer und Internet beantwortet Ihnendiese Woche eine Mitarbeiterin des BVL. Gerne das eigene Gerätmitbringen\, es steht aber auch ein Computer zur Verfügung\, andem wir gemeinsam lernen und ausprobieren können.
URL:https://behindertenverband-leipzig.de/event/smartphone-laptopsprechstunde-11/
LOCATION:Haus der Demokratie\, Raum 011\, Bernhard-Göring-Str. 152\, Leipzig\, 04277
END:VEVENT
BEGIN:VEVENT
DTSTART;TZID=Europe/Berlin:20241204T140000
DTEND;TZID=Europe/Berlin:20241204T163000
DTSTAMP:20260422T174224
CREATED:20241128T074140Z
LAST-MODIFIED:20241128T074144Z
UID:4456-1733320800-1733329800@behindertenverband-leipzig.de
SUMMARY:Cafe inklusiv(e) - Tanzgruppe Melitta
DESCRIPTION:Die Frauentanzgruppe „Melitta“ besteht seit 2006. Alle sindunterschiedlichen Alters und haben unterschiedliche Berufe. Wasdie Frauen verbindet ist die Liebe zur Folklore (Musik und Tanz).Uns erwartet ein buntes Programm unterschiedlicher Tänze: \n\n\n\n\nMix aus italienischer Musik und Tänze\n\n\n\nSauerkraut Polka\n\n\n\nSyrtaki Tanz\n\n\n\n… lassen Sie sich überraschen!
URL:https://behindertenverband-leipzig.de/event/cafe-inklusive-tanzgruppe-melitta-2/
LOCATION:Haus der Demokratie\, Café\, Bernhard-Göring-Str. 152\, Leipzig\, 04277\, Deutschland
END:VEVENT
BEGIN:VEVENT
DTSTART;TZID=Europe/Berlin:20241209T140000
DTEND;TZID=Europe/Berlin:20241209T160000
DTSTAMP:20260422T174224
CREATED:20241128T074729Z
LAST-MODIFIED:20241128T074730Z
UID:4464-1733752800-1733760000@behindertenverband-leipzig.de
SUMMARY:Kreatives Gestalten
DESCRIPTION:Wir werden gemeinsam Kerzen mit getrockneten Blumenverzieren\, um uns zu Hause ein paar sommerliche Gedankenanzünden zu können. Wenn Sie zu Hause noch eine einfarbigeKerze haben\, bringen Sie diese gerne mit!
URL:https://behindertenverband-leipzig.de/event/kreatives-gestalten-35/
LOCATION:Haus der Demokratie\, Raum 011\, Bernhard-Göring-Str. 152\, Leipzig\, 04277
END:VEVENT
BEGIN:VEVENT
DTSTART;TZID=Europe/Berlin:20241211T140000
DTEND;TZID=Europe/Berlin:20241211T163000
DTSTAMP:20260422T174224
CREATED:20241128T074313Z
LAST-MODIFIED:20241128T074315Z
UID:4458-1733925600-1733934600@behindertenverband-leipzig.de
SUMMARY:Café Inklusiv(e) - Papiersterne basteln mit der Stadtreinigung Leipzig
DESCRIPTION:Bei dieser Veranstaltung werden wir uns die Frage stellen:Wo kommt unser Papier her? Wie können wir mit unseremPapierverbrauch die Umwelt schonen?Wir werden aus einem Buch mit ca. 300 Seiten eine Laternefalten. Jede teilnehmende Person sollte hierzu bitte ein Buch\, einGarnknäuel oder eine dicke Kordel mitbringen.
URL:https://behindertenverband-leipzig.de/event/cafe-inklusive-papiersterne-basteln-mit-der-stadtreinigung-leipzig/
LOCATION:Haus der Demokratie\, Café\, Bernhard-Göring-Str. 152\, Leipzig\, 04277\, Deutschland
END:VEVENT
BEGIN:VEVENT
DTSTART;TZID=Europe/Berlin:20241214T150000
DTEND;TZID=Europe/Berlin:20241214T190000
DTSTAMP:20260422T174224
CREATED:20241030T130044Z
LAST-MODIFIED:20241030T130045Z
UID:4424-1734188400-1734202800@behindertenverband-leipzig.de
SUMMARY:Weihnachtsfeier
DESCRIPTION:Wir laden Sie herzlich zu unserer diesjährigen Weihnachtsfeier in der Pauluskirche in Grünau ein.Für die musikalische Begleitung sorgt dieses Jahr wieder der Grünauer Chor e.V.\, der auch das eine oder andere Liedchen zum Mitsingen im Gepäck hat.Außerdem dürfen Sie sich dieses Mal auf den „Kennenlerntopf“ freuen. Jeder Tisch bekommt einen solchen Topf\, aus dem Sie spannende Fragen ziehen können\, um so Ihr Gegenüber noch ein bisschen besser\, anders oder überhaupt erst einmal kennenzulernen.An alle\, die in der Zeit zwischen Stolle\, Glühwein und Abendbrot ein paar Nüsse knacken möchten\, die Bitte\, einen eigenen Nussknacker mitzubringen.Ab 15.00 Uhr heißen wir Sie herzlich willkommen\, bis 19.00 Uhr feiern wir gemeinsam.Anmeldeschluss ist der 10.12.2024\, Tel.: 0341 3065 120
URL:https://behindertenverband-leipzig.de/event/weihnachtsfeier-3/
LOCATION:Ev.-Luth. Pauluskirchgemeinde Leipzig-Grünau\, Alte Salzstraße 185\, Leipzig\, Deutschland
END:VEVENT
BEGIN:VEVENT
DTSTART;TZID=Europe/Berlin:20241216T140000
DTEND;TZID=Europe/Berlin:20241216T160000
DTSTAMP:20260422T174224
CREATED:20241128T075754Z
LAST-MODIFIED:20241128T075800Z
UID:4477-1734357600-1734364800@behindertenverband-leipzig.de
SUMMARY:Spielenachmittag im BVL
DESCRIPTION:Wir spielen wie gewohnt im Raum 11.
URL:https://behindertenverband-leipzig.de/event/spielenachmittag-im-bvl-5/
LOCATION:Haus der Demokratie\, Raum 011\, Bernhard-Göring-Str. 152\, Leipzig\, 04277
END:VEVENT
BEGIN:VEVENT
DTSTART;TZID=Europe/Berlin:20241218T140000
DTEND;TZID=Europe/Berlin:20241218T163000
DTSTAMP:20260422T174224
CREATED:20241128T074504Z
LAST-MODIFIED:20241128T074506Z
UID:4460-1734530400-1734539400@behindertenverband-leipzig.de
SUMMARY:Café Inklusiv(e) - Singen in Gemeinschaft
DESCRIPTION:Singen ist gesund\, macht glücklich und hält jung\, so sagt man.Diesen Nachmittag gibt es leicht zu singende bunte Lieder auchohne Notenkenntnisse in netter Gemeinschaft\, begleitet vonFrau Aurich am Piano. Liedtexte\, Kaffee\, Tee und Kuchen wartenschon.
URL:https://behindertenverband-leipzig.de/event/cafe-inklusive-singen-in-gemeinschaft/
LOCATION:Haus der Demokratie\, Café\, Bernhard-Göring-Str. 152\, Leipzig\, 04277\, Deutschland
END:VEVENT
BEGIN:VEVENT
DTSTART;TZID=Europe/Berlin:20241219T120000
DTEND;TZID=Europe/Berlin:20241219T153000
DTSTAMP:20260422T174224
CREATED:20241128T075529Z
LAST-MODIFIED:20241128T075551Z
UID:4473-1734609600-1734622200@behindertenverband-leipzig.de
SUMMARY:E-Rolli Wandergruppe & Kaffeeklatsch
DESCRIPTION:Liebe Wanderfreunde und liebe Teilnehmer am Kaffeeklatsch\,auch in diesem Jahr wollen wir uns zu unserem gemeinsamenWeihnachtsessen im Restaurant „Alt-Engelsdorf“ einfinden.Wir konnten am Donnerstag\, dem 19. Dezember ab 12.00Uhr einen Raum für uns reservieren. Wir freuen uns aufeuer Kommen. Gegen 15.30 Uhr werden wir unsere kleineZusammenkunft beenden.Denkt bitte daran\, den Fahrdienst zu bestellen und bleibt gesund.Eure Hannelore und eure Gaby
URL:https://behindertenverband-leipzig.de/event/e-rolli-wandergruppe-kaffeeklatsch-2/
LOCATION:Hotel Gasthof Alt Engelsdorf\, Engelsdorfer Str. 290\, Leipzig\, 04319\, Germany
END:VEVENT
END:VCALENDAR