BEGIN:VCALENDAR
VERSION:2.0
PRODID:-//Behindertenverband Leipzig e.V. - ECPv6.15.20//NONSGML v1.0//EN
CALSCALE:GREGORIAN
METHOD:PUBLISH
X-WR-CALNAME:Behindertenverband Leipzig e.V.
X-ORIGINAL-URL:https://behindertenverband-leipzig.de
X-WR-CALDESC:Veranstaltungen für Behindertenverband Leipzig e.V.
REFRESH-INTERVAL;VALUE=DURATION:PT1H
X-Robots-Tag:noindex
X-PUBLISHED-TTL:PT1H
BEGIN:VTIMEZONE
TZID:Europe/Berlin
BEGIN:DAYLIGHT
TZOFFSETFROM:+0100
TZOFFSETTO:+0200
TZNAME:CEST
DTSTART:20230326T010000
END:DAYLIGHT
BEGIN:STANDARD
TZOFFSETFROM:+0200
TZOFFSETTO:+0100
TZNAME:CET
DTSTART:20231029T010000
END:STANDARD
BEGIN:DAYLIGHT
TZOFFSETFROM:+0100
TZOFFSETTO:+0200
TZNAME:CEST
DTSTART:20240331T010000
END:DAYLIGHT
BEGIN:STANDARD
TZOFFSETFROM:+0200
TZOFFSETTO:+0100
TZNAME:CET
DTSTART:20241027T010000
END:STANDARD
BEGIN:DAYLIGHT
TZOFFSETFROM:+0100
TZOFFSETTO:+0200
TZNAME:CEST
DTSTART:20250330T010000
END:DAYLIGHT
BEGIN:STANDARD
TZOFFSETFROM:+0200
TZOFFSETTO:+0100
TZNAME:CET
DTSTART:20251026T010000
END:STANDARD
END:VTIMEZONE
BEGIN:VEVENT
DTSTART;TZID=Europe/Berlin:20241105T143000
DTEND;TZID=Europe/Berlin:20241105T160000
DTSTAMP:20260422T191213
CREATED:20241030T124238Z
LAST-MODIFIED:20241030T130146Z
UID:4403-1730817000-1730822400@behindertenverband-leipzig.de
SUMMARY:Smartphone- & Laptopsprechstunde
DESCRIPTION:Alle brennenden Fragen und Probleme rund ums Thema Smartphone\, Laptop\, Computer und Internet beantwortet Ihnen diese Woche eine Mitarbeiterin des BVL. Gerne das eigene Gerät mitbringen\, es steht aber auch ein Computer zur Verfügung\, an dem wir gemeinsam lernen und ausprobieren können.
URL:https://behindertenverband-leipzig.de/event/smartphone-laptopsprechstunde-10/
LOCATION:Haus der Demokratie\, Raum 011\, Bernhard-Göring-Str. 152\, Leipzig\, 04277
END:VEVENT
BEGIN:VEVENT
DTSTART;TZID=Europe/Berlin:20241106T133000
DTEND;TZID=Europe/Berlin:20241106T163000
DTSTAMP:20260422T191213
CREATED:20241030T123730Z
LAST-MODIFIED:20241030T123802Z
UID:4396-1730899800-1730910600@behindertenverband-leipzig.de
SUMMARY:Café Inklusiv(e) - Kochen in Gemeinschaft\, gesund und nachhaltig
DESCRIPTION:An drei Terminen (06.11.\, 13.11. & 27.11.2024) werden wir zusammen mit Isabel und Baris von Olera auf verschiedene ernährungswissenschaftliche Thematiken eingehen und anschließend in der Küche gemeinsam kochen\, um das Gelernte gleich praktisch zu festigen. Natürlich werden wir das Gekochte dann auch in gemütlicher Runde verzehren!Kochen können nur ca. 6 Personen\, es dürfen aber trotzdem alle kommen\, zuschauen\, mitessen.Bitte beachten: Wir fangen bei den drei Terminen bereits um 13:30 Uhr an.
URL:https://behindertenverband-leipzig.de/event/cafe-inklusive-kochen-in-gemeinschaft-gesund-und-nachhaltig/
LOCATION:Haus der Demokratie\, Café\, Bernhard-Göring-Str. 152\, Leipzig\, 04277\, Deutschland
END:VEVENT
BEGIN:VEVENT
DTSTART;TZID=Europe/Berlin:20241107T093000
DTEND;TZID=Europe/Berlin:20241109T180000
DTSTAMP:20260422T191213
CREATED:20241030T125041Z
LAST-MODIFIED:20241030T125119Z
UID:4405-1730971800-1731175200@behindertenverband-leipzig.de
SUMMARY:Denkmalmesse
DESCRIPTION:Auch dieses Mal betreuen wir wieder einen Stand auf der alle zwei Jahre stattfindenden Denkmalmesse. Wir freuen uns über regen Besuch. \n\n\n\nMesse Leipzig\, Halle 2\, Stand M13Donnerstag\, 07. 11. 2024\, 09.30 – 18.00 UhrFreitag\, 08. 11. 2024\, 09.30 – 18.00 UhrSamstag\, 09. 11. 2024\, 09.30 – 16.00 Uhr
URL:https://behindertenverband-leipzig.de/event/denkmalmesse/
LOCATION:Leipziger Messe\, Messe-Allee 1\, Leipzig\, 04356
END:VEVENT
BEGIN:VEVENT
DTSTART;TZID=Europe/Berlin:20241109T150000
DTEND;TZID=Europe/Berlin:20241109T190000
DTSTAMP:20260422T191213
CREATED:20241030T125225Z
LAST-MODIFIED:20241030T125227Z
UID:4410-1731164400-1731178800@behindertenverband-leipzig.de
SUMMARY:Mitgliederversammlung
DESCRIPTION:Liebe Mitglieder\,wir freuen uns\, Sie und Euch am zweiten Novemberwochenende auf der Mitgliederversammlung anzutreffen.Bis dahin alles Gute!
URL:https://behindertenverband-leipzig.de/event/mitgliederversammlung-4/
LOCATION:Ev.-Luth. Pauluskirchgemeinde Leipzig-Grünau\, Alte Salzstraße 185\, Leipzig\, Deutschland
END:VEVENT
BEGIN:VEVENT
DTSTART;TZID=Europe/Berlin:20241111T140000
DTEND;TZID=Europe/Berlin:20241111T163000
DTSTAMP:20260422T191213
CREATED:20241030T125330Z
LAST-MODIFIED:20241030T125331Z
UID:4412-1731333600-1731342600@behindertenverband-leipzig.de
SUMMARY:Kreatives Gestalten
DESCRIPTION:Liebe Bastelfreundinnen und -freundeWir holen das Töpfern nach\, welches letzten Monat verschoben werden musste. Ton\, Glasuren und Werkzeug stehen bereit.Wir freuen uns\,Martina\, Johanna & Tom
URL:https://behindertenverband-leipzig.de/event/kreatives-gestalten-34/
LOCATION:Haus der Demokratie\, Raum 011\, Bernhard-Göring-Str. 152\, Leipzig\, 04277
END:VEVENT
BEGIN:VEVENT
DTSTART;TZID=Europe/Berlin:20241113T133000
DTEND;TZID=Europe/Berlin:20241113T163000
DTSTAMP:20260422T191213
CREATED:20241030T124009Z
LAST-MODIFIED:20241030T124011Z
UID:4399-1731504600-1731515400@behindertenverband-leipzig.de
SUMMARY:Café Inklusiv(e) - Kochen in Gemeinschaft\, gesund und nachhaltig
DESCRIPTION:An drei Terminen (06.11.\, 13.11. & 27.11.2024) werden wir zusammen mit Isabel und Baris von Olera auf verschiedene ernährungswissenschaftliche Thematiken eingehen und anschließend in der Küche gemeinsam kochen\, um das Gelernte gleich praktisch zu festigen. Natürlich werden wir das Gekochte dann auch in gemütlicher Runde verzehren!Kochen können nur ca. 6 Personen\, es dürfen aber trotzdem alle kommen\, zuschauen\, mitessen.Bitte beachten: Wir fangen bei den drei Terminen bereits um 13:30 Uhr an.
URL:https://behindertenverband-leipzig.de/event/cafe-inklusive-kochen-in-gemeinschaft-gesund-und-nachhaltig-2/
LOCATION:Haus der Demokratie\, Café\, Bernhard-Göring-Str. 152\, Leipzig\, 04277\, Deutschland
END:VEVENT
BEGIN:VEVENT
DTSTART;TZID=Europe/Berlin:20241113T180000
DTEND;TZID=Europe/Berlin:20241113T200000
DTSTAMP:20260422T191213
CREATED:20241030T125539Z
LAST-MODIFIED:20241030T125540Z
UID:4414-1731520800-1731528000@behindertenverband-leipzig.de
SUMMARY:Filmvorführung - A Human Ride
DESCRIPTION:Die Verkehrswende ist in aller Munde\, und die Mobilität der Zukunft hat sich zu einem der großen Trendthemen entwickelt. Doch warum ist das überhaupt wichtig? Mit Kamera und Mikrofon im Gepäck begibt sich Regisseur Kristian Gründling auf eine einzigartige Reise quer durch Städte und Dörfer\, Bahnhöfe und Parks\, Tankstellen und Garagen. Er trifft Taxifahrer\, Wissenschaftler und ganz normale Menschen und sammelt ihre ganz persönlichen Perspektiven auf die Alltagsmobilität. Dabei stößt er auf überraschend emotionale Geschichten\, die berühren\, zum Lachen bringen und zum Nachdenken anregen.Nach der etwa einstündigen Filmaufführung laden wir herzlich zu einer etwa 30- bis 40-minütigen Podiumsdiskussion zum Thema Mobilität ein.Der Eintritt ist kostenlos.Haus der Demokratie\, Kinobar Prager Frühling
URL:https://behindertenverband-leipzig.de/event/filmvorfuehrung-a-human-ride/
LOCATION:Kinobar Prager Frühling\, Bernhard-Göring-Straße 152\, Leipzig\, 04277
END:VEVENT
BEGIN:VEVENT
DTSTART;TZID=Europe/Berlin:20241119T130000
DTEND;TZID=Europe/Berlin:20241119T170000
DTSTAMP:20260422T191213
CREATED:20241030T125755Z
LAST-MODIFIED:20241030T125759Z
UID:4418-1732021200-1732035600@behindertenverband-leipzig.de
SUMMARY:E-Rolli Wandergruppe
DESCRIPTION:Liebe Wanderfreunde\,langsam wird es nun doch etwas kühler und so beginnen wir unsere „Winterwanderungen“ durch die Leipziger Museen mit einem Abstecher ins Museum der bildenden Künste Leipzig (MdbK) in der Katharinenstraße 10.Wir besuchen die einzigartige Ausstellung „Impuls Rembrandt. Lehrer\, Stratege\, Bestseller“ und können 142 Gemälde\, Zeichnungen und Radierungen aus großen deutschen Sammlungen\, aber auch aus Museen in Amsterdam und Den Haag\, Paris\, London oder New York bestaunen.Für diese Präsentation müssen wir allerdings den ermäßigten Eintritt bezahlen.Wir treffen uns also am Dienstag\, dem 19. November 2024 um 13.00 Uhr am MdbK.Bleibt gesund\, ich freue mich auf unser Wiedersehen.Eure Gaby
URL:https://behindertenverband-leipzig.de/event/e-rolli-wandergruppe-32/
LOCATION:Museum der bildenden Künste\, Katharinenstraße 10\, Leipzig\, 04109
END:VEVENT
BEGIN:VEVENT
DTSTART;TZID=Europe/Berlin:20241121T190000
DTEND;TZID=Europe/Berlin:20241121T210000
DTSTAMP:20260422T191213
CREATED:20241030T125906Z
LAST-MODIFIED:20241030T125909Z
UID:4422-1732215600-1732222800@behindertenverband-leipzig.de
SUMMARY:Lesung - Mach\, was Dich erfüllt
DESCRIPTION:Lesung aus dem Buch „Mach\, was Dich erfüllt und bewegt“ mit der Autorin Claudia Haas-Steigerwald\, als Gast Frau Prof. Dr. Heilmann. Moderiert durch das Haus der Demokratie.
URL:https://behindertenverband-leipzig.de/event/lesung-mach-was-dich-erfuellt/
LOCATION:Haus der Demokratie\, Café\, Bernhard-Göring-Str. 152\, Leipzig\, 04277\, Deutschland
END:VEVENT
BEGIN:VEVENT
DTSTART;TZID=Europe/Berlin:20241125T140000
DTEND;TZID=Europe/Berlin:20241125T163000
DTSTAMP:20260422T191213
CREATED:20241030T130415Z
LAST-MODIFIED:20241030T130417Z
UID:4426-1732543200-1732552200@behindertenverband-leipzig.de
SUMMARY:Spielenachmittag beim BVL
DESCRIPTION:Wir spielen wieder wie gewohnt im Raum 11.
URL:https://behindertenverband-leipzig.de/event/spielenachmittag-beim-bvl-4/
LOCATION:Haus der Demokratie\, Raum 011\, Bernhard-Göring-Str. 152\, Leipzig\, 04277
END:VEVENT
BEGIN:VEVENT
DTSTART;TZID=Europe/Berlin:20241127T133000
DTEND;TZID=Europe/Berlin:20241127T163000
DTSTAMP:20260422T191213
CREATED:20241030T124119Z
LAST-MODIFIED:20241030T124121Z
UID:4401-1732714200-1732725000@behindertenverband-leipzig.de
SUMMARY:Café Inklusiv(e) – Kochen in Gemeinschaft\, gesund und nachhaltig
DESCRIPTION:An drei Terminen (06.11.\, 13.11. & 27.11.2024) werden wir zusammen mit Isabel und Baris von Olera auf verschiedene ernährungswissenschaftliche Thematiken eingehen und anschließend in der Küche gemeinsam kochen\, um das Gelernte gleich praktisch zu festigen. Natürlich werden wir das Gekochte dann auch in gemütlicher Runde verzehren!Kochen können nur ca. 6 Personen\, es dürfen aber trotzdem alle kommen\, zuschauen\, mitessen.Bitte beachten: Wir fangen bei den drei Terminen bereits um 13:30 Uhr an.
URL:https://behindertenverband-leipzig.de/event/cafe-inklusive-kochen-in-gemeinschaft-gesund-und-nachhaltig-3/
LOCATION:Haus der Demokratie\, Café\, Bernhard-Göring-Str. 152\, Leipzig\, 04277\, Deutschland
END:VEVENT
END:VCALENDAR