BEGIN:VCALENDAR
VERSION:2.0
PRODID:-//Behindertenverband Leipzig e.V. - ECPv6.15.20//NONSGML v1.0//EN
CALSCALE:GREGORIAN
METHOD:PUBLISH
X-WR-CALNAME:Behindertenverband Leipzig e.V.
X-ORIGINAL-URL:https://behindertenverband-leipzig.de
X-WR-CALDESC:Veranstaltungen für Behindertenverband Leipzig e.V.
REFRESH-INTERVAL;VALUE=DURATION:PT1H
X-Robots-Tag:noindex
X-PUBLISHED-TTL:PT1H
BEGIN:VTIMEZONE
TZID:Europe/Berlin
BEGIN:DAYLIGHT
TZOFFSETFROM:+0100
TZOFFSETTO:+0200
TZNAME:CEST
DTSTART:20230326T010000
END:DAYLIGHT
BEGIN:STANDARD
TZOFFSETFROM:+0200
TZOFFSETTO:+0100
TZNAME:CET
DTSTART:20231029T010000
END:STANDARD
BEGIN:DAYLIGHT
TZOFFSETFROM:+0100
TZOFFSETTO:+0200
TZNAME:CEST
DTSTART:20240331T010000
END:DAYLIGHT
BEGIN:STANDARD
TZOFFSETFROM:+0200
TZOFFSETTO:+0100
TZNAME:CET
DTSTART:20241027T010000
END:STANDARD
BEGIN:DAYLIGHT
TZOFFSETFROM:+0100
TZOFFSETTO:+0200
TZNAME:CEST
DTSTART:20250330T010000
END:DAYLIGHT
BEGIN:STANDARD
TZOFFSETFROM:+0200
TZOFFSETTO:+0100
TZNAME:CET
DTSTART:20251026T010000
END:STANDARD
END:VTIMEZONE
BEGIN:VEVENT
DTSTART;TZID=Europe/Berlin:20241001T140000
DTEND;TZID=Europe/Berlin:20241001T163000
DTSTAMP:20260422T203016
CREATED:20241002T084258Z
LAST-MODIFIED:20241002T084300Z
UID:4316-1727791200-1727800200@behindertenverband-leipzig.de
SUMMARY:Smartphone- & Laptopsprechstunde
DESCRIPTION:Alle brennenden Fragen und Probleme rund ums Thema Smartphone\, Laptop\, Computer und Internet beantwortet Ihnen diese Woche eine Mitarbeiterin des BVL. Gerne das eigene Gerät mitbringen\, es steht aber auch ein Computer zur Verfügung\, an dem wir gemeinsam lernen und ausprobieren können.
URL:https://behindertenverband-leipzig.de/event/smartphone-laptopsprechstunde-9/
LOCATION:Haus der Demokratie\, Café\, Bernhard-Göring-Str. 152\, Leipzig\, 04277\, Deutschland
END:VEVENT
BEGIN:VEVENT
DTSTART;TZID=Europe/Berlin:20241002T140000
DTEND;TZID=Europe/Berlin:20241002T163000
DTSTAMP:20260422T203016
CREATED:20241002T074723Z
LAST-MODIFIED:20241002T074725Z
UID:4308-1727877600-1727886600@behindertenverband-leipzig.de
SUMMARY:Café Inklusiv(e) - Interkulturelle Herausforderungen Eine Welt e.V.
DESCRIPTION:Die Begegnung mit Menschen verschiedener Kulturen kann für beide Seiten bereichernd und gleichzeitig herausfordernd sein. Dabei haben wir es oft mit unterschiedlichen Wertvorstellungen zu tun. Es gibt Unterschiede\, aber auch viele Gemeinsamkeiten.Wie können wir respektvoll miteinander umgehen?
URL:https://behindertenverband-leipzig.de/event/cafe-inklusive-interkulturelle-herausforderungen-eine-welt-e-v/
LOCATION:Haus der Demokratie\, Café\, Bernhard-Göring-Str. 152\, Leipzig\, 04277\, Deutschland
END:VEVENT
BEGIN:VEVENT
DTSTART;TZID=Europe/Berlin:20241009T140000
DTEND;TZID=Europe/Berlin:20241009T163000
DTSTAMP:20260422T203016
CREATED:20241002T074915Z
LAST-MODIFIED:20241002T074917Z
UID:4310-1728482400-1728491400@behindertenverband-leipzig.de
SUMMARY:Café Inklusiv(e) - Seifenblasen
DESCRIPTION:Da es am Sommerfest spontan leider nicht umsetzbar war und einige von Ihnen (verständlicherweise) etwas enttäuscht waren\, haben wir den Ziegenmann auf Stelzen noch mal eingeladen. Diesmal zwar ohne Stelzen\, dafür aber mit Seifenblasen! Nach Kaffee und Kuchen dürfen wir uns ab 15.30 Uhr im Hinterhof auf Riesenseifenblasen freuen.
URL:https://behindertenverband-leipzig.de/event/cafe-inklusive-seifenblasen/
LOCATION:Haus der Demokratie\, Café\, Bernhard-Göring-Str. 152\, Leipzig\, 04277\, Deutschland
END:VEVENT
BEGIN:VEVENT
DTSTART;TZID=Europe/Berlin:20241012T150000
DTEND;TZID=Europe/Berlin:20241012T190000
DTSTAMP:20260422T203016
CREATED:20241002T090031Z
LAST-MODIFIED:20241002T090132Z
UID:4326-1728745200-1728759600@behindertenverband-leipzig.de
SUMMARY:Herbstfest
DESCRIPTION:Wir laden Sie herzlich zu unserem Herbstfest in der Pauluskirche in Grünau ein und freuen uns\, den Sommer gemeinsam mit Ihnen bei Speis und Trank ausklingen zu lassen.Dieses Jahr dürfen wir uns auf den Unterhalter Klaus Petermann mit seinem Bühnenprogramm „Wenn de Bläddr borzln – Nu isses alles mit dr Wärme\, dr Härbst hat jetzt de Direggzion“ freuen: Ein sächsischer Herbstspaziergang der besonderen Art mit dem Blick „off säggs’sche Gemiet“ und mit wunderbar sächsischem Humor. Mit Texten von Lene Voigt und anderen sächsischen Dichtern\, kleinen Anekdoten aus dem sächsischen Alltag\, Wortspielereien und so manchem Witz über uns Sachsen (naja die Andern sin vleima ooch so!).Für die musikalische Begleitung sorgt wieder unser DJ Sondershaus.Ab 15.00 Uhr heißen wir alle herzlich willkommen\, bis 19.00 Uhr feiern wir gemeinsam.Anmeldeschluss ist der 03.10.23\, Tel.: 0341 3065 120Wenn es für Sie gerade nicht möglich ist die Verpflegungsgebühr zu entrichten\, dann melden Sie sich bitte und wir finden gemeinsam eine Lösung! Wir möchten allen eine Teilnahme ermöglichen.
URL:https://behindertenverband-leipzig.de/event/herbstfest/
LOCATION:Ev.-Luth. Pauluskirchgemeinde Leipzig-Grünau\, Alte Salzstraße 185\, Leipzig\, Deutschland
END:VEVENT
BEGIN:VEVENT
DTSTART;TZID=Europe/Berlin:20241014T143000
DTEND;TZID=Europe/Berlin:20241014T160000
DTSTAMP:20260422T203016
CREATED:20241002T084418Z
LAST-MODIFIED:20241002T084420Z
UID:4318-1728916200-1728921600@behindertenverband-leipzig.de
SUMMARY:Kreatives Gestalten
DESCRIPTION:Liebe Bastelfreundinnen und -freunde\,Wir wollen uns wieder gemeinsam die Hände schmutzig machen und mit Ton arbeiten. Mal sehen was für keramische Kunstwerke diesmal entstehen.
URL:https://behindertenverband-leipzig.de/event/kreatives-gestalten-33/
LOCATION:Haus der Demokratie\, Raum 011\, Bernhard-Göring-Str. 152\, Leipzig\, 04277
END:VEVENT
BEGIN:VEVENT
DTSTART;TZID=Europe/Berlin:20241015T130000
DTEND;TZID=Europe/Berlin:20241015T160000
DTSTAMP:20260422T203016
CREATED:20241002T084546Z
LAST-MODIFIED:20241002T084549Z
UID:4320-1728997200-1729008000@behindertenverband-leipzig.de
SUMMARY:E-Rolli Wandergruppe
DESCRIPTION:Liebe Wanderfreunde\,wir wollen im Oktober den bunten Herbst begrüßen. Deshalb treffen wir uns am Dienstag\, dem 15. Oktober 2024 um 13 Uhr am Stannebeinplatz / Ecke Rohrteichstraße. Von hier werden wir den Mariannenpark erkunden und uns gegen 16 Uhr wieder verabschieden. Solltet ihr einen Fahrdienst benötigen\, bitte rechtzeitig anmelden.Bis dahin eine schöne Zeit und bleibt gesund!Eure Gaby
URL:https://behindertenverband-leipzig.de/event/e-rolli-wandergruppe-31/
END:VEVENT
BEGIN:VEVENT
DTSTART;TZID=Europe/Berlin:20241016T140000
DTEND;TZID=Europe/Berlin:20241016T163000
DTSTAMP:20260422T203016
CREATED:20241002T075356Z
LAST-MODIFIED:20241002T075358Z
UID:4312-1729087200-1729096200@behindertenverband-leipzig.de
SUMMARY:Café Inklusiv(e) - Nachhaltig Essen mit kleinem Budget
DESCRIPTION:Mit der Verbraucherzentrale Sachsen geht es auf Entdeckungstour: Denn was Lebensmittel und Ernährung betrifft\, gibt es viel zu besprechen.Wie kann eine nachhaltige und preiswerte Ernährung gelingen? Welche Bedarfe hat der Körper und mit welchen Lebensmitteln können sie gedeckt werden? Trotz steigender Lebensmittelpreise kann mit guter Einkaufsplanung\, Kenntnissen zur Lagerung und den Umgang mit Lebensmitteln\, kreativer Resteverwertung\, dem Wissen zu regionalen & saisonalen Obst & Gemüse sowie Lust am Ausprobieren das Portemonnaie geschont werden. Wir geben Tipps und Ideen für schmackhafte Aufstriche rund um das Jahr.
URL:https://behindertenverband-leipzig.de/event/cafe-inklusive-nachhaltig-essen-mit-kleinem-budget/
LOCATION:Haus der Demokratie\, Café\, Bernhard-Göring-Str. 152\, Leipzig\, 04277\, Deutschland
END:VEVENT
BEGIN:VEVENT
DTSTART;TZID=Europe/Berlin:20241021T140000
DTEND;TZID=Europe/Berlin:20241021T160000
DTSTAMP:20260422T203016
CREATED:20241015T120247Z
LAST-MODIFIED:20241015T120256Z
UID:4352-1729519200-1729526400@behindertenverband-leipzig.de
SUMMARY:Spielenachmittag beim BVL
DESCRIPTION:Wir spielen wie gewohnt im Raum 11.
URL:https://behindertenverband-leipzig.de/event/spielenachmittag-beim-bvl-3/
LOCATION:Haus der Demokratie\, Raum 011\, Bernhard-Göring-Str. 152\, Leipzig\, 04277
END:VEVENT
BEGIN:VEVENT
DTSTART;TZID=Europe/Berlin:20241023T140000
DTEND;TZID=Europe/Berlin:20241023T160000
DTSTAMP:20260422T203016
CREATED:20241002T084939Z
LAST-MODIFIED:20241002T084941Z
UID:4324-1729692000-1729699200@behindertenverband-leipzig.de
SUMMARY:Café Inklusiv
DESCRIPTION:Wir plaudern in gemütlicher Atmosphäre mit Kaffee und Kuchen. Alle sind herzlich willkommen!
URL:https://behindertenverband-leipzig.de/event/cafe-inklusiv-34/
LOCATION:Haus der Demokratie\, Café\, Bernhard-Göring-Str. 152\, Leipzig\, 04277\, Deutschland
END:VEVENT
BEGIN:VEVENT
DTSTART;TZID=Europe/Berlin:20241030T140000
DTEND;TZID=Europe/Berlin:20241030T163000
DTSTAMP:20260422T203016
CREATED:20241002T084157Z
LAST-MODIFIED:20241002T084159Z
UID:4314-1730296800-1730305800@behindertenverband-leipzig.de
SUMMARY:Café Inklusiv(e) - Diavortrag Herr Eck
DESCRIPTION:Wir laden ein zu einer Bilderreise über 44 000 Flugkilometer an das südliche Ende unserer Welt. Besuchen wir gemeinsam den Inselstaat Singapur\, Neuseeland und den 5. Kontinent Australien.Der Diavortrag wird voraussichtlich bis 16:30 Uhr gehen. Dazwischen gibt es eine kleine Pause.
URL:https://behindertenverband-leipzig.de/event/cafe-inklusive-diavortrag-herr-eck/
LOCATION:Haus der Demokratie\, Café\, Bernhard-Göring-Str. 152\, Leipzig\, 04277\, Deutschland
END:VEVENT
BEGIN:VEVENT
DTSTART;TZID=Europe/Berlin:20241031T140000
DTEND;TZID=Europe/Berlin:20241031T160000
DTSTAMP:20260422T203016
CREATED:20241002T084657Z
LAST-MODIFIED:20241002T084658Z
UID:4322-1730383200-1730390400@behindertenverband-leipzig.de
SUMMARY:Spielenachmittag im Grassi
DESCRIPTION:Jeden geraden Monat findet zusätzlich zum regulären auch ein Spielenachmittag im Bonvenon Raum des GRASSI Museums statt. Dieser ist barrierefrei zugänglich.
URL:https://behindertenverband-leipzig.de/event/spielenachmittag-im-grassi-5/
LOCATION:GRASSI Museum für Völkerkunde\, Johannisplatz 5-11\, Leipzig\, 04103
END:VEVENT
END:VCALENDAR