BEGIN:VCALENDAR
VERSION:2.0
PRODID:-//Behindertenverband Leipzig e.V. - ECPv6.15.20//NONSGML v1.0//EN
CALSCALE:GREGORIAN
METHOD:PUBLISH
X-WR-CALNAME:Behindertenverband Leipzig e.V.
X-ORIGINAL-URL:https://behindertenverband-leipzig.de
X-WR-CALDESC:Veranstaltungen für Behindertenverband Leipzig e.V.
REFRESH-INTERVAL;VALUE=DURATION:PT1H
X-Robots-Tag:noindex
X-PUBLISHED-TTL:PT1H
BEGIN:VTIMEZONE
TZID:Europe/Berlin
BEGIN:DAYLIGHT
TZOFFSETFROM:+0100
TZOFFSETTO:+0200
TZNAME:CEST
DTSTART:20230326T010000
END:DAYLIGHT
BEGIN:STANDARD
TZOFFSETFROM:+0200
TZOFFSETTO:+0100
TZNAME:CET
DTSTART:20231029T010000
END:STANDARD
BEGIN:DAYLIGHT
TZOFFSETFROM:+0100
TZOFFSETTO:+0200
TZNAME:CEST
DTSTART:20240331T010000
END:DAYLIGHT
BEGIN:STANDARD
TZOFFSETFROM:+0200
TZOFFSETTO:+0100
TZNAME:CET
DTSTART:20241027T010000
END:STANDARD
BEGIN:DAYLIGHT
TZOFFSETFROM:+0100
TZOFFSETTO:+0200
TZNAME:CEST
DTSTART:20250330T010000
END:DAYLIGHT
BEGIN:STANDARD
TZOFFSETFROM:+0200
TZOFFSETTO:+0100
TZNAME:CET
DTSTART:20251026T010000
END:STANDARD
END:VTIMEZONE
BEGIN:VEVENT
DTSTART;TZID=Europe/Berlin:20240604T143000
DTEND;TZID=Europe/Berlin:20240604T160000
DTSTAMP:20260423T014455
CREATED:20240529T081734Z
LAST-MODIFIED:20240529T081736Z
UID:4212-1717511400-1717516800@behindertenverband-leipzig.de
SUMMARY:Smartphone- & Laptopsprechstunde
DESCRIPTION:Alle brennenden Fragen und Probleme rund ums Thema Smartphone\, Laptop\, Computer und Internet beantwortet Ihnen diese Woche eine Mitarbeiterin des BVL. Gerne das eigene Gerät mitbringen\, es steht aber auch ein Computer zur Verfügung\, an dem wir gemeinsam lernen und ausprobieren können.
URL:https://behindertenverband-leipzig.de/event/smartphone-laptopsprechstunde-5/
LOCATION:Behindertenverband Leipzig e.V.\, Bernhard-Göring-Str. 152\, Leipzig\, Deutschland\, 04277
END:VEVENT
BEGIN:VEVENT
DTSTART;TZID=Europe/Berlin:20240605T140000
DTEND;TZID=Europe/Berlin:20240605T163000
DTSTAMP:20260423T014455
CREATED:20240529T083223Z
LAST-MODIFIED:20240529T083242Z
UID:4216-1717596000-1717605000@behindertenverband-leipzig.de
SUMMARY:Café Inklusiv(e) - Filmmittag – Gute Nachrichten vom Planeten
DESCRIPTION:Die Reihe setzt auf positive Nachrichten\, die häufig unbemerktbleiben. Es sind die kleinen und großen Erfolge von Menschen\,Organisationen und Unternehmen\, die überall auf der Weltdarum kämpfen\, die Zustände für Mensch und Natur zuverbessern. Diesmal zum Thema Wasser.
URL:https://behindertenverband-leipzig.de/event/cafe-inklusive-filmmittag-gute-nachrichten-vom-planetencafe/
LOCATION:Haus der Demokratie\, Café\, Bernhard-Göring-Str. 152\, Leipzig\, 04277\, Deutschland
END:VEVENT
BEGIN:VEVENT
DTSTART;TZID=Europe/Berlin:20240610T143000
DTEND;TZID=Europe/Berlin:20240610T160000
DTSTAMP:20260423T014455
CREATED:20240529T081910Z
LAST-MODIFIED:20240529T081911Z
UID:4214-1718029800-1718035200@behindertenverband-leipzig.de
SUMMARY:Kreatives Gestalten
DESCRIPTION:Liebe Bastelfreundinnen und -freunde\,dieses Mal wollen wir Blumengirlanden für unser Sommerfest im August basteln. Das wird dann bestimmt toll aussehen.Liebe Grüße\, Martina & Tom
URL:https://behindertenverband-leipzig.de/event/kreatives-gestalten-29/
LOCATION:Haus der Demokratie\, Raum 011\, Bernhard-Göring-Str. 152\, Leipzig\, 04277
END:VEVENT
BEGIN:VEVENT
DTSTART;TZID=Europe/Berlin:20240612T140000
DTEND;TZID=Europe/Berlin:20240612T163000
DTSTAMP:20260423T014455
CREATED:20240529T083411Z
LAST-MODIFIED:20240529T083413Z
UID:4219-1718200800-1718209800@behindertenverband-leipzig.de
SUMMARY:Café Inklusiv(e) - Gedächtnistraining
DESCRIPTION:Diesen Mittwoch gestaltet für uns Anett Reichel\, zertifizierteGedächtnistrainerin von „mobile Lichtmomente“\, mit einemLeipziger Allerlei verschiedener Fragen und Aufgaben\, um dasGehirn ein bisschen zum Joggen zu bringen.
URL:https://behindertenverband-leipzig.de/event/cafe-inklusive-gedaechtnistraining-2/
LOCATION:Haus der Demokratie\, Café\, Bernhard-Göring-Str. 152\, Leipzig\, 04277\, Deutschland
END:VEVENT
BEGIN:VEVENT
DTSTART;TZID=Europe/Berlin:20240617T140000
DTEND;TZID=Europe/Berlin:20240617T163000
DTSTAMP:20260423T014455
CREATED:20240529T084101Z
LAST-MODIFIED:20240529T084103Z
UID:4225-1718632800-1718641800@behindertenverband-leipzig.de
SUMMARY:Spielenachmittag
DESCRIPTION:Wir spielen wieder wie gewohnt im Raum 11.
URL:https://behindertenverband-leipzig.de/event/spielenachmittag-16/
LOCATION:Haus der Demokratie\, Raum 011\, Bernhard-Göring-Str. 152\, Leipzig\, 04277
END:VEVENT
BEGIN:VEVENT
DTSTART;TZID=Europe/Berlin:20240618T130000
DTEND;TZID=Europe/Berlin:20240618T163000
DTSTAMP:20260423T014455
CREATED:20240529T084442Z
LAST-MODIFIED:20240529T084443Z
UID:4229-1718715600-1718728200@behindertenverband-leipzig.de
SUMMARY:E-Rolli Wandergruppe
DESCRIPTION:Liebe Wanderfreunde\,zu unserer nächsten Wanderung treffen wir uns am Dienstag\, dem 18. Juni wieder 13 Uhr im Schatten vor der Russischen Kirche und wandern durch den Friedenspark. Unser Weg führt uns dann aber direkt auf das Freigelände des Botanischen Gartens in der Linnéstraße. Meldet euch bitte an und bleibt gesund. Ich freue mich und hoffe auf gutes Wanderwetter.Eure Gaby
URL:https://behindertenverband-leipzig.de/event/e-rolli-wandergruppe-27/
LOCATION:Russische Gedächtniskirche\, Philipp-Rosenthal-Straße 51A\, 04103 Leipzig
END:VEVENT
BEGIN:VEVENT
DTSTART;TZID=Europe/Berlin:20240626T140000
DTEND;TZID=Europe/Berlin:20240626T163000
DTSTAMP:20260423T014455
CREATED:20240529T083822Z
LAST-MODIFIED:20240529T083824Z
UID:4221-1719410400-1719419400@behindertenverband-leipzig.de
SUMMARY:Café Inklusiv(e) - Ausflug in den Botansichen Garten
DESCRIPTION:Passend zum warmen Wetter möchten wir diesen Mittwochnutzen\, um gemeinsam einen Ausflug in den BotanischenGarten zu machen. Dort blüht und sprießt nun alles – das wollenwir uns nicht entgehen lassen!Wir treffen uns um 14.00 Uhr vor dem Eingang Linnéstraßeund erkunden dort gemütlich beim einen oder anderen BecherKaffee den Kuriositätenpfad. Bei Regen treffen wir uns wiegewohnt im Café des Hauses der Demokratie.
URL:https://behindertenverband-leipzig.de/event/cafe-inklusive-ausflug-in-den-botansichen-garten/
LOCATION:Botanischer Garten\, Linnéstraße 1\, Leipzig\, 04103\, Deutschland
END:VEVENT
BEGIN:VEVENT
DTSTART;TZID=Europe/Berlin:20240627T140000
DTEND;TZID=Europe/Berlin:20240627T163000
DTSTAMP:20260423T014455
CREATED:20240529T084304Z
LAST-MODIFIED:20240529T084305Z
UID:4227-1719496800-1719505800@behindertenverband-leipzig.de
SUMMARY:Spielenachmittag im GRASSI
DESCRIPTION:Am Donnerstag\, den 27. Juni finden uns Spielbegeisterte im Bonvenon Raum im ersten Obergeschoss. Das Gebäude ist barrierefrei zugänglich. Alle sind herzlich willkommen\, wir bitten jedoch um eine kurze Anmeldung hier bei uns im Verband.
URL:https://behindertenverband-leipzig.de/event/spielenachmittag-im-grassi-4/
LOCATION:GRASSI Museum für Völkerkunde\, Johannisplatz 5-11\, Leipzig\, 04103
END:VEVENT
END:VCALENDAR