BEGIN:VCALENDAR
VERSION:2.0
PRODID:-//Behindertenverband Leipzig e.V. - ECPv6.15.20//NONSGML v1.0//EN
CALSCALE:GREGORIAN
METHOD:PUBLISH
X-ORIGINAL-URL:https://behindertenverband-leipzig.de
X-WR-CALDESC:Veranstaltungen für Behindertenverband Leipzig e.V.
REFRESH-INTERVAL;VALUE=DURATION:PT1H
X-Robots-Tag:noindex
X-PUBLISHED-TTL:PT1H
BEGIN:VTIMEZONE
TZID:Europe/Berlin
BEGIN:DAYLIGHT
TZOFFSETFROM:+0100
TZOFFSETTO:+0200
TZNAME:CEST
DTSTART:20230326T010000
END:DAYLIGHT
BEGIN:STANDARD
TZOFFSETFROM:+0200
TZOFFSETTO:+0100
TZNAME:CET
DTSTART:20231029T010000
END:STANDARD
BEGIN:DAYLIGHT
TZOFFSETFROM:+0100
TZOFFSETTO:+0200
TZNAME:CEST
DTSTART:20240331T010000
END:DAYLIGHT
BEGIN:STANDARD
TZOFFSETFROM:+0200
TZOFFSETTO:+0100
TZNAME:CET
DTSTART:20241027T010000
END:STANDARD
BEGIN:DAYLIGHT
TZOFFSETFROM:+0100
TZOFFSETTO:+0200
TZNAME:CEST
DTSTART:20250330T010000
END:DAYLIGHT
BEGIN:STANDARD
TZOFFSETFROM:+0200
TZOFFSETTO:+0100
TZNAME:CET
DTSTART:20251026T010000
END:STANDARD
END:VTIMEZONE
BEGIN:VEVENT
DTSTART;TZID=Europe/Berlin:20240505T100000
DTEND;TZID=Europe/Berlin:20240505T140000
DTSTAMP:20260423T030832
CREATED:20240320T141019Z
LAST-MODIFIED:20240502T085413Z
UID:4164-1714903200-1714917600@behindertenverband-leipzig.de
SUMMARY:Europäischer Protesttag zur Gleichstellung von Menschen mit Behinderungen „Ein Stück vom Kuchen“
DESCRIPTION:Kundgebung\, Kaffeetafel & Gespräche in Kooperation mit dem Netzwerk „behindern verhindern“ und der Diakonie Leipzig.Datum: Sonntag\, 5. Mai 2024\, 10 Uhr – 14 UhrOrt: Nikolaikirchhof\, 04109 LeipzigSchirmherrschaft: Sozialbürgermeisterin der Stadt Leipzig\,Dr. Martina MünchEine große Kaffeetafel mitten auf dem Nikolaikirchhof in Leipzig\, Kuchen und Gespräche\, Tee und Transparente – Zum Europäischen Protesttag zur Gleichstellung von Menschen mit Behinderungen öffnen die BBW-Leipzig-Gruppe\, das Netzwerk „behindern verhindern“ und die Diakonie Leipzig den städtischen Raum für Austausch und Begegnung.Zentrales Thema am Tisch ist die Teilhabe und Mitbestimmung von Menschen mit Behinderungen: Wer darf und kann mit am Tisch sitzen? Wer bekommt ein Stück vom Kuchen und wer bestimmt die Rezeptur? Diese Fragen stellen sich Menschen mit und ohne Behinderungen aus Leipzig\, geladene Gäste und Passant*innen bei Kaffee\, Kuchen und künstlerischer Einmischung. Die Aktion ist eingebettet in die Kampagne „Nächstenliebe eine Stimme geben“\, die im Wahljahr 2024 für den Schutz und die Stärkung der Demokratie und ein gerechtes und friedliches Miteinander wirbt.
URL:https://behindertenverband-leipzig.de/event/europaeischer-protesttag-zur-gleichstellung-von-menschen-mit-behinderungenein-stueck-vom-kuchen/
LOCATION:Nikolaikirchhof\, Nikoleikirchhof\, Leipzig\, 04109
END:VEVENT
BEGIN:VEVENT
DTSTART;TZID=Europe/Berlin:20240507T143000
DTEND;TZID=Europe/Berlin:20240507T160000
DTSTAMP:20260423T030833
CREATED:20240502T071126Z
LAST-MODIFIED:20240502T071127Z
UID:4188-1715092200-1715097600@behindertenverband-leipzig.de
SUMMARY:Smartphone- & Laptopsprechstunde
DESCRIPTION:Alle brennenden Fragen und Probleme rund ums ThemaSmartphone\, Laptop\, Computer und Internet beantwortet Ihnendiese Woche Johanna Keitel. Gerne das eigene Gerät mitbringen\,es steht aber auch ein Computer zur Verfügung\, an dem wirgemeinsam lernen und ausprobieren können.
URL:https://behindertenverband-leipzig.de/event/smartphone-laptopsprechstunde-4/
LOCATION:Haus der Demokratie\, Raum 011\, Bernhard-Göring-Str. 152\, Leipzig\, 04277
END:VEVENT
BEGIN:VEVENT
DTSTART;TZID=Europe/Berlin:20240508T100000
DTEND;TZID=Europe/Berlin:20240508T150000
DTSTAMP:20260423T030833
CREATED:20240320T141252Z
LAST-MODIFIED:20240502T071324Z
UID:4168-1715162400-1715180400@behindertenverband-leipzig.de
SUMMARY:Tag der offenen Tür der Beratungsstelle Wohnen und Soziales und der Ausstellung „Barrierefreies Wohnen“
DESCRIPTION:Am Mittwoch\, dem 08.05.2024 laden das Sozialamt\, die Beratungsstelle Wohnen und Soziales gemeinsam mit dem Behindertenverband Leipzig e. V. und den Mitgliedern der Arbeitsgruppe „BARRIEREFREIES WOHNEN 99“ herzlich ein\, die Dauerausstellung zu behindertengerechtem Wohnen zu besuchen und sich zum Thema Wohnen im Alter und bei Behinderung zu informieren.Der Zugang zur Ausstellung ist barrierefrei. \n\n\n\nHier gibt es das aktuelle Programm: https://static.leipzig.de/fileadmin/mediendatenbank/leipzig-de/Stadt/02.5_Dez5_Jugend_Soziales_Gesundheit_Schule/50_Sozialamt/Beratungsstelle_Wohnen_und_Soziales/Tagesprogramm_TdoT_2024.pdf
URL:https://behindertenverband-leipzig.de/event/tag-der-offenen-tuer-der-beratungsstelle-wohnen-und-soziales-und-der-ausstellung-barrierefreies-wohnen/
LOCATION:Technisches Rathaus\, Prager Straße 118 - 136\, Leipzig\, 04317
END:VEVENT
BEGIN:VEVENT
DTSTART;TZID=Europe/Berlin:20240508T140000
DTEND;TZID=Europe/Berlin:20240508T163000
DTSTAMP:20260423T030833
CREATED:20240502T072730Z
LAST-MODIFIED:20240502T072731Z
UID:4203-1715176800-1715185800@behindertenverband-leipzig.de
SUMMARY:Café Inklusiv
DESCRIPTION:Wir plaudern in gemütlicher Atmosphäre mit Kaffee und Kuchen. Alle sind herzlich willkommen!
URL:https://behindertenverband-leipzig.de/event/cafe-inklusiv-26/
LOCATION:Haus der Demokratie\, Café\, Bernhard-Göring-Str. 152\, Leipzig\, 04277\, Deutschland
END:VEVENT
BEGIN:VEVENT
DTSTART;TZID=Europe/Berlin:20240513T143000
DTEND;TZID=Europe/Berlin:20240513T153000
DTSTAMP:20260423T030833
CREATED:20240502T071610Z
LAST-MODIFIED:20240502T071611Z
UID:4191-1715610600-1715614200@behindertenverband-leipzig.de
SUMMARY:Kreatives Gestalten
DESCRIPTION:Liebe Bastelfreundinnen und -freunde\,diesen Monat wollen wir uns die Technik Cyanotypieausprobieren. Das Verfahren ist auch unter der BezeichnungBlaupause bekannt. Dazu belichten wir das speziell behandeltePapier z. B. mit den Umrissen von Blättern oder Blüten.
URL:https://behindertenverband-leipzig.de/event/kreatives-gestalten-28/
LOCATION:Haus der Demokratie\, Raum 011\, Bernhard-Göring-Str. 152\, Leipzig\, 04277
END:VEVENT
BEGIN:VEVENT
DTSTART;TZID=Europe/Berlin:20240514T140000
DTEND;TZID=Europe/Berlin:20240514T170000
DTSTAMP:20260423T030833
CREATED:20240502T071844Z
LAST-MODIFIED:20240502T072528Z
UID:4193-1715695200-1715706000@behindertenverband-leipzig.de
SUMMARY:E-Rolli Wandergruppe
DESCRIPTION:Liebe Wanderfreunde\,wie bereits abgesprochen\, werden wir zum nächsten Malbereits am 14. Mai unsere Stadt erwandern. Wir treffen uns13 Uhr an der Russischen Gedächtniskirche in der Nähe vonSemmelweis- und Philipp-Rosenthal-Strasse\, also unweit vomTechnischen Rathaus (Prager Strasse). Danach durchwandernwir den Friedenspark\, schauen mal zum Duft- und Tastgarten\,zum Apothekergarten und schließen unseren Rundgangmit einem Besuch des Freigeländes des Botanischen Gartensin der Linnéstraße ab. Meldet euch bitte an\, beachtet dieTerminverschiebung und bleibt gesund. Ich freue mich aufinteressante Naturbeobachtungen bei hoffentlich trockenemWetter.Eure Gaby
URL:https://behindertenverband-leipzig.de/event/e-rolli-wandergruppe-26/
LOCATION:Russische Gedächtniskirche\, Philipp-Rosenthal-Straße 51A\, 04103 Leipzig
END:VEVENT
BEGIN:VEVENT
DTSTART;TZID=Europe/Berlin:20240515T140000
DTEND;TZID=Europe/Berlin:20240515T163000
DTSTAMP:20260423T030833
CREATED:20240502T070648Z
LAST-MODIFIED:20240502T070650Z
UID:4184-1715781600-1715790600@behindertenverband-leipzig.de
SUMMARY:Café Inklusiv(e) Kaffee – eine Bohne mit vielen Facetten!
DESCRIPTION:Juliane Markov vom „Eine Welt“ e.V. lädt Sie ein\, dass ThemaKaffee global zu betrachten. Unter welchen Bedingungen wird erin den unterschiedlichen Regionen angebaut\, wer verdient daranund wer nicht? Was hat der Konsum hier mit den Bedingungenin den Herkunftsländern zu tun? Wie können wir positiv aufMissstände einwirken?
URL:https://behindertenverband-leipzig.de/event/cafe-inklusive-kaffee-eine-bohne-mit-vielen-facetten/
LOCATION:Haus der Demokratie\, Café\, Bernhard-Göring-Str. 152\, Leipzig\, 04277\, Deutschland
END:VEVENT
BEGIN:VEVENT
DTSTART;TZID=Europe/Berlin:20240522T140000
DTEND;TZID=Europe/Berlin:20240522T163000
DTSTAMP:20260423T030833
CREATED:20240502T072828Z
LAST-MODIFIED:20240502T072829Z
UID:4205-1716386400-1716395400@behindertenverband-leipzig.de
SUMMARY:Café inklusiv
DESCRIPTION:Wir plaudern in gemütlicher Atmosphäre mit Kaffee und Kuchen. Alle sind herzlich willkommen!
URL:https://behindertenverband-leipzig.de/event/cafe-inklusiv-27/
LOCATION:Haus der Demokratie\, Café\, Bernhard-Göring-Str. 152\, Leipzig\, 04277\, Deutschland
END:VEVENT
BEGIN:VEVENT
DTSTART;TZID=Europe/Berlin:20240525T130000
DTEND;TZID=Europe/Berlin:20240525T170000
DTSTAMP:20260423T030833
CREATED:20240502T072135Z
LAST-MODIFIED:20240502T072356Z
UID:4197-1716642000-1716656400@behindertenverband-leipzig.de
SUMMARY:Tag der Begegnung
DESCRIPTION:Der Tag der Begegnung für Menschen mit und ohneBehinderung hat eine lange Tradition in Leipzig. Seit 1992bieten sich an diesem Tag Leipzigerinnen und LeipzigernMöglichkeiten des Austauschs und gemeinsamer Erlebnisse.Am 25. Mai 2024 soll der nächste Tag der Begegnung fürMenschen mit und ohne Behinderung stattfinden. Diesmal lädter in den Leipziger Osten mit dem Stadtteilpark Rabet ein.Anlässlich der Fußballeuropameisterschaft\, die mit einigenSpielen 2024 auch in Leipzig stattfindet\, sollen diesmalsportliche Aktivitäten für Jung und Alt im Vordergrund stehen. \n\n\n\nWeitere Infos unter folgendem Link: https://www.leipzig.de/jugend-familie-und-soziales/menschen-mit-behinderungen/tag-der-begegnung
URL:https://behindertenverband-leipzig.de/event/tag-der-begegnung-2/
LOCATION:Stadtteilpark Rabet
END:VEVENT
BEGIN:VEVENT
DTSTART;TZID=Europe/Berlin:20240527T140000
DTEND;TZID=Europe/Berlin:20240527T160000
DTSTAMP:20260423T030833
CREATED:20240502T072950Z
LAST-MODIFIED:20240502T072952Z
UID:4207-1716818400-1716825600@behindertenverband-leipzig.de
SUMMARY:Spielenachmittag
DESCRIPTION:Wir spielen wieder wie gewohnt im Raum 11.
URL:https://behindertenverband-leipzig.de/event/spielenachmittag-15/
LOCATION:Haus der Demokratie\, Raum 011\, Bernhard-Göring-Str. 152\, Leipzig\, 04277
END:VEVENT
BEGIN:VEVENT
DTSTART;TZID=Europe/Berlin:20240529T140000
DTEND;TZID=Europe/Berlin:20240529T163000
DTSTAMP:20260423T030833
CREATED:20240502T070838Z
LAST-MODIFIED:20240502T070847Z
UID:4186-1716991200-1717000200@behindertenverband-leipzig.de
SUMMARY:Café Inklusiv(e) - Singen mit Herz für alle
DESCRIPTION:Singen ist gesund\, macht glücklich und hält jung\, so sagt man.Diesen Nachmittag gibt es leicht zu singende bunte Lieder auchohne Notenkenntnisse in netter Gemeinschaft\, begleitet vonFrau Aurich am Piano. Liedtexte\, Kaffee\, Tee und Kuchen wartenschon.
URL:https://behindertenverband-leipzig.de/event/cafe-inklusive-singen-mit-herz-fuer-alle/
LOCATION:Haus der Demokratie\, Café\, Bernhard-Göring-Str. 152\, Leipzig\, 04277\, Deutschland
END:VEVENT
END:VCALENDAR