BEGIN:VCALENDAR
VERSION:2.0
PRODID:-//Behindertenverband Leipzig e.V. - ECPv6.15.20//NONSGML v1.0//EN
CALSCALE:GREGORIAN
METHOD:PUBLISH
X-ORIGINAL-URL:https://behindertenverband-leipzig.de
X-WR-CALDESC:Veranstaltungen für Behindertenverband Leipzig e.V.
REFRESH-INTERVAL;VALUE=DURATION:PT1H
X-Robots-Tag:noindex
X-PUBLISHED-TTL:PT1H
BEGIN:VTIMEZONE
TZID:Europe/Berlin
BEGIN:DAYLIGHT
TZOFFSETFROM:+0100
TZOFFSETTO:+0200
TZNAME:CEST
DTSTART:20230326T010000
END:DAYLIGHT
BEGIN:STANDARD
TZOFFSETFROM:+0200
TZOFFSETTO:+0100
TZNAME:CET
DTSTART:20231029T010000
END:STANDARD
BEGIN:DAYLIGHT
TZOFFSETFROM:+0100
TZOFFSETTO:+0200
TZNAME:CEST
DTSTART:20240331T010000
END:DAYLIGHT
BEGIN:STANDARD
TZOFFSETFROM:+0200
TZOFFSETTO:+0100
TZNAME:CET
DTSTART:20241027T010000
END:STANDARD
BEGIN:DAYLIGHT
TZOFFSETFROM:+0100
TZOFFSETTO:+0200
TZNAME:CEST
DTSTART:20250330T010000
END:DAYLIGHT
BEGIN:STANDARD
TZOFFSETFROM:+0200
TZOFFSETTO:+0100
TZNAME:CET
DTSTART:20251026T010000
END:STANDARD
END:VTIMEZONE
BEGIN:VEVENT
DTSTART;TZID=Europe/Berlin:20240306T140000
DTEND;TZID=Europe/Berlin:20240306T163000
DTSTAMP:20260423T060548
CREATED:20240104T110457Z
LAST-MODIFIED:20240104T111041Z
UID:4091-1709733600-1709742600@behindertenverband-leipzig.de
SUMMARY:Café inklusiv(e) – Fluchtbewegungen weltweit
DESCRIPTION:Gemeinsam mit einem Mitarbeiter des Eine Welt e.V. schauen wir uns an\, wie es in der Welt aussieht: Wo leben wie viele Menschen\, wie ist Reichtum und Wohlstand verteilt und wo finden Geflüchtete Schutz? Was sind die Zusammenhänge und Folgen? \n\n\n\nDenn nur wenn wir die Fakten kennen\, können wir informativ an den aktuellen Diskussionen teilnehmen.
URL:https://behindertenverband-leipzig.de/event/cafe-inklusive-fluchtbewegungen-weltweit/
LOCATION:Haus der Demokratie\, Café\, Bernhard-Göring-Str. 152\, Leipzig\, 04277\, Deutschland
END:VEVENT
BEGIN:VEVENT
DTSTART;TZID=Europe/Berlin:20240307T143000
DTEND;TZID=Europe/Berlin:20240307T160000
DTSTAMP:20260423T060548
CREATED:20240104T110234Z
LAST-MODIFIED:20240104T114224Z
UID:4088-1709821800-1709827200@behindertenverband-leipzig.de
SUMMARY:Smartphone & Laptop Sprechstunde
DESCRIPTION:Alle brennenden Fragen und Probleme rund ums Thema Smartphone\, Laptop\, Computer und Internet beantwortet Ihnen diese Woche Johanna Keitel. Gerne das eigene Gerät mitbringen\, es steht aber auch ein Computer zur Verfügung\, an dem wir gemeinsam lernen und ausprobieren können.
URL:https://behindertenverband-leipzig.de/event/smartphone-und-laptop-sprechstunde-2/
LOCATION:Haus der Demokratie\, Raum 011\, Bernhard-Göring-Str. 152\, Leipzig\, 04277
END:VEVENT
BEGIN:VEVENT
DTSTART;TZID=Europe/Berlin:20240311T140000
DTEND;TZID=Europe/Berlin:20240311T163000
DTSTAMP:20260423T060548
CREATED:20240104T111542Z
LAST-MODIFIED:20240104T111543Z
UID:4094-1710165600-1710174600@behindertenverband-leipzig.de
SUMMARY:Kreatives Gestalten
DESCRIPTION:
URL:https://behindertenverband-leipzig.de/event/kreatives-gestalten-26/
LOCATION:Haus der Demokratie\, Raum 011\, Bernhard-Göring-Str. 152\, Leipzig\, 04277
END:VEVENT
BEGIN:VEVENT
DTSTART;TZID=Europe/Berlin:20240313T140000
DTEND;TZID=Europe/Berlin:20240313T163000
DTSTAMP:20260423T060548
CREATED:20240104T111925Z
LAST-MODIFIED:20240104T111926Z
UID:4096-1710338400-1710347400@behindertenverband-leipzig.de
SUMMARY:Café inklusiv
DESCRIPTION:Wir plaudern in gemütlicher Atmosphäre mit Kaffee und Kuchen. Alle sind herzlich willkommen!
URL:https://behindertenverband-leipzig.de/event/cafe-inklusiv-23/
LOCATION:Haus der Demokratie\, Café\, Bernhard-Göring-Str. 152\, Leipzig\, 04277\, Deutschland
END:VEVENT
BEGIN:VEVENT
DTSTART;TZID=Europe/Berlin:20240318T140000
DTEND;TZID=Europe/Berlin:20240318T160000
DTSTAMP:20260423T060548
CREATED:20240312T081519Z
LAST-MODIFIED:20240312T081630Z
UID:4123-1710770400-1710777600@behindertenverband-leipzig.de
SUMMARY:Spielenachmittag
DESCRIPTION:Wir spielen wieder wie gewohnt im Raum 11.
URL:https://behindertenverband-leipzig.de/event/spielenachmittag-14/
END:VEVENT
BEGIN:VEVENT
DTSTART;TZID=Europe/Berlin:20240320T140000
DTEND;TZID=Europe/Berlin:20240320T163000
DTSTAMP:20260423T060548
CREATED:20240104T112203Z
LAST-MODIFIED:20240104T112205Z
UID:4098-1710943200-1710952200@behindertenverband-leipzig.de
SUMMARY:Café inklusiv(e) – Fotonachmittag
DESCRIPTION:Wir wollen an diesem Nachmittag gemeinsam in alten Erinnerungen schwelgen. Deshalb sind Sie alle herzlich dazu eingeladen\, ein paar alte Fotos mitzubringen. Seien es Kinderbilder\, ein besonders schöner Urlaub\, die erste Wohnung… Alle Fotos und Geschichten sind herzlich willkommen.
URL:https://behindertenverband-leipzig.de/event/cafe-inklusive-fotonachmittag/
LOCATION:Haus der Demokratie\, Café\, Bernhard-Göring-Str. 152\, Leipzig\, 04277\, Deutschland
END:VEVENT
BEGIN:VEVENT
DTSTART;TZID=Europe/Berlin:20240327T140000
DTEND;TZID=Europe/Berlin:20240327T163000
DTSTAMP:20260423T060548
CREATED:20240104T112621Z
LAST-MODIFIED:20240104T112622Z
UID:4100-1711548000-1711557000@behindertenverband-leipzig.de
SUMMARY:Café Inklusiv
DESCRIPTION:Wir plaudern in gemütlicher Atmosphäre mit Kaffee und Kuchen. Alle sind herzlich eingeladen!
URL:https://behindertenverband-leipzig.de/event/cafe-inklusiv-24/
LOCATION:Haus der Demokratie\, Café\, Bernhard-Göring-Str. 152\, Leipzig\, 04277\, Deutschland
END:VEVENT
END:VCALENDAR