BEGIN:VCALENDAR
VERSION:2.0
PRODID:-//Behindertenverband Leipzig e.V. - ECPv6.15.20//NONSGML v1.0//EN
CALSCALE:GREGORIAN
METHOD:PUBLISH
X-ORIGINAL-URL:https://behindertenverband-leipzig.de
X-WR-CALDESC:Veranstaltungen für Behindertenverband Leipzig e.V.
REFRESH-INTERVAL;VALUE=DURATION:PT1H
X-Robots-Tag:noindex
X-PUBLISHED-TTL:PT1H
BEGIN:VTIMEZONE
TZID:Europe/Berlin
BEGIN:DAYLIGHT
TZOFFSETFROM:+0100
TZOFFSETTO:+0200
TZNAME:CEST
DTSTART:20220327T010000
END:DAYLIGHT
BEGIN:STANDARD
TZOFFSETFROM:+0200
TZOFFSETTO:+0100
TZNAME:CET
DTSTART:20221030T010000
END:STANDARD
BEGIN:DAYLIGHT
TZOFFSETFROM:+0100
TZOFFSETTO:+0200
TZNAME:CEST
DTSTART:20230326T010000
END:DAYLIGHT
BEGIN:STANDARD
TZOFFSETFROM:+0200
TZOFFSETTO:+0100
TZNAME:CET
DTSTART:20231029T010000
END:STANDARD
BEGIN:DAYLIGHT
TZOFFSETFROM:+0100
TZOFFSETTO:+0200
TZNAME:CEST
DTSTART:20240331T010000
END:DAYLIGHT
BEGIN:STANDARD
TZOFFSETFROM:+0200
TZOFFSETTO:+0100
TZNAME:CET
DTSTART:20241027T010000
END:STANDARD
END:VTIMEZONE
BEGIN:VEVENT
DTSTART;TZID=Europe/Berlin:20231101T140000
DTEND;TZID=Europe/Berlin:20231101T163000
DTSTAMP:20260423T120857
CREATED:20231027T071927Z
LAST-MODIFIED:20231027T072019Z
UID:3972-1698847200-1698856200@behindertenverband-leipzig.de
SUMMARY:Café Inklusiv(e)
DESCRIPTION:LVB MobilitätsberatungWie Sie ihr Smartphone oder Ihren Computer nutzen können\, um sich für die Fahrt mit unseren Straßenbahnen oder Bussen eine Verbindung zu suchen oder ein Ticket zu kaufen\, erklären wir Ihnen gern in unseren Mobilitätsberatungen.Wir freuen uns auf Sie!Haus der Demokratie\, Café
URL:https://behindertenverband-leipzig.de/event/cafe-inklusive-50/
END:VEVENT
BEGIN:VEVENT
DTSTART;TZID=Europe/Berlin:20231106T140000
DTEND;TZID=Europe/Berlin:20231106T160000
DTSTAMP:20260423T120857
CREATED:20231027T072402Z
LAST-MODIFIED:20231027T072404Z
UID:3979-1699279200-1699286400@behindertenverband-leipzig.de
SUMMARY:Gruppe 40Plus
DESCRIPTION:Die Gruppe trifft sich am Montag\, dem 6. November von 14.00 bis 16.00 Uhr in der Volkssolidarität.Viele Grüße Andreas
URL:https://behindertenverband-leipzig.de/event/gruppe-40plus-36/
END:VEVENT
BEGIN:VEVENT
DTSTART;TZID=Europe/Berlin:20231106T143000
DTEND;TZID=Europe/Berlin:20231106T160000
DTSTAMP:20260423T120857
CREATED:20231027T072519Z
LAST-MODIFIED:20231027T072521Z
UID:3981-1699281000-1699286400@behindertenverband-leipzig.de
SUMMARY:Smartphone & Laptop Sprechstunde
DESCRIPTION:Alle brennenden Fragen und Probleme rund ums Thema Smartphone\, Laptop\, Computer und Internet beantwortet Ihnen diese Woche Johanna Keitel. Gerne das eigene Gerät mitbringen\, es steht aber auch ein Computer zur Verfügung\, an dem wir gemeinsam lernen und ausprobieren können.Haus der Demokratie\, Raum 11
URL:https://behindertenverband-leipzig.de/event/smartphone-laptop-sprechstunde-6/
END:VEVENT
BEGIN:VEVENT
DTSTART;TZID=Europe/Berlin:20231108T140000
DTEND;TZID=Europe/Berlin:20231108T163000
DTSTAMP:20260423T120857
CREATED:20231027T081656Z
LAST-MODIFIED:20231027T081657Z
UID:3995-1699452000-1699461000@behindertenverband-leipzig.de
SUMMARY:Café inklusiv
DESCRIPTION:Wir plaudern in lockerer Atmosphäre bei Kaffee und Kuchen. \n\n\n\nHaus der Demokratie\, Café
URL:https://behindertenverband-leipzig.de/event/cafe-inklusiv-19/
END:VEVENT
BEGIN:VEVENT
DTSTART;TZID=Europe/Berlin:20231110T150000
DTEND;TZID=Europe/Berlin:20231110T180000
DTSTAMP:20260423T120857
CREATED:20231027T082146Z
LAST-MODIFIED:20231027T082333Z
UID:3999-1699628400-1699639200@behindertenverband-leipzig.de
SUMMARY:Inklusives Herbst-Lese-Fest im Haus der Demokratie
DESCRIPTION:Ein Buch für alle\n\n\n\nAuch in diesem Jahr feiert das Haus der Demokratie wieder ein Herbstfest – und das wird gemütlich. Denn wir planen am 10. November\, 15 Uhr bis 18 Uhr\, ein inklusives Lese-Fest. \n\n\n\nViele Menschen lesen gerne. Aber es gibt viele Hindernisse\, die dafür sorgen\, dass man nicht (mehr) liest. Vielleicht sieht eine Person schlecht\, hat aber Hemmungen\, sich zu Hilfsmitteln zu informieren; vielleicht bieten die Lebensentwürfe in den meisten Büchern kein Identifikationspotential; vielleicht kommt man aber auch aus einem Haushalt\, wo es nie viele Bücher gab und der Zugang dazu\, wie man ein Buch liest\, fehlt. \n\n\n\nUnser Ziel für das Lese-Fest ist es\, alle Besucher*innen ans Buch zu bringen. Dazu werden im ganzen Haus auf den Fluren Lese-Ecken eingerichtet\, die von verschiedenen Akteur*innen aus dem Haus und der Stadt gestaltet werden. \n\n\n\nUnter anderem gibt es: \n\n\n\n\nEine Medienwerkstatt\, in der Expert*innen bei der Einrichtung von E-Book und Mobiltelefon helfen\n\n\n\neinen Kinderbuchtauschmarkt – ausgelesene Kinder- und Jugendbücher mitbringen\, neuen Lese-Stoff mitnehmen\n\n\n\nInformationen zu Lesehilfen\n\n\n\nLesungen im ganzen Haus – mehrsprachig und inklusiv\n\n\n\nEinen Buch-gegen-Spende-Tisch mit vielen Sachbüchern und Romanen aus verschiedenen Bereichen\n\n\n\nExperten zum Thema „Wie lese ich eigentlich Formulare richtig?“\n\n\n\nInformationen zu einfacher Sprache mit vielen Beispielen\n\n\n\nguten Kaffee & leckeren Kuchen\n\n\n\n\nWir freuen uns auf Sie und euch.
URL:https://behindertenverband-leipzig.de/event/inklusives-herbst-lese-fest-im-haus-der-demokratie/
END:VEVENT
BEGIN:VEVENT
DTSTART;TZID=Europe/Berlin:20231110T170000
DTEND;TZID=Europe/Berlin:20231110T190000
DTSTAMP:20260423T120857
CREATED:20231027T072625Z
LAST-MODIFIED:20231027T072632Z
UID:3983-1699635600-1699642800@behindertenverband-leipzig.de
SUMMARY:Club "Die Brücke"
DESCRIPTION:Unser Stammtisch findet diesen Monat am Freitag\, dem 10. November 2023 ab 17.00 Uhr in der „Kleinen Kneipe“ statt. Bitte bei mir per Email oder Handy anmelden.Gruß Bernd
URL:https://behindertenverband-leipzig.de/event/club-die-bruecke-22/
END:VEVENT
BEGIN:VEVENT
DTSTART;TZID=Europe/Berlin:20231115T140000
DTEND;TZID=Europe/Berlin:20231115T163000
DTSTAMP:20260423T120857
CREATED:20231027T072139Z
LAST-MODIFIED:20231027T072141Z
UID:3975-1700056800-1700065800@behindertenverband-leipzig.de
SUMMARY:Café Inklusiv(e)
DESCRIPTION:Unterwasserwelt des Kulkwitzer SeesAls Referenzgewässer für die Renaturierung von Tagebaurestseen ist der Kulkwitzer See ein herausragendes Vorbild. Der Vortrag entführt in die einzigartige Artenvielfalt der Unterwasserflora und -fauna dieses Sees. Dessen positiver gewässerökologischer Zustand ist auch Grundlage für die Entwicklung weiterer Tagebaurestseen im Südraum von Leipzig.Haus der Demokratie\, Café
URL:https://behindertenverband-leipzig.de/event/cafe-inklusive-51/
END:VEVENT
BEGIN:VEVENT
DTSTART;TZID=Europe/Berlin:20231116T130000
DTEND;TZID=Europe/Berlin:20231116T150000
DTSTAMP:20260423T120857
CREATED:20231027T073559Z
LAST-MODIFIED:20231027T073601Z
UID:3985-1700139600-1700146800@behindertenverband-leipzig.de
SUMMARY:Kreatives Gestalten
DESCRIPTION:Liebe Bastelfreundinnen und -freunde\,wir widmen uns an diesem Nachmittag gemeinsam dem Basteln einer Girlande mit kleinen Fischen aus schönem Papier. Diese könnt ihr dann dekorativ in der Wohnung oder auf dem Balkon aufhängenWir freuen uns auf eure Teilnahme\,eure Martina und JohannaHaus der Demokratie\, Raum 11
URL:https://behindertenverband-leipzig.de/event/kreatives-gestalten-24/
END:VEVENT
BEGIN:VEVENT
DTSTART;TZID=Europe/Berlin:20231118T150000
DTEND;TZID=Europe/Berlin:20231118T190000
DTSTAMP:20260423T120857
CREATED:20231027T073901Z
LAST-MODIFIED:20231027T073903Z
UID:3987-1700319600-1700334000@behindertenverband-leipzig.de
SUMMARY:Mitgliederversammlung des BVL
DESCRIPTION:Liebe Mitglieder\,wir laden Sie ganz herzlich zu unserer diesjährigen Mitgliederversammlung ein. Die Tagesordnung sieht folgende Programmpunkte vor: \n\n\n\n\nBegrüßung\n\n\n\nRechenschaftsbericht des Vorsitzenden undGeschäftsführers mit Dank und dem Gedenkenan unsere Verstorbenen\n\n\n\nFinanzbericht\n\n\n\nBericht der Revisionskommission\n\n\n\nDiskussion\n\n\n\n\nMit einem gemeinsamen Abendessen beschließen wir die Veranstaltung. Bitte für das Abendbrot anmelden.Pauluskirche\, Alte Salzstr. 185\,04209 Leipzig Grünau
URL:https://behindertenverband-leipzig.de/event/mitgliederversammlung-des-bvl/
END:VEVENT
BEGIN:VEVENT
DTSTART;TZID=Europe/Berlin:20231129T140000
DTEND;TZID=Europe/Berlin:20231129T163000
DTSTAMP:20260423T120857
CREATED:20231027T072259Z
LAST-MODIFIED:20231027T072302Z
UID:3977-1701266400-1701275400@behindertenverband-leipzig.de
SUMMARY:Café Inklusiv(e)
DESCRIPTION:WunschkinoBei unserer Abstimmung durfte zwischen drei Filmen ausgewählt werden und entschieden wurde sich mit knappen Abstand für Frank Beyers „Spur der Steine“ aus dem Jahr 1966\, welcher schon kurz nach seiner Premiere wegen „antisozialistischer Tendenzen“ abgesetzt und über 20 Jahre in den Archiven der DEFA unter Verschluss gehalten wurde.Haus der Demokratie\, Café
URL:https://behindertenverband-leipzig.de/event/cafe-inklusive-52/
END:VEVENT
END:VCALENDAR