BEGIN:VCALENDAR
VERSION:2.0
PRODID:-//Behindertenverband Leipzig e.V. - ECPv6.15.20//NONSGML v1.0//EN
CALSCALE:GREGORIAN
METHOD:PUBLISH
X-ORIGINAL-URL:https://behindertenverband-leipzig.de
X-WR-CALDESC:Veranstaltungen für Behindertenverband Leipzig e.V.
REFRESH-INTERVAL;VALUE=DURATION:PT1H
X-Robots-Tag:noindex
X-PUBLISHED-TTL:PT1H
BEGIN:VTIMEZONE
TZID:Europe/Berlin
BEGIN:DAYLIGHT
TZOFFSETFROM:+0100
TZOFFSETTO:+0200
TZNAME:CEST
DTSTART:20220327T010000
END:DAYLIGHT
BEGIN:STANDARD
TZOFFSETFROM:+0200
TZOFFSETTO:+0100
TZNAME:CET
DTSTART:20221030T010000
END:STANDARD
BEGIN:DAYLIGHT
TZOFFSETFROM:+0100
TZOFFSETTO:+0200
TZNAME:CEST
DTSTART:20230326T010000
END:DAYLIGHT
BEGIN:STANDARD
TZOFFSETFROM:+0200
TZOFFSETTO:+0100
TZNAME:CET
DTSTART:20231029T010000
END:STANDARD
BEGIN:DAYLIGHT
TZOFFSETFROM:+0100
TZOFFSETTO:+0200
TZNAME:CEST
DTSTART:20240331T010000
END:DAYLIGHT
BEGIN:STANDARD
TZOFFSETFROM:+0200
TZOFFSETTO:+0100
TZNAME:CET
DTSTART:20241027T010000
END:STANDARD
END:VTIMEZONE
BEGIN:VEVENT
DTSTART;TZID=Europe/Berlin:20230929T100000
DTEND;TZID=Europe/Berlin:20231001T160000
DTSTAMP:20260423T135332
CREATED:20230912T070554Z
LAST-MODIFIED:20230912T070556Z
UID:3932-1695981600-1696176000@behindertenverband-leipzig.de
SUMMARY:Modell-Hobby-Spiel Messe
DESCRIPTION:Selbstverständlich finden Sie uns auch dieses Jahr wieder miteinem Stand auf der Modell-Hobby-Spiele Messe. Diese findetvom 29. September bis zum 1. Oktober 2023 statt. Unser Standbefindet sich in Halle 2\, Stand K18.
URL:https://behindertenverband-leipzig.de/event/modell-hobby-spiel-messe/
END:VEVENT
BEGIN:VEVENT
DTSTART;TZID=Europe/Berlin:20231004T140000
DTEND;TZID=Europe/Berlin:20231004T163000
DTSTAMP:20260423T135332
CREATED:20230927T124045Z
LAST-MODIFIED:20230927T124047Z
UID:3935-1696428000-1696437000@behindertenverband-leipzig.de
SUMMARY:Café Inklusiv(e)
DESCRIPTION:Vortrag über DiskriminierungHäufig erfahren Senioren und Seniorinnen sowie Menschen mit Behinderung Diskriminierung – im ÖPNV\, beim Wohnen\, auf der Arbeit\, in der Freizeit… Eine Beraterin des Antidiskriminierungsbüros Sachsen stellt ihre Arbeit vor und möchte mit Ihnen ins Gespräch kommen über Möglichkeiten\, was man dagegen tun kann.Haus der Demokratie\, Café
URL:https://behindertenverband-leipzig.de/event/cafe-inklusive-47/
END:VEVENT
BEGIN:VEVENT
DTSTART;TZID=Europe/Berlin:20231005T143000
DTEND;TZID=Europe/Berlin:20231005T160000
DTSTAMP:20260423T135332
CREATED:20230927T132251Z
LAST-MODIFIED:20230927T132253Z
UID:3941-1696516200-1696521600@behindertenverband-leipzig.de
SUMMARY:Smartphone & Laptop Sprechstunde
DESCRIPTION:Alle brennenden Fragen und Probleme rund ums Thema Smartphone\, Laptop\, Computer und Internet beantwortet Ihnen diese Woche Johanna Keitel. Gerne das eigene Gerät mitbringen\, es steht aber auch ein Computer zur Verfügung\, an dem wir gemeinsam lernen und ausprobieren können.Diesen Monat findet die Sprechstunde testweise nochmal donnerstags statt.Haus der Demokratie\, Raum 11
URL:https://behindertenverband-leipzig.de/event/smartphone-laptop-sprechstunde-5/
END:VEVENT
BEGIN:VEVENT
DTSTART;TZID=Europe/Berlin:20231007T150000
DTEND;TZID=Europe/Berlin:20231007T190000
DTSTAMP:20260423T135332
CREATED:20230927T132637Z
LAST-MODIFIED:20230929T072505Z
UID:3945-1696690800-1696705200@behindertenverband-leipzig.de
SUMMARY:BVL Herbstfest
DESCRIPTION:Wir laden Sie herzlich zu unserem Herbstfest in derPauluskirche in Grünau ein und freuen uns\, den Sommergemeinsam mit Ihnen bei Speis und Trank ausklingen zu lassen.Dieses Jahr dürfen wir uns auf eine magische Bühnenshowvom Zauberer Jens Breier freuen. Für die musikalische Begleitungsorgt wieder unser DJ Sondershaus. Ab 15.00 Uhr heißen wir alleherzlich willkommen\, bis 19.00 Uhr feiern wir gemeinsam.Anmeldeschluss ist der 03. Oktober 2023 telefonisch unter0341 3065120. Pauluskirche\, Alte Salzstraße 185\,04209 Leipzig Grünau
URL:https://behindertenverband-leipzig.de/event/bvl-herbstfest/
END:VEVENT
BEGIN:VEVENT
DTSTART;TZID=Europe/Berlin:20231009T140000
DTEND;TZID=Europe/Berlin:20231009T160000
DTSTAMP:20260423T135332
CREATED:20230929T072607Z
LAST-MODIFIED:20230929T072609Z
UID:3948-1696860000-1696867200@behindertenverband-leipzig.de
SUMMARY:Gruppe 40Plus
DESCRIPTION:Die Gruppe trifft sich am Montag\, dem 9. Oktober von 14.00 bis 16.00 Uhr in der Volkssolidarität.Viele Grüße Andreas
URL:https://behindertenverband-leipzig.de/event/gruppe-40plus-35/
END:VEVENT
BEGIN:VEVENT
DTSTART;TZID=Europe/Berlin:20231011T140000
DTEND;TZID=Europe/Berlin:20231011T163000
DTSTAMP:20260423T135332
CREATED:20230927T131947Z
LAST-MODIFIED:20230927T131949Z
UID:3937-1697032800-1697041800@behindertenverband-leipzig.de
SUMMARY:Café Inklusiv(e)
DESCRIPTION:Ausflug in den Botanischen Garten \n\n\n\nUm gemeinsam noch einen letzten achtsamen Blick auf die blühende Natur zu werfen und bunte Blätter zu bestaunen\, machen wir nochmals einen Ausflug in den botanischen Garten!Wir treffen uns um 14.00 vor dem Haupteingang des Botanischen Garten und erkunden dann dort gemeinsam den Beziehungspfad.Botanischer Garten\, Linnéstraße 1\, Haupteingang
URL:https://behindertenverband-leipzig.de/event/cafe-inklusive-48/
END:VEVENT
BEGIN:VEVENT
DTSTART;TZID=Europe/Berlin:20231012T140000
DTEND;TZID=Europe/Berlin:20231012T160000
DTSTAMP:20260423T135332
CREATED:20230929T072734Z
LAST-MODIFIED:20230929T072736Z
UID:3950-1697119200-1697126400@behindertenverband-leipzig.de
SUMMARY:Kreatives Gestalten
DESCRIPTION:Liebe Bastelfreundinnen und -freunde\,Halloween steht vor der Tür und wir möchten gemeinsam Kürbisse schnitzen\, die eure Veranda oder euer Fensterbrett mit ihrem schauerlichen Grinsen erhellen mögen.Wir freuen uns auf eure Teilnahme und versuchen es diesen Monat nochmals am Donnerstag.Eure Martina und JohannaHaus der Demokratie\, Raum 11
URL:https://behindertenverband-leipzig.de/event/kreatives-gestalten-23/
END:VEVENT
BEGIN:VEVENT
DTSTART;TZID=Europe/Berlin:20231013T170000
DTEND;TZID=Europe/Berlin:20231013T190000
DTSTAMP:20260423T135332
CREATED:20230927T132416Z
LAST-MODIFIED:20230927T132418Z
UID:3943-1697216400-1697223600@behindertenverband-leipzig.de
SUMMARY:Club "Die Brücke"
DESCRIPTION:Unser Stammtisch findet diesen Monat am Freitag\, dem 13. Oktober 2023 ab 17.00 Uhr in der „Kleinen Kneipe“ statt. Bitte bei mir per Email oder Handy anmelden.Gruß Bernd
URL:https://behindertenverband-leipzig.de/event/club-die-bruecke-21/
END:VEVENT
BEGIN:VEVENT
DTSTART;TZID=Europe/Berlin:20231014T100000
DTEND;TZID=Europe/Berlin:20231014T180000
DTSTAMP:20260423T135332
CREATED:20231011T084605Z
LAST-MODIFIED:20231011T084607Z
UID:3962-1697277600-1697306400@behindertenverband-leipzig.de
SUMMARY:Bach Barrierefrei
DESCRIPTION:Was bedeutet Barrierefreiheit im Museum? Wie kann es gelingen\, allen Besuchern einen möglichst uneingeschränkten Besuch zu ermöglichen? Zum Tag der Barrierefreiheit laden wir Menschen mit und ohne Behinderung zu einem inklusiven Museumserlebnis ein.  \n\n\n\nWir öffnen für Sie unsere Schränke. An Taststationen können Sie auf sinnliche Weise in die Welt des Barock eintauchen. Während eines Gesprächskonzerts erfahren Sie mehr über die Bach-Kantatentexte in Braille. Schließen Sie sich einer Führung in Leichter Sprache an oder erkunden Sie das Museum mit den inklusiven Audioguides. Neben einer Version in Leichter Sprache gibt es eine Videoführung in Gebärdensprache und eine Audioführung für blinde Menschen. Das virtuelle Orchester und die Interaktive Komponierstube laden zum Experimentieren ein. Der Tag klingt aus mit einem Konzert im historischen Sommersaal des Bosehauses. Übrigens: alle Audioführungen können kostenlos auf das eigene Smartphone geladen werden. \n\n\n\nMehr Infos: www.bachmuseumleipzig.de
URL:https://behindertenverband-leipzig.de/event/bach-barrierefrei/
LOCATION:Bachmuseum Leipzig\, Thomaskirchhof 15\,\, Leipzig\, 04109\, Deutschland
END:VEVENT
BEGIN:VEVENT
DTSTART;TZID=Europe/Berlin:20231018T140000
DTEND;TZID=Europe/Berlin:20231018T163000
DTSTAMP:20260423T135332
CREATED:20230927T132122Z
LAST-MODIFIED:20230927T132124Z
UID:3939-1697637600-1697646600@behindertenverband-leipzig.de
SUMMARY:Café Inklusiv(e)
DESCRIPTION:Barrierefreie Führung durch das Haus der Demokratie mit Ulrike BertusSeit 120 Jahren ist das Haus in der Bernhard-Göring-Straße eines der markantesten Gebäude in Connewitz. Mit unserer barrierefreien Führung möchten wir allen interessierten Menschen ermöglichen\, historische Orte in diesem Haus zu entdecken.Haus der Demokratie\, Café
URL:https://behindertenverband-leipzig.de/event/cafe-inklusive-49/
END:VEVENT
BEGIN:VEVENT
DTSTART;TZID=Europe/Berlin:20231024T130000
DTEND;TZID=Europe/Berlin:20231024T170000
DTSTAMP:20260423T135332
CREATED:20230929T072900Z
LAST-MODIFIED:20230929T072902Z
UID:3952-1698152400-1698166800@behindertenverband-leipzig.de
SUMMARY:E-Rolli Wandergruppe
DESCRIPTION:Liebe Wanderfreunde\,Achtung\, so wie wir uns beim September-ZOO-Besuch besprachen\, findet unser nächster Wandertag erst am Dienstag\, dem 24. Oktober 2023 statt. Wir wollen nach langer Zeit wieder einmal das Völkerschlachtdenkmal besuchen und den Blick auf unsere dann herbstlich bunt gefärbte Stadt genießen.Wir treffen uns also 13 Uhr am Denkmals-Vorplatz und wandern gemeinsam zum barrierefreien Eingang unter dem Sankt Michael. Den Nachmittag können wir im benachbarten Restaurant „Pelorus“ gegen 17 Uhr ausklingen lassen.Meldet euch bitte an und denkt auch an die Fahrdienstbestellung\, wenn ihr diese benötigt.Bleibt bis dahin alle gesund!Eure Gaby
URL:https://behindertenverband-leipzig.de/event/e-rolli-wandergruppe-23/
END:VEVENT
BEGIN:VEVENT
DTSTART;TZID=Europe/Berlin:20231025T140000
DTEND;TZID=Europe/Berlin:20231025T163000
DTSTAMP:20260423T135332
CREATED:20230929T073152Z
LAST-MODIFIED:20230929T073153Z
UID:3956-1698242400-1698251400@behindertenverband-leipzig.de
SUMMARY:Café inklusiv
DESCRIPTION:Wir plaudern in lockerer Atmosphäre bei Kaffee und Kuchen. \n\n\n\nHaus der Demokratie\, Café
URL:https://behindertenverband-leipzig.de/event/cafe-inklusiv-18/
END:VEVENT
BEGIN:VEVENT
DTSTART;TZID=Europe/Berlin:20231026T140000
DTEND;TZID=Europe/Berlin:20231026T160000
DTSTAMP:20260423T135332
CREATED:20230929T073011Z
LAST-MODIFIED:20230929T073012Z
UID:3954-1698328800-1698336000@behindertenverband-leipzig.de
SUMMARY:Spielenachmittag im Grassi
DESCRIPTION:Am Donnerstag\, dem 26. Oktober 2023 ab 14.00 Uhr findet wieder unser Spielenachmittag im Grassi Museum statt. Wir treffen uns um 13.45 Uhr in der Empfangshalle.Wir würden uns über eure Teilnahme freuen. Kaffee und Kuchen wird es auch geben.
URL:https://behindertenverband-leipzig.de/event/spielenachmittag-im-grassi-2/
END:VEVENT
END:VCALENDAR