BEGIN:VCALENDAR
VERSION:2.0
PRODID:-//Behindertenverband Leipzig e.V. - ECPv6.15.20//NONSGML v1.0//EN
CALSCALE:GREGORIAN
METHOD:PUBLISH
X-WR-CALNAME:Behindertenverband Leipzig e.V.
X-ORIGINAL-URL:https://behindertenverband-leipzig.de
X-WR-CALDESC:Veranstaltungen für Behindertenverband Leipzig e.V.
REFRESH-INTERVAL;VALUE=DURATION:PT1H
X-Robots-Tag:noindex
X-PUBLISHED-TTL:PT1H
BEGIN:VTIMEZONE
TZID:Europe/Berlin
BEGIN:DAYLIGHT
TZOFFSETFROM:+0100
TZOFFSETTO:+0200
TZNAME:CEST
DTSTART:20220327T010000
END:DAYLIGHT
BEGIN:STANDARD
TZOFFSETFROM:+0200
TZOFFSETTO:+0100
TZNAME:CET
DTSTART:20221030T010000
END:STANDARD
BEGIN:DAYLIGHT
TZOFFSETFROM:+0100
TZOFFSETTO:+0200
TZNAME:CEST
DTSTART:20230326T010000
END:DAYLIGHT
BEGIN:STANDARD
TZOFFSETFROM:+0200
TZOFFSETTO:+0100
TZNAME:CET
DTSTART:20231029T010000
END:STANDARD
BEGIN:DAYLIGHT
TZOFFSETFROM:+0100
TZOFFSETTO:+0200
TZNAME:CEST
DTSTART:20240331T010000
END:DAYLIGHT
BEGIN:STANDARD
TZOFFSETFROM:+0200
TZOFFSETTO:+0100
TZNAME:CET
DTSTART:20241027T010000
END:STANDARD
END:VTIMEZONE
BEGIN:VEVENT
DTSTART;TZID=Europe/Berlin:20230906T140000
DTEND;TZID=Europe/Berlin:20230906T163000
DTSTAMP:20260423T152814
CREATED:20230912T064524Z
LAST-MODIFIED:20230912T064612Z
UID:3906-1694008800-1694017800@behindertenverband-leipzig.de
SUMMARY:Café Inklusiv(e)
DESCRIPTION:Joachim Ringelnatz \n\n\n\nEinen kurzen biografischen Abriss\, seine humoristischen Gedichte und Geschichten eines großen Komödianten und Dichter seiner Zeit gibt an diesen Nachmittag Uwe Froehlich.Haus der Demokratie\, Café
URL:https://behindertenverband-leipzig.de/event/cafe-inklusive-46/
END:VEVENT
BEGIN:VEVENT
DTSTART;TZID=Europe/Berlin:20230907T140000
DTEND;TZID=Europe/Berlin:20230907T163000
DTSTAMP:20260423T152814
CREATED:20230912T064728Z
LAST-MODIFIED:20230912T064731Z
UID:3909-1694095200-1694104200@behindertenverband-leipzig.de
SUMMARY:Smartphone- & Laptopsprechstunde
DESCRIPTION:Alle brennenden Fragen und Probleme rund ums Thema Smartphone\, Laptop\, Computer und Internet beantwortet Ihnen diesen Monat Johanna Keitel. Gerne das eigene Gerät mitbringen\, es steht aber auch ein Computer zur Verfügung\, an dem wir gemeinsam lernen und ausprobieren können.Diesen Monat findet die Sprechstunde testweise mal donnerstags statt.Haus der Demokratie\, Raum 11
URL:https://behindertenverband-leipzig.de/event/smartphone-laptopsprechstunde-2/
END:VEVENT
BEGIN:VEVENT
DTSTART;TZID=Europe/Berlin:20230908T170000
DTEND;TZID=Europe/Berlin:20230908T200000
DTSTAMP:20260423T152814
CREATED:20230912T064839Z
LAST-MODIFIED:20230912T064841Z
UID:3911-1694192400-1694203200@behindertenverband-leipzig.de
SUMMARY:Club "Die Brücke"
DESCRIPTION:Der Stammtisch findet am Freitag\, dem 08. September 2023 ab 17.00 Uhr wie üblich in der „Kleinen Kneipe“ statt. Bitte bei mir per Email oder Handy anmelden.Gruß Bernd
URL:https://behindertenverband-leipzig.de/event/club-die-bruecke-20/
END:VEVENT
BEGIN:VEVENT
DTSTART;TZID=Europe/Berlin:20230910T100000
DTEND;TZID=Europe/Berlin:20230910T180000
DTSTAMP:20260423T152814
CREATED:20230912T065008Z
LAST-MODIFIED:20230912T065011Z
UID:3913-1694340000-1694368800@behindertenverband-leipzig.de
SUMMARY:Tag des offenen Denkmals
DESCRIPTION:Zum bereits 30. mal findet bundesweit am 10. September 2023 der Tag des offenen Denkmals statt. Das Motto für für dieses Jahr lautet „Talent Monument“ und möchte damit die Frage in den Raum werfen\, was ein Denkmal zu einem Denkmal macht und welche bislang unerkannten Denkmal-Talente mehr Aufmerksamkeit verdient haben.Auch in Leipzig gibt es wieder einiges zu bestaunen und erfahren. Interessierten bietet dieser Tag die Möglichkeit Orte und Gebäude zu bestaunen\, welche anderntages nicht öffentlich zugänglich ist. Bei uns im Haus der Demokratie zum Beispiel der Karzer\, die sehr ungemütliche Arrestzelle des ehemaligen Weisenhauses im Dachgeschoss. (Leider nur über eine Trittleiter begehbar) oder die Villa Krause\, welche anlässlich des 200. Geburtstags des gleichnamigen Unternehmers am Tag des offenen Denkmals für die Öffentlichkeit zugänglich sein wird.Mehr Informationen und eine Übersichtskarte\, auch mit der Möglichkeit sich nur barriefrei zugängliche Objekte anzeigen zu lassen\, finden sich der entsprechenden Internetseite unter:www.tag-des-offenen-denkmals.de
URL:https://behindertenverband-leipzig.de/event/tag-des-offenen-denkmals/
END:VEVENT
BEGIN:VEVENT
DTSTART;TZID=Europe/Berlin:20230913T140000
DTEND;TZID=Europe/Berlin:20230913T163000
DTSTAMP:20260423T152814
CREATED:20230912T065154Z
LAST-MODIFIED:20230912T065156Z
UID:3915-1694613600-1694622600@behindertenverband-leipzig.de
SUMMARY:Café Inklusiv(e): Initiative KulturLeben
DESCRIPTION:Die Initiative „KulturLeben Leipzig & Region“ wird vorgestellt. Seit 12 Jahren vermittelt sie kostenlose Eintrittskarten für Veranstaltungen aller Art an Geringverdienende (Leipzig-Pass-Besitzer-\, Bürgergeldempfängerinnen). Im Anschluss können Sie sich mithilfe der ausliegenden Flyer ganz unkompliziert bei Kulturleben anmelden\, vorausgesetzt\, Sie haben ihren Nachweis dabei. \n\n\n\nHaus der Demokratie\, Café
URL:https://behindertenverband-leipzig.de/event/cafe-inklusive-initiative-kulturleben/
END:VEVENT
BEGIN:VEVENT
DTSTART;TZID=Europe/Berlin:20230914T140000
DTEND;TZID=Europe/Berlin:20230914T163000
DTSTAMP:20260423T152814
CREATED:20230912T065310Z
LAST-MODIFIED:20230912T065312Z
UID:3917-1694700000-1694709000@behindertenverband-leipzig.de
SUMMARY:Kreatives Gestalten
DESCRIPTION:Liebe Bastelfreundinnen und -freunde\,mit der Fadentechnik-Illustration\, einer einfachen aber inspirierenden Bastelidee\, werden wir gemeinsam verblüffende Kunstwerke zaubern. Die Bilder gestalten wir auf unserem selbstgegossenen Julipapier. Wir freuen uns auf eure Teilnahme und versuchen es diesen Monat mal am Donnerstag\,eure Martina und JohannaHaus der Demokratie\, Raum 11
URL:https://behindertenverband-leipzig.de/event/kreatives-gestalten-22/
END:VEVENT
BEGIN:VEVENT
DTSTART;TZID=Europe/Berlin:20230918T140000
DTEND;TZID=Europe/Berlin:20230918T163000
DTSTAMP:20260423T152814
CREATED:20230912T065512Z
LAST-MODIFIED:20230912T075028Z
UID:3919-1695045600-1695054600@behindertenverband-leipzig.de
SUMMARY:Gruppe 40Plus
DESCRIPTION:Die Gruppe trifft sich am Montag\, dem 18. September von 14.00 bis 16.00 Uhr in der Volkssolidarität.Am Dienstag dem 12. September fahren wir nach Wittenberg\, um das Luthermuseum/ Melanchthonhaus zu besuchen.Am Sonnabend den 23. September fahren wir nach Grimma zum Stadtfest. Ablauf folgt noch.Viele Grüße Andreas
URL:https://behindertenverband-leipzig.de/event/gruppe-40plus-34/
END:VEVENT
BEGIN:VEVENT
DTSTART;TZID=Europe/Berlin:20230919T140000
DTEND;TZID=Europe/Berlin:20230919T180000
DTSTAMP:20260423T152814
CREATED:20230912T065806Z
LAST-MODIFIED:20230912T065836Z
UID:3921-1695132000-1695146400@behindertenverband-leipzig.de
SUMMARY:Zoobesuch
DESCRIPTION:Im September ist von uns auch dieses Jahr wieder ein Ausflug in den Zoo geplant und zwar gemeinsam mit der E-Rolli Wandergruppe. Es sind aber alle herzlich willkommen uns zu begleiten. Da trifft es sich hervorragend\, dass in letzter Zeit einige der dortigen Tiere fleißig für Nachwuchs gesorgt haben. Zudem hat unsere Expertin auf diesem Gebiet\, Frau Cordula Eichhorn\, sich dazu bereit erklärt an diesem Tag eine speziell für uns ausgedachte Führung anzubieten\, bei der wir die wichtigsten Attraktionen miterleben. \n\n\n\nDer Treffpunkt ist um 14.00 Uhr vor den Eingangstoren des Zoo Leipzig. Alle die gerne mitkommen möchten\, bitten wir sich zeitig bei uns im Sekretariat anzumelden und bei Bedarf bitte auch den Fahrdienst zu bestellen.
URL:https://behindertenverband-leipzig.de/event/zoobesuch-4/
END:VEVENT
BEGIN:VEVENT
DTSTART;TZID=Europe/Berlin:20230920T100000
DTEND;TZID=Europe/Berlin:20230920T140000
DTSTAMP:20260423T152814
CREATED:20230912T065947Z
LAST-MODIFIED:20230912T065949Z
UID:3924-1695204000-1695218400@behindertenverband-leipzig.de
SUMMARY:LVB Mobilitätstraining
DESCRIPTION:Die Leipziger Verkehrsbetriebe bieten am 20. September einMobilitätstraining an. Dieses findet von 10.00 bis 14.00 Uhr inder großen Wagenhalle am Straßenbahnhof Angerbrückestatt. Es richtet sich an alle Personen\, die sicheres Ein- undAussteigen an barrierefreien und nicht-barrierefreien Haltestellenausprobieren und sich darüber informieren wollen. Vorgestelltwerden dort außerdem die relativ neuen\, digitalen AngeboteFlexa und Leipzig Move.
URL:https://behindertenverband-leipzig.de/event/lvb-mobilitaetstraining/
END:VEVENT
BEGIN:VEVENT
DTSTART;TZID=Europe/Berlin:20230920T140000
DTEND;TZID=Europe/Berlin:20230920T163000
DTSTAMP:20260423T152814
CREATED:20230912T070048Z
LAST-MODIFIED:20230912T070050Z
UID:3926-1695218400-1695227400@behindertenverband-leipzig.de
SUMMARY:Café Inklusiv(e): Gedächtnistraining
DESCRIPTION:Diesen Mittwoch gestaltet für uns Anett Reichel\, zertifizierte Gedächtnistrainerin von „mobile Lichtmomente“. Den ersten Teil der Stunde wird es einen kurzen Input zum Thema Demenz/ Alzheimer geben\, darauf folgt ein lockeres Gedächtnistraining.Haus der Demokratie\, Café
URL:https://behindertenverband-leipzig.de/event/cafe-inklusive-gedaechtnistraining/
END:VEVENT
BEGIN:VEVENT
DTSTART;TZID=Europe/Berlin:20230925T140000
DTEND;TZID=Europe/Berlin:20230925T163000
DTSTAMP:20260423T152814
CREATED:20230912T070208Z
LAST-MODIFIED:20230912T070210Z
UID:3928-1695650400-1695659400@behindertenverband-leipzig.de
SUMMARY:Spielenachmittag im BVL
DESCRIPTION:Wir spielen wieder wie gewohnt im Raum 11.
URL:https://behindertenverband-leipzig.de/event/spielenachmittag-im-bvl-3/
END:VEVENT
BEGIN:VEVENT
DTSTART;TZID=Europe/Berlin:20230927T140000
DTEND;TZID=Europe/Berlin:20230927T163000
DTSTAMP:20260423T152814
CREATED:20230912T070422Z
LAST-MODIFIED:20230912T070425Z
UID:3930-1695823200-1695832200@behindertenverband-leipzig.de
SUMMARY:Café Inklusiv
DESCRIPTION:Wir trinken Kaffee und plaudern in lockerer Atmosphäre. \n\n\n\nHaus der Demokratie\, Café
URL:https://behindertenverband-leipzig.de/event/cafe-inklusiv-17/
END:VEVENT
BEGIN:VEVENT
DTSTART;TZID=Europe/Berlin:20230929T100000
DTEND;TZID=Europe/Berlin:20231001T160000
DTSTAMP:20260423T152814
CREATED:20230912T070554Z
LAST-MODIFIED:20230912T070556Z
UID:3932-1695981600-1696176000@behindertenverband-leipzig.de
SUMMARY:Modell-Hobby-Spiel Messe
DESCRIPTION:Selbstverständlich finden Sie uns auch dieses Jahr wieder miteinem Stand auf der Modell-Hobby-Spiele Messe. Diese findetvom 29. September bis zum 1. Oktober 2023 statt. Unser Standbefindet sich in Halle 2\, Stand K18.
URL:https://behindertenverband-leipzig.de/event/modell-hobby-spiel-messe/
END:VEVENT
END:VCALENDAR