BEGIN:VCALENDAR
VERSION:2.0
PRODID:-//Behindertenverband Leipzig e.V. - ECPv6.15.20//NONSGML v1.0//EN
CALSCALE:GREGORIAN
METHOD:PUBLISH
X-ORIGINAL-URL:https://behindertenverband-leipzig.de
X-WR-CALDESC:Veranstaltungen für Behindertenverband Leipzig e.V.
REFRESH-INTERVAL;VALUE=DURATION:PT1H
X-Robots-Tag:noindex
X-PUBLISHED-TTL:PT1H
BEGIN:VTIMEZONE
TZID:Europe/Berlin
BEGIN:DAYLIGHT
TZOFFSETFROM:+0100
TZOFFSETTO:+0200
TZNAME:CEST
DTSTART:20220327T010000
END:DAYLIGHT
BEGIN:STANDARD
TZOFFSETFROM:+0200
TZOFFSETTO:+0100
TZNAME:CET
DTSTART:20221030T010000
END:STANDARD
BEGIN:DAYLIGHT
TZOFFSETFROM:+0100
TZOFFSETTO:+0200
TZNAME:CEST
DTSTART:20230326T010000
END:DAYLIGHT
BEGIN:STANDARD
TZOFFSETFROM:+0200
TZOFFSETTO:+0100
TZNAME:CET
DTSTART:20231029T010000
END:STANDARD
BEGIN:DAYLIGHT
TZOFFSETFROM:+0100
TZOFFSETTO:+0200
TZNAME:CEST
DTSTART:20240331T010000
END:DAYLIGHT
BEGIN:STANDARD
TZOFFSETFROM:+0200
TZOFFSETTO:+0100
TZNAME:CET
DTSTART:20241027T010000
END:STANDARD
END:VTIMEZONE
BEGIN:VEVENT
DTSTART;TZID=Europe/Berlin:20230803T140000
DTEND;TZID=Europe/Berlin:20230803T163000
DTSTAMP:20260423T170457
CREATED:20230802T065830Z
LAST-MODIFIED:20230802T065832Z
UID:3874-1691071200-1691080200@behindertenverband-leipzig.de
SUMMARY:Café inklusiv
DESCRIPTION:Wir plaudern in lockerer Atmosphäre bei Kaffee und Kuchen. \n\n\n\nHaus der Demokratie\, Café
URL:https://behindertenverband-leipzig.de/event/cafe-inklusiv-12/
END:VEVENT
BEGIN:VEVENT
DTSTART;TZID=Europe/Berlin:20230807T140000
DTEND;TZID=Europe/Berlin:20230807T160000
DTSTAMP:20260423T170457
CREATED:20230802T065953Z
LAST-MODIFIED:20230802T065956Z
UID:3876-1691416800-1691424000@behindertenverband-leipzig.de
SUMMARY:Gruppe 40Plus
DESCRIPTION:Die Gruppe 40 plus trifft sich am Montag\, dem 7. August von 14.00 bis 16.00 Uhr in der Volkssolidarität.Viele Grüße Andreas
URL:https://behindertenverband-leipzig.de/event/gruppe-40plus-33/
END:VEVENT
BEGIN:VEVENT
DTSTART;TZID=Europe/Berlin:20230807T143000
DTEND;TZID=Europe/Berlin:20230807T160000
DTSTAMP:20260423T170457
CREATED:20230802T070136Z
LAST-MODIFIED:20230802T070140Z
UID:3878-1691418600-1691424000@behindertenverband-leipzig.de
SUMMARY:Smartphone & Laptop Sprechstunde
DESCRIPTION:Alle brennenden Fragen und Probleme rund ums Thema Smartphone\, Laptop\, Computer und Internet beantwortet Ihnen Johanna Keitel. Gerne das eigene Gerät mitbringen\, es steht aber auch ein Computer zur Verfügung\, an dem wir gemeinsam lernen und ausprobieren können.Haus der Demokratie\, Raum 11
URL:https://behindertenverband-leipzig.de/event/smartphone-laptop-sprechstunde-4/
END:VEVENT
BEGIN:VEVENT
DTSTART;TZID=Europe/Berlin:20230809T140000
DTEND;TZID=Europe/Berlin:20230809T163000
DTSTAMP:20260423T170457
CREATED:20230802T070353Z
LAST-MODIFIED:20230802T070356Z
UID:3880-1691589600-1691598600@behindertenverband-leipzig.de
SUMMARY:Café inklusiv
DESCRIPTION:Wir plaudern in lockerer Atmosphäre bei Kaffee und Kuchen. \n\n\n\nHaus der Demokratie\, Café
URL:https://behindertenverband-leipzig.de/event/cafe-inklusiv-13/
END:VEVENT
BEGIN:VEVENT
DTSTART;TZID=Europe/Berlin:20230811T170000
DTEND;TZID=Europe/Berlin:20230811T190000
DTSTAMP:20260423T170457
CREATED:20230802T070718Z
LAST-MODIFIED:20230802T070720Z
UID:3888-1691773200-1691780400@behindertenverband-leipzig.de
SUMMARY:Club "Die Brücke"
DESCRIPTION:Unser Stammtisch findet am Freitag\, dem 11. August ab 17.00 Uhr in der „Kleinen Kneipe“ statt. Bitte bei mir per Email oder Handy anmelden. Bis dahin! Gruß\, Bernd
URL:https://behindertenverband-leipzig.de/event/club-die-bruecke-19/
END:VEVENT
BEGIN:VEVENT
DTSTART;TZID=Europe/Berlin:20230814T140000
DTEND;TZID=Europe/Berlin:20230814T160000
DTSTAMP:20260423T170457
CREATED:20230802T070850Z
LAST-MODIFIED:20230802T070852Z
UID:3890-1692021600-1692028800@behindertenverband-leipzig.de
SUMMARY:Kreatives Gestalten
DESCRIPTION:Liebe Bastelfreundinnen und -freunde\,an diesem sommerlichen Montagnachmittag finden wir uns zusammen\, um gemeinsam Fischanhänger aus Krepppapier zu basteln. Die Krepppapier-Fische wirken besonders hübsch\, wenn sie leicht im Wind flattern. Dafür könnt ihr sie an einem Perlonfaden von der Decke oder an einer Gardienenstange abhängen.Wir freuen uns auf eure Teilnahme\,Martina & JohannaHaus der Demokratie\, Raum 11
URL:https://behindertenverband-leipzig.de/event/kreatives-gestalten-21/
END:VEVENT
BEGIN:VEVENT
DTSTART;TZID=Europe/Berlin:20230816T140000
DTEND;TZID=Europe/Berlin:20230816T163000
DTSTAMP:20260423T170457
CREATED:20230802T070436Z
LAST-MODIFIED:20230802T070438Z
UID:3882-1692194400-1692203400@behindertenverband-leipzig.de
SUMMARY:Café inklusiv
DESCRIPTION:Wir plaudern in lockerer Atmosphäre bei Kaffee und Kuchen. \n\n\n\nHaus der Demokratie\, Café
URL:https://behindertenverband-leipzig.de/event/cafe-inklusiv-14/
END:VEVENT
BEGIN:VEVENT
DTSTART;TZID=Europe/Berlin:20230821T140000
DTEND;TZID=Europe/Berlin:20230821T160000
DTSTAMP:20260423T170457
CREATED:20230802T071028Z
LAST-MODIFIED:20230802T071030Z
UID:3892-1692626400-1692633600@behindertenverband-leipzig.de
SUMMARY:Spielenachmittag im BVL
DESCRIPTION:Haus der Demokratie\, Raum 11
URL:https://behindertenverband-leipzig.de/event/spielenachmittag-im-bvl-2/
END:VEVENT
BEGIN:VEVENT
DTSTART;TZID=Europe/Berlin:20230823T140000
DTEND;TZID=Europe/Berlin:20230823T163000
DTSTAMP:20260423T170457
CREATED:20230802T070508Z
LAST-MODIFIED:20230802T070510Z
UID:3884-1692799200-1692808200@behindertenverband-leipzig.de
SUMMARY:Café inklusiv
DESCRIPTION:Wir plaudern in lockerer Atmosphäre bei Kaffee und Kuchen. \n\n\n\nHaus der Demokratie\, Café
URL:https://behindertenverband-leipzig.de/event/cafe-inklusiv-15/
END:VEVENT
BEGIN:VEVENT
DTSTART;TZID=Europe/Berlin:20230825T160000
DTEND;TZID=Europe/Berlin:20230825T180000
DTSTAMP:20260423T170457
CREATED:20230802T071228Z
LAST-MODIFIED:20230802T071230Z
UID:3894-1692979200-1692986400@behindertenverband-leipzig.de
SUMMARY:Rolli-Kegeln
DESCRIPTION:Die Rolli-Kegler treffen sich wie gewohnt am letzten Freitag des Monats beim SV Lok Engelsdorf.
URL:https://behindertenverband-leipzig.de/event/rolli-kegeln-16/
END:VEVENT
BEGIN:VEVENT
DTSTART;TZID=Europe/Berlin:20230826T100000
DTEND;TZID=Europe/Berlin:20230826T160000
DTSTAMP:20260423T170457
CREATED:20230802T071359Z
LAST-MODIFIED:20230802T071402Z
UID:3896-1693044000-1693065600@behindertenverband-leipzig.de
SUMMARY:4. Leipziger Inklusives Sportfest
DESCRIPTION:Das Bildungswerk Leipzig für Hör- und Sprachgeschädigte richtet am Samstag dem 26. August ab 10.00 Uhr in Leipzig Knautkleeberg\, Knautnaundorfer Straße 4 ein inklusives Sportfest aus. Alle sind herzlich eingeladen zum Mitmachen und Ausprobieren. Zum Beispiel Rollstuhlrugby\, Sitzvolleyball\, Tennis und vieles mehr. Einige unserer kegelnden Mitglieder werden mit ihrer Schiene auch vor Ort sein. \n\n\n\nLeipzig Knautkleeberg\, Knautnaundorfer Straße 4
URL:https://behindertenverband-leipzig.de/event/4-leipziger-inklusives-sportfest/
END:VEVENT
BEGIN:VEVENT
DTSTART;TZID=Europe/Berlin:20230830T140000
DTEND;TZID=Europe/Berlin:20230830T163000
DTSTAMP:20260423T170457
CREATED:20230802T070540Z
LAST-MODIFIED:20230802T070542Z
UID:3886-1693404000-1693413000@behindertenverband-leipzig.de
SUMMARY:Café inklusiv
DESCRIPTION:Wir plaudern in lockerer Atmosphäre bei Kaffee und Kuchen. \n\n\n\nHaus der Demokratie\, Café
URL:https://behindertenverband-leipzig.de/event/cafe-inklusiv-16/
END:VEVENT
BEGIN:VEVENT
DTSTART;TZID=Europe/Berlin:20230831T140000
DTEND;TZID=Europe/Berlin:20230831T160000
DTSTAMP:20260423T170457
CREATED:20230802T071516Z
LAST-MODIFIED:20230802T071518Z
UID:3898-1693490400-1693497600@behindertenverband-leipzig.de
SUMMARY:Spielenachmittag im Grassi Museum
DESCRIPTION:Donnertag\, den 31. August 2023 ab 14.00 Uhr\, treffen 13.45 Uhr in der Empfangshalle. Wir würden uns über eure Teilnahme freuen. Kaffee und Kuchen wird es geben. Gruß\, Bernd
URL:https://behindertenverband-leipzig.de/event/spielenachmittag-im-grassi-museum-4/
END:VEVENT
END:VCALENDAR