BEGIN:VCALENDAR
VERSION:2.0
PRODID:-//Behindertenverband Leipzig e.V. - ECPv6.15.20//NONSGML v1.0//EN
CALSCALE:GREGORIAN
METHOD:PUBLISH
X-ORIGINAL-URL:https://behindertenverband-leipzig.de
X-WR-CALDESC:Veranstaltungen für Behindertenverband Leipzig e.V.
REFRESH-INTERVAL;VALUE=DURATION:PT1H
X-Robots-Tag:noindex
X-PUBLISHED-TTL:PT1H
BEGIN:VTIMEZONE
TZID:Europe/Berlin
BEGIN:DAYLIGHT
TZOFFSETFROM:+0100
TZOFFSETTO:+0200
TZNAME:CEST
DTSTART:20220327T010000
END:DAYLIGHT
BEGIN:STANDARD
TZOFFSETFROM:+0200
TZOFFSETTO:+0100
TZNAME:CET
DTSTART:20221030T010000
END:STANDARD
BEGIN:DAYLIGHT
TZOFFSETFROM:+0100
TZOFFSETTO:+0200
TZNAME:CEST
DTSTART:20230326T010000
END:DAYLIGHT
BEGIN:STANDARD
TZOFFSETFROM:+0200
TZOFFSETTO:+0100
TZNAME:CET
DTSTART:20231029T010000
END:STANDARD
BEGIN:DAYLIGHT
TZOFFSETFROM:+0100
TZOFFSETTO:+0200
TZNAME:CEST
DTSTART:20240331T010000
END:DAYLIGHT
BEGIN:STANDARD
TZOFFSETFROM:+0200
TZOFFSETTO:+0100
TZNAME:CET
DTSTART:20241027T010000
END:STANDARD
END:VTIMEZONE
BEGIN:VEVENT
DTSTART;TZID=Europe/Berlin:20230501T000000
DTEND;TZID=Europe/Berlin:20230501T235959
DTSTAMP:20260423T212645
CREATED:20230403T092843Z
LAST-MODIFIED:20230403T092843Z
UID:3767-1682899200-1682985599@behindertenverband-leipzig.de
SUMMARY:Pokalkegeln auf dem Sportplatz Engelsdorf
DESCRIPTION:
URL:https://behindertenverband-leipzig.de/event/pokalkegeln-auf-dem-sportplatz-engelsdorf/
END:VEVENT
BEGIN:VEVENT
DTSTART;TZID=Europe/Berlin:20230506T140000
DTEND;TZID=Europe/Berlin:20230506T180000
DTSTAMP:20260423T212645
CREATED:20230504T072254Z
LAST-MODIFIED:20230504T072255Z
UID:3782-1683381600-1683396000@behindertenverband-leipzig.de
SUMMARY:Aktionstag für Menschen mit Behinderung
DESCRIPTION:Großer Aktionstag zur Gleichstellung von Menschen mit Behinderung inklusive Kundgebung\, Informationsständen & Unterhaltung am historischen Marktplatz in der Innenstadt. \n\n\n\nMarkt 1a\, 04109 Leipzig
URL:https://behindertenverband-leipzig.de/event/aktionstag-fuer-menschen-mit-behinderung/
END:VEVENT
BEGIN:VEVENT
DTSTART;TZID=Europe/Berlin:20230508T140000
DTEND;TZID=Europe/Berlin:20230508T160000
DTSTAMP:20260423T212645
CREATED:20230504T072402Z
LAST-MODIFIED:20230504T072404Z
UID:3784-1683554400-1683561600@behindertenverband-leipzig.de
SUMMARY:Gruppe 40Plus
DESCRIPTION:Die Gruppe 40Plus trifft sich am Montag\, dem 8. Mai von 14.00 bis 16.00 Uhr in der Volkssolidarität. \n\n\n\nViele Grüße Andreas
URL:https://behindertenverband-leipzig.de/event/gruppe-40plus-30/
END:VEVENT
BEGIN:VEVENT
DTSTART;TZID=Europe/Berlin:20230509T143000
DTEND;TZID=Europe/Berlin:20230509T160000
DTSTAMP:20260423T212645
CREATED:20230504T072547Z
LAST-MODIFIED:20230504T072549Z
UID:3786-1683642600-1683648000@behindertenverband-leipzig.de
SUMMARY:Laptop & Smartphone Sprechstunde
DESCRIPTION:Alle brennenden Fragen und Probleme rund ums Thema Smartphone\, Laptop\, Computer und Internet beantwortet Ihnen Johanna Keitel. Gerne das eigene Gerät mitbringen\, es steht aber auch ein Computer zur Verfügung\, an dem wir gemeinsam lernen und ausprobieren können.Haus der Demokratie\, Raum 11
URL:https://behindertenverband-leipzig.de/event/laptop-smartphone-sprechstunde/
END:VEVENT
BEGIN:VEVENT
DTSTART;TZID=Europe/Berlin:20230510T140000
DTEND;TZID=Europe/Berlin:20230510T163000
DTSTAMP:20260423T212645
CREATED:20230504T072753Z
LAST-MODIFIED:20230504T072755Z
UID:3788-1683727200-1683736200@behindertenverband-leipzig.de
SUMMARY:Café Inklusiv
DESCRIPTION:
URL:https://behindertenverband-leipzig.de/event/cafe-inklusiv-7/
END:VEVENT
BEGIN:VEVENT
DTSTART;TZID=Europe/Berlin:20230511T143000
DTEND;TZID=Europe/Berlin:20230511T163000
DTSTAMP:20260423T212645
CREATED:20230504T072950Z
LAST-MODIFIED:20230504T073324Z
UID:3790-1683815400-1683822600@behindertenverband-leipzig.de
SUMMARY:Kreatives Gestalten
DESCRIPTION:Liebe Bastelfreunde und -freundinnen\,diesen Donnerstag treffen wir uns\, um gemeinsam süße kleine Insektenhotels aus alten Dosen zu basteln. Die Hotels verkleiden wir wie Käfer\, damit sie dekorativ überall aufgehängt werden können. \n\n\n\nWir freuen uns auf euch\, eure Martina und Johanna.Haus der Demokratie\, Raum 11
URL:https://behindertenverband-leipzig.de/event/kreatives-gestalten-19/
END:VEVENT
BEGIN:VEVENT
DTSTART;TZID=Europe/Berlin:20230512T170000
DTEND;TZID=Europe/Berlin:20230512T200000
DTSTAMP:20260423T212645
CREATED:20230504T073451Z
LAST-MODIFIED:20230504T073452Z
UID:3796-1683910800-1683921600@behindertenverband-leipzig.de
SUMMARY:Die Brücke: Stammtisch
DESCRIPTION:Unser Stammtisch findet am Freitag\, dem 12. Mai ab 17.00 Uhr in der „Kleinen Kneipe“ statt. Bitte meldet euch bei mir an\, per E-Mail oder Handy. Bis dahin!Gruß Bernd
URL:https://behindertenverband-leipzig.de/event/die-bruecke-stammtisch-3/
END:VEVENT
BEGIN:VEVENT
DTSTART;TZID=Europe/Berlin:20230515T140000
DTEND;TZID=Europe/Berlin:20230515T160000
DTSTAMP:20260423T212645
CREATED:20230504T073643Z
LAST-MODIFIED:20230504T073645Z
UID:3798-1684159200-1684166400@behindertenverband-leipzig.de
SUMMARY:Spielenachmittag
DESCRIPTION:Haus der Demokratie\, Raum 11
URL:https://behindertenverband-leipzig.de/event/spielenachmittag-13/
END:VEVENT
BEGIN:VEVENT
DTSTART;TZID=Europe/Berlin:20230516T130000
DTEND;TZID=Europe/Berlin:20230516T163000
DTSTAMP:20260423T212645
CREATED:20230504T073833Z
LAST-MODIFIED:20230504T073834Z
UID:3800-1684242000-1684254600@behindertenverband-leipzig.de
SUMMARY:E-Rolli Wandergruppe
DESCRIPTION:Liebe Wanderfreunde\,im Mai wandern wir ins Grüne und schauen uns mal wieder den Wildpark an. Leider war unser geplanter Herbstausflug ja wortwörtlich ins Wasser gefallen. Wir treffen uns also am Dienstag\, dem 16. Mai 2023 um 13.00 Uhr am Connewitzer Kreuz\, genau an der Grünfläche neben der Südbrause und wandern dann zum Wildpark. Dort können wir den Erlebnispfad durch das Wildgehege nutzen und finden sicherlich auch eine Imbissmöglichkeit. Gegen 16.30 Uhr beenden wir unser Treffen am Haupteingang Koburger Straße. Bitte meldet euch an und denkt an die Bestellung des Fahrdienstes.Bleibt gesund! \n\n\n\nEure Gaby und Roland
URL:https://behindertenverband-leipzig.de/event/e-rolli-wandergruppe-21/
END:VEVENT
BEGIN:VEVENT
DTSTART;TZID=Europe/Berlin:20230517T140000
DTEND;TZID=Europe/Berlin:20230517T160000
DTSTAMP:20260423T212645
CREATED:20230504T074025Z
LAST-MODIFIED:20230504T074043Z
UID:3803-1684332000-1684339200@behindertenverband-leipzig.de
SUMMARY:Café Inklusive(e)\, Kinderchor
DESCRIPTION:Der Kinderchor des Evangelischen Schulzentrums Leipzig besteht aus Schülerinnen und Schülern der 5. und 6. Klasse. Unter der Leitung von Deborah Fröhlich und Constantin Rinke erarbeiten die 13 jungen Sängerinnen und Sänger seit Beginn des Schuljahres 2022 mit viel Freude und Hingabe ein vielseitiges Programm. Freuen Sie sich auf ein Repertoire mit Liedern unterschiedlichster Genres.Haus der Demokratie\, Café
URL:https://behindertenverband-leipzig.de/event/cafe-inklusivee-kinderchor/
END:VEVENT
BEGIN:VEVENT
DTSTART;TZID=Europe/Berlin:20230524T140000
DTEND;TZID=Europe/Berlin:20230524T160000
DTSTAMP:20260423T212645
CREATED:20230504T074233Z
LAST-MODIFIED:20230504T074252Z
UID:3806-1684936800-1684944000@behindertenverband-leipzig.de
SUMMARY:Café Inklusiv(e)\, Audiodeskription
DESCRIPTION:Gesprächsrunde zum Thema Audiodeskription \n\n\n\nMit Tomke Koop und Florian Eib begrüßen wir zwei Experten für Audiodeskription. Mit ihrer Firma HörMal Audiodeskription machen sich die beiden seit einigen Jahren für Barrierefreiheit bei öffentlichen Großveranstaltungen stark. Sie beantworten uns gerne alle Fragen zum Thema Audiodeskription\, deren technische Umsetzung und dazugehörende Services wie barrierefreies Ticketing sowie Begleitservices.Haus der Demokratie\, Café
URL:https://behindertenverband-leipzig.de/event/cafe-inklusive-audiodeskription/
END:VEVENT
BEGIN:VEVENT
DTSTART;TZID=Europe/Berlin:20230526T160000
DTEND;TZID=Europe/Berlin:20230526T180000
DTSTAMP:20260423T212645
CREATED:20230504T074452Z
LAST-MODIFIED:20230504T074454Z
UID:3809-1685116800-1685124000@behindertenverband-leipzig.de
SUMMARY:Rolli-Kegeln
DESCRIPTION:Die Rolli-Kegler treffen sich wie gewohnt beim SV Lok Engelsdorf.
URL:https://behindertenverband-leipzig.de/event/rolli-kegeln-14/
END:VEVENT
BEGIN:VEVENT
DTSTART;TZID=Europe/Berlin:20230531T140000
DTEND;TZID=Europe/Berlin:20230531T160000
DTSTAMP:20260423T212645
CREATED:20230504T074553Z
LAST-MODIFIED:20230504T074608Z
UID:3811-1685541600-1685548800@behindertenverband-leipzig.de
SUMMARY:Café Inklusiv
DESCRIPTION:Haus der Demokratie\, Café
URL:https://behindertenverband-leipzig.de/event/cafe-inklusiv-8/
END:VEVENT
END:VCALENDAR