BEGIN:VCALENDAR
VERSION:2.0
PRODID:-//Behindertenverband Leipzig e.V. - ECPv6.15.20//NONSGML v1.0//EN
CALSCALE:GREGORIAN
METHOD:PUBLISH
X-ORIGINAL-URL:https://behindertenverband-leipzig.de
X-WR-CALDESC:Veranstaltungen für Behindertenverband Leipzig e.V.
REFRESH-INTERVAL;VALUE=DURATION:PT1H
X-Robots-Tag:noindex
X-PUBLISHED-TTL:PT1H
BEGIN:VTIMEZONE
TZID:Europe/Berlin
BEGIN:DAYLIGHT
TZOFFSETFROM:+0100
TZOFFSETTO:+0200
TZNAME:CEST
DTSTART:20220327T010000
END:DAYLIGHT
BEGIN:STANDARD
TZOFFSETFROM:+0200
TZOFFSETTO:+0100
TZNAME:CET
DTSTART:20221030T010000
END:STANDARD
BEGIN:DAYLIGHT
TZOFFSETFROM:+0100
TZOFFSETTO:+0200
TZNAME:CEST
DTSTART:20230326T010000
END:DAYLIGHT
BEGIN:STANDARD
TZOFFSETFROM:+0200
TZOFFSETTO:+0100
TZNAME:CET
DTSTART:20231029T010000
END:STANDARD
BEGIN:DAYLIGHT
TZOFFSETFROM:+0100
TZOFFSETTO:+0200
TZNAME:CEST
DTSTART:20240331T010000
END:DAYLIGHT
BEGIN:STANDARD
TZOFFSETFROM:+0200
TZOFFSETTO:+0100
TZNAME:CET
DTSTART:20241027T010000
END:STANDARD
END:VTIMEZONE
BEGIN:VEVENT
DTSTART;TZID=Europe/Berlin:20230403T140000
DTEND;TZID=Europe/Berlin:20230403T160000
DTSTAMP:20260423T225346
CREATED:20230403T084621Z
LAST-MODIFIED:20230403T084622Z
UID:3744-1680530400-1680537600@behindertenverband-leipzig.de
SUMMARY:Gruppe 40 Plus
DESCRIPTION:Die Gruppe 40 plus trifft sich am Montag\, dem 3. April von 14.00 bis 16.00 Uhr in der Volkssolidarität.Viele Grüße Andreas
URL:https://behindertenverband-leipzig.de/event/gruppe-40-plus-2/
END:VEVENT
BEGIN:VEVENT
DTSTART;TZID=Europe/Berlin:20230403T143000
DTEND;TZID=Europe/Berlin:20230403T160000
DTSTAMP:20260423T225346
CREATED:20230403T084230Z
LAST-MODIFIED:20230403T084231Z
UID:3742-1680532200-1680537600@behindertenverband-leipzig.de
SUMMARY:Smartphone- & Laptopsprechstunde
DESCRIPTION:Alle brennenden Fragen und Probleme rund ums Thema Smartphone\, Laptop\, Computer und Internet beantwortet Ihnen diese Woche Tom Semmelroth\, als Urlaubsvertretung für Johanna Keitel. Gerne das eigene Gerät mitbringen\, es steht aber auch ein Computer zur Verfügung\, an dem wir gemeinsam lernen und ausprobieren können.Montag 03.04.2023 14.30 – 16.00 UhrHaus der Demokratie\, Raum 11
URL:https://behindertenverband-leipzig.de/event/smartphone-laptopsprechstunde/
END:VEVENT
BEGIN:VEVENT
DTSTART;TZID=Europe/Berlin:20230405T140000
DTEND;TZID=Europe/Berlin:20230405T160000
DTSTAMP:20260423T225346
CREATED:20230403T084830Z
LAST-MODIFIED:20230403T084831Z
UID:3746-1680703200-1680710400@behindertenverband-leipzig.de
SUMMARY:Café Inklusiv(e)\, Buchvorstellung
DESCRIPTION:Buchvorstellung „Selam Neue Blume“Wir möchten Euch gerne unser neues Buch vorstellen.Dazu haben wir für diesen Monat eine Lesung bei uns imCafé geplant. Unseren rollstuhlfahrenden Löwen verschlägt esdiesmal in die weit entfernte Partnerstadt Leipzigs Addis Abeba.Unser Mitarbeiter Tom Semmelroth wird ein paar ausgewählteKapitel daraus vortragen und kann somit auch schon einmal fürdie Lesungen auf der Buchmesse Ende April üben.Mittwoch\, 05. 04. 2023\, 14.00 – 16.00 UhrHaus der Demokratie\, Café
URL:https://behindertenverband-leipzig.de/event/cafe-inklusive-buchvorstellung/
END:VEVENT
BEGIN:VEVENT
DTSTART;TZID=Europe/Berlin:20230411T140000
DTEND;TZID=Europe/Berlin:20230411T160000
DTSTAMP:20260423T225346
CREATED:20230403T085021Z
LAST-MODIFIED:20230403T085022Z
UID:3748-1681221600-1681228800@behindertenverband-leipzig.de
SUMMARY:Kreatives Gestalten
DESCRIPTION:Liebe Bastelfreunde und -freundinnen\,diesen Monat treffen wir uns am Dienstag\, da der Montagein Feiertag ist! Wir wollen gemeinsam schönen Tischschmuckfür das anstehende Frühlingsfest basteln.Wir freuen uns auf eure Teilnahme\,eure MartinaDienstag\, 11. 04. 2023\, 14.00 – 16.00 UhrHaus der Demokratie\, Raum 11
URL:https://behindertenverband-leipzig.de/event/kreatives-gestalten-18/
END:VEVENT
BEGIN:VEVENT
DTSTART;TZID=Europe/Berlin:20230412T140000
DTEND;TZID=Europe/Berlin:20230412T160000
DTSTAMP:20260423T225346
CREATED:20230403T085130Z
LAST-MODIFIED:20230403T085131Z
UID:3750-1681308000-1681315200@behindertenverband-leipzig.de
SUMMARY:Café Inklusiv
DESCRIPTION:
URL:https://behindertenverband-leipzig.de/event/cafe-inklusiv-5/
END:VEVENT
BEGIN:VEVENT
DTSTART;TZID=Europe/Berlin:20230414T000000
DTEND;TZID=Europe/Berlin:20230414T235959
DTSTAMP:20260423T225346
CREATED:20230403T092612Z
LAST-MODIFIED:20230403T092613Z
UID:3765-1681430400-1681516799@behindertenverband-leipzig.de
SUMMARY:Rolli Kegeln: Sportplatz Engelsdorf
DESCRIPTION:
URL:https://behindertenverband-leipzig.de/event/rolli-kegeln-sportplatz-engelsdorf-2/
END:VEVENT
BEGIN:VEVENT
DTSTART;TZID=Europe/Berlin:20230414T170000
DTEND;TZID=Europe/Berlin:20230414T170000
DTSTAMP:20260423T225346
CREATED:20230403T085327Z
LAST-MODIFIED:20230403T085328Z
UID:3752-1681491600-1681491600@behindertenverband-leipzig.de
SUMMARY:Die Brücke: Stammtisch
DESCRIPTION:Unser Stammtisch findet am Freitag\, dem 14. April ab 17.00 Uhr in der „ Kleinen Kneipe“ statt. Bitte meldet euch bei mir an\, per E-mail oder Handy (015758836285).Bis dahin!Gruß\, Bernd
URL:https://behindertenverband-leipzig.de/event/die-bruecke-stammtisch-2/
END:VEVENT
BEGIN:VEVENT
DTSTART;TZID=Europe/Berlin:20230417T140000
DTEND;TZID=Europe/Berlin:20230417T160000
DTSTAMP:20260423T225346
CREATED:20230403T085804Z
LAST-MODIFIED:20230403T085805Z
UID:3754-1681740000-1681747200@behindertenverband-leipzig.de
SUMMARY:Spielenachmittag im Grassi Museum
DESCRIPTION:Diese Woche findet der Spielenachmittag wieder im Bonvenon Raum des Grassi Museums statt.
URL:https://behindertenverband-leipzig.de/event/spielenachmittag-im-grassi-museum-3/
END:VEVENT
BEGIN:VEVENT
DTSTART;TZID=Europe/Berlin:20230418T130000
DTEND;TZID=Europe/Berlin:20230418T130000
DTSTAMP:20260423T225346
CREATED:20230403T090158Z
LAST-MODIFIED:20230403T090159Z
UID:3756-1681822800-1681822800@behindertenverband-leipzig.de
SUMMARY:E-Rolli-Wandergruppe
DESCRIPTION:Liebe Wanderfreunde\,am Dienstag\, dem 18. April 2023 treffen wir uns um 13 Uhr vor dem Leipziger Stadtarchiv auf der Alten Messe. Ihr findet dies im ehemaligen sowjetischen Pavillon in der Straße des 18. Oktober 42 in 04103 Leipzig\, unweit des HIT-Marktes. Wir werden die neuen Räumlichkeiten mit einer Führung erkunden. Bleibt bis dahin gesund und verbringt ein fröhliches Osterfest. Wir freuen uns und sind gespannt.Eure Gaby und Roland
URL:https://behindertenverband-leipzig.de/event/e-rolli-wandergruppe-20/
END:VEVENT
BEGIN:VEVENT
DTSTART;TZID=Europe/Berlin:20230419T140000
DTEND;TZID=Europe/Berlin:20230419T160000
DTSTAMP:20260423T225346
CREATED:20230403T090533Z
LAST-MODIFIED:20230403T090534Z
UID:3758-1681912800-1681920000@behindertenverband-leipzig.de
SUMMARY:Café Inklusiv(e)\, Botanischer Garten
DESCRIPTION:Ausflug in den Botanischen GartenPassend zum Frühlingsbeginn möchten wir diesen Mittwoch nutzen\, um gemeinsam einen Ausflug in den Botanischen Garten zu machen. Dort wird in Kürze alles zu blühen und zusprießen beginnen – das wollen wir uns nicht entgehen lassen! Wir treffen uns um 14.30 Uhr vor dem Haupteingang des Botanischen Gartens und erkunden dann dort gemeinsam den Kuriositätenpfad.Mittwoch\, 19. 04. 2023\, 14.00 – 16.00 UhrBotanischer Garten\, Linnéstraße 1\, 04103 Leipzig
URL:https://behindertenverband-leipzig.de/event/cafe-inklusive-botanischer-garten/
END:VEVENT
BEGIN:VEVENT
DTSTART;TZID=Europe/Berlin:20230422T150000
DTEND;TZID=Europe/Berlin:20230422T190000
DTSTAMP:20260423T225346
CREATED:20230403T090820Z
LAST-MODIFIED:20230419T130637Z
UID:3760-1682175600-1682190000@behindertenverband-leipzig.de
SUMMARY:Frühlingsfest - Achtung neuer Veranstaltungsort!!!
DESCRIPTION:Den Frühlingsanfang\, der dieses Jahr nun wieder allzu lange hat auf sich warten lassen\, möchten wir gemeinsam mit Ihnen feierlich begrüßen. Wir laden Sie herzlich zu unserem Frühlingsfest am Samstag\, dem 22. April\, in der St. Martins Kirche in die Ev.-Luth. Pauluskirchgemeinde  in Grünau ein.  \n\n\n\nDieses Jahr dürfen wir uns auf Unterhaltung durch das Seniorenkabarett „die Spottvögel“ freuen: einem Ensemble der besonderen Art. Für die musikalische Begleitung sorgt DJ Sondershaus. Ab 15.00 Uhr heißen wir alle herzlich willkommen\, bis 19.00 Uhr feiern wir gemeinsam.  \n\n\n\nDie Teilnahmegebühr liegt bei 10\,- EUR.Anmeldeschluss ist der 18.04.23\, Tel.: 0341 3065 120(Wenn es für Sie gerade nicht möglich ist die Teilnahmegebühr zu entrichten\, dann melden Sie sich bitte und wir finden gemeinsam eine Lösung!)Tel.: 0341 3065 121 – Frau Keitel oderTel.: 0341 3065 122 – Frau Berger \n\n\n\nSamstag\, 22.04.23\, 15.00 – 19.00 UhrEv.-Luth. Pauluskirchgemeinde\, Alte Salzstr. 185\,04209 Leipzig
URL:https://behindertenverband-leipzig.de/event/fruehlingsfest/
END:VEVENT
BEGIN:VEVENT
DTSTART;TZID=Europe/Berlin:20230426T140000
DTEND;TZID=Europe/Berlin:20230426T160000
DTSTAMP:20260423T225346
CREATED:20230403T090920Z
LAST-MODIFIED:20230403T090921Z
UID:3762-1682517600-1682524800@behindertenverband-leipzig.de
SUMMARY:Café Inklusiv
DESCRIPTION:
URL:https://behindertenverband-leipzig.de/event/cafe-inklusiv-6/
END:VEVENT
END:VCALENDAR