BEGIN:VCALENDAR
VERSION:2.0
PRODID:-//Behindertenverband Leipzig e.V. - ECPv6.15.20//NONSGML v1.0//EN
CALSCALE:GREGORIAN
METHOD:PUBLISH
X-WR-CALNAME:Behindertenverband Leipzig e.V.
X-ORIGINAL-URL:https://behindertenverband-leipzig.de
X-WR-CALDESC:Veranstaltungen für Behindertenverband Leipzig e.V.
REFRESH-INTERVAL;VALUE=DURATION:PT1H
X-Robots-Tag:noindex
X-PUBLISHED-TTL:PT1H
BEGIN:VTIMEZONE
TZID:Europe/Berlin
BEGIN:DAYLIGHT
TZOFFSETFROM:+0100
TZOFFSETTO:+0200
TZNAME:CEST
DTSTART:20220327T010000
END:DAYLIGHT
BEGIN:STANDARD
TZOFFSETFROM:+0200
TZOFFSETTO:+0100
TZNAME:CET
DTSTART:20221030T010000
END:STANDARD
BEGIN:DAYLIGHT
TZOFFSETFROM:+0100
TZOFFSETTO:+0200
TZNAME:CEST
DTSTART:20230326T010000
END:DAYLIGHT
BEGIN:STANDARD
TZOFFSETFROM:+0200
TZOFFSETTO:+0100
TZNAME:CET
DTSTART:20231029T010000
END:STANDARD
BEGIN:DAYLIGHT
TZOFFSETFROM:+0100
TZOFFSETTO:+0200
TZNAME:CEST
DTSTART:20240331T010000
END:DAYLIGHT
BEGIN:STANDARD
TZOFFSETFROM:+0200
TZOFFSETTO:+0100
TZNAME:CET
DTSTART:20241027T010000
END:STANDARD
END:VTIMEZONE
BEGIN:VEVENT
DTSTART;TZID=Europe/Berlin:20230301T140000
DTEND;TZID=Europe/Berlin:20230301T160000
DTSTAMP:20260424T002442
CREATED:20230227T134848Z
LAST-MODIFIED:20230227T134849Z
UID:3713-1677679200-1677686400@behindertenverband-leipzig.de
SUMMARY:Café Inklusiv
DESCRIPTION:
URL:https://behindertenverband-leipzig.de/event/cafe-inklusiv-3/
END:VEVENT
BEGIN:VEVENT
DTSTART;TZID=Europe/Berlin:20230305T140000
DTEND;TZID=Europe/Berlin:20230305T160000
DTSTAMP:20260424T002442
CREATED:20230227T135342Z
LAST-MODIFIED:20230227T135343Z
UID:3717-1678024800-1678032000@behindertenverband-leipzig.de
SUMMARY:Gruppe 40Plus: Stammtisch
DESCRIPTION:Die Gruppe 40 plus trifft sich am Montag\, dem 6. Märzvon 14.00 bis 16.00 Uhr in der Volkssolidarität.
URL:https://behindertenverband-leipzig.de/event/gruppe-40plus-stammtisch/
END:VEVENT
BEGIN:VEVENT
DTSTART;TZID=Europe/Berlin:20230306T143000
DTEND;TZID=Europe/Berlin:20230306T160000
DTSTAMP:20260424T002442
CREATED:20230227T135207Z
LAST-MODIFIED:20230227T135208Z
UID:3715-1678113000-1678118400@behindertenverband-leipzig.de
SUMMARY:Smartphone & Laptop Sprechstunde
DESCRIPTION:Alle brennenden Fragen und Probleme rund ums ThemaSmartphone\, Laptop\, Computer und Internet beantwortet Ihnenab sofort Johanna Keitel. Gerne das eigene Gerät mitbringen\,es steht aber auch ein Computer zur Verfügung. \n\n\n\nMontag\, 06. 03. 2023\, 14.30 – 16.00 UhrHaus der Demokratie\, Raum 11
URL:https://behindertenverband-leipzig.de/event/smartphone-laptop-sprechstunde/
END:VEVENT
BEGIN:VEVENT
DTSTART;TZID=Europe/Berlin:20230308T140000
DTEND;TZID=Europe/Berlin:20230308T160000
DTSTAMP:20260424T002442
CREATED:20230227T135523Z
LAST-MODIFIED:20230227T135523Z
UID:3719-1678284000-1678291200@behindertenverband-leipzig.de
SUMMARY:Vortrag: „Schutz vor Kriminalität im Alltag“
DESCRIPTION:An diesem Nachmittag informiert ein Mitarbeiter derPolizeidirektion Leipzig über aktuell gängige Betrugsmaschenund die Vorgehensweisen der Täter. Es gibt Tipps und Hinweisezum Schutz vor Kriminalität im Alltag wie Trickdiebstahl\, Betrug\,Enkeltrick\, falscher Polizeibeamter und Haustürgeschäfte. \n\n\n\nMittwoch\, 08. 03. 2023\, 14.00 – 16.00 UhrHaus der Demokratie\, Café
URL:https://behindertenverband-leipzig.de/event/vortrag-schutz-vor-kriminalitaet-im-alltag/
END:VEVENT
BEGIN:VEVENT
DTSTART;TZID=Europe/Berlin:20230315T140000
DTEND;TZID=Europe/Berlin:20230315T160000
DTSTAMP:20260424T002442
CREATED:20230227T135859Z
LAST-MODIFIED:20230227T135900Z
UID:3723-1678888800-1678896000@behindertenverband-leipzig.de
SUMMARY:Café Inklusiv
DESCRIPTION:
URL:https://behindertenverband-leipzig.de/event/cafe-inklusiv-4/
END:VEVENT
BEGIN:VEVENT
DTSTART;TZID=Europe/Berlin:20230320T140000
DTEND;TZID=Europe/Berlin:20230320T160000
DTSTAMP:20260424T002442
CREATED:20230227T140004Z
LAST-MODIFIED:20230227T140005Z
UID:3725-1679320800-1679328000@behindertenverband-leipzig.de
SUMMARY:Spielenachmittag
DESCRIPTION:Haus der Demokratie\, Raum 11
URL:https://behindertenverband-leipzig.de/event/spielenachmittag-12/
END:VEVENT
BEGIN:VEVENT
DTSTART;TZID=Europe/Berlin:20230321T130000
DTEND;TZID=Europe/Berlin:20230321T160000
DTSTAMP:20260424T002442
CREATED:20230227T140234Z
LAST-MODIFIED:20230317T075019Z
UID:3727-1679403600-1679414400@behindertenverband-leipzig.de
SUMMARY:E-Rolli-Wandergruppe
DESCRIPTION:Liebe Wanderfreunde\,auch im März werden wir uns treffen. Aber unser Nachmittagverläuft etwas anders als gewohnt. Um für unsere Touren inder freien Natur richtig gewappnet zu sein\, laden wir zu einemNachmittag auf unserer Rolli-Teststrecke ein. Diesmal werdenkeine Auszubildenden\, Studenten oder Touristiker die einzelnenHindernisse überwinden\, sondern ihr als Profis in eigenerSache. Wir treffen uns wie immer am 3. Dienstag\, also am 21. 03. 2023 ab 13.00 Uhr im BVL. Dort üben wir im Hof undmit einem kleinen Imbiss mit Kaffee und Kuchen lassen wirunseren Spezial-Wandertag ausklingen.
URL:https://behindertenverband-leipzig.de/event/e-rolli-wandergruppe-19/
END:VEVENT
BEGIN:VEVENT
DTSTART;TZID=Europe/Berlin:20230322T140000
DTEND;TZID=Europe/Berlin:20230322T160000
DTSTAMP:20260424T002442
CREATED:20230227T140602Z
LAST-MODIFIED:20230227T140603Z
UID:3729-1679493600-1679500800@behindertenverband-leipzig.de
SUMMARY:Café Inklusive(e): Musiknachmittag
DESCRIPTION:Hits von damals\, ein Lied\, das Sie lange begleitet hat\,ein Künstler oder eine Künstlerin\, von dem Sie einfach nichtgenug bekommen können? An diesem Nachmittag wollenwir in gemütlicher Runde zusammen kommen\, gemeinsamMusik hören und in Erinnerungen schwelgen. Bitte unbedingteigene Musikwünsche und eventuell sogar die eine oderandere Geschichte dazu mitbringen! CDs oder Kassetten sindwillkommen\, aber nicht zwingend notwendig.Mittwoch\, 22. 03. 2023\, 14.00 – 16.00 UhrHaus der Demokratie\, Café
URL:https://behindertenverband-leipzig.de/event/cafe-inklusivee-musiknachmittag/
END:VEVENT
BEGIN:VEVENT
DTSTART;TZID=Europe/Berlin:20230324T160000
DTEND;TZID=Europe/Berlin:20230324T180000
DTSTAMP:20260424T002442
CREATED:20230227T140742Z
LAST-MODIFIED:20230227T141118Z
UID:3731-1679673600-1679680800@behindertenverband-leipzig.de
SUMMARY:Rolli Kegeln: Sportplatz Engelsdorf
DESCRIPTION:
URL:https://behindertenverband-leipzig.de/event/rolli-kegeln-sportplatz-engelsdorf/
END:VEVENT
BEGIN:VEVENT
DTSTART;TZID=Europe/Berlin:20230324T170000
DTEND;TZID=Europe/Berlin:20230324T190000
DTSTAMP:20260424T002442
CREATED:20230227T140855Z
LAST-MODIFIED:20230227T140856Z
UID:3733-1679677200-1679684400@behindertenverband-leipzig.de
SUMMARY:Die Brücke: Stammtisch
DESCRIPTION:Unser Stammtisch findet am Freitag\, dem 24. März ab17.00 Uhr in der „ Kleinen Kneipe“ statt. Bitte meldet euch beimir an\, per E-mail oder Handy.
URL:https://behindertenverband-leipzig.de/event/die-bruecke-stammtisch/
END:VEVENT
END:VCALENDAR