BEGIN:VCALENDAR
VERSION:2.0
PRODID:-//Behindertenverband Leipzig e.V. - ECPv6.15.20//NONSGML v1.0//EN
CALSCALE:GREGORIAN
METHOD:PUBLISH
X-WR-CALNAME:Behindertenverband Leipzig e.V.
X-ORIGINAL-URL:https://behindertenverband-leipzig.de
X-WR-CALDESC:Veranstaltungen für Behindertenverband Leipzig e.V.
REFRESH-INTERVAL;VALUE=DURATION:PT1H
X-Robots-Tag:noindex
X-PUBLISHED-TTL:PT1H
BEGIN:VTIMEZONE
TZID:Europe/Berlin
BEGIN:DAYLIGHT
TZOFFSETFROM:+0100
TZOFFSETTO:+0200
TZNAME:CEST
DTSTART:20220327T010000
END:DAYLIGHT
BEGIN:STANDARD
TZOFFSETFROM:+0200
TZOFFSETTO:+0100
TZNAME:CET
DTSTART:20221030T010000
END:STANDARD
BEGIN:DAYLIGHT
TZOFFSETFROM:+0100
TZOFFSETTO:+0200
TZNAME:CEST
DTSTART:20230326T010000
END:DAYLIGHT
BEGIN:STANDARD
TZOFFSETFROM:+0200
TZOFFSETTO:+0100
TZNAME:CET
DTSTART:20231029T010000
END:STANDARD
BEGIN:DAYLIGHT
TZOFFSETFROM:+0100
TZOFFSETTO:+0200
TZNAME:CEST
DTSTART:20240331T010000
END:DAYLIGHT
BEGIN:STANDARD
TZOFFSETFROM:+0200
TZOFFSETTO:+0100
TZNAME:CET
DTSTART:20241027T010000
END:STANDARD
END:VTIMEZONE
BEGIN:VEVENT
DTSTART;TZID=Europe/Berlin:20230201T140000
DTEND;TZID=Europe/Berlin:20230201T163000
DTSTAMP:20260424T015641
CREATED:20230125T080953Z
LAST-MODIFIED:20230125T081049Z
UID:3636-1675260000-1675269000@behindertenverband-leipzig.de
SUMMARY:Café inklusiv
DESCRIPTION:Gesprächsrunde \n\n\n\nWir plaudern in lockerer Atmosphäre. \n\n\n\nHaus der Demokratie\, Café
URL:https://behindertenverband-leipzig.de/event/cafe-inklusiv/
END:VEVENT
BEGIN:VEVENT
DTSTART;TZID=Europe/Berlin:20230205T140000
DTEND;TZID=Europe/Berlin:20230205T170000
DTSTAMP:20260424T015641
CREATED:20230125T081407Z
LAST-MODIFIED:20230125T081502Z
UID:3640-1675605600-1675616400@behindertenverband-leipzig.de
SUMMARY:Spielenachmittag im Grassi-Museum
DESCRIPTION:Am Sonntag\, dem 05. Februar zum Tag der offenen Tür im Grassi-Museum sind wir von 14.00 Uhr bis ca. 17.00 Uhr mit am Start (Bonvenon-Raum). \n\n\n\nAb dem Donnerstag\, dem 23. Februar von 14.00 bis 16.00 Uhr wollen wir jeden zweiten Monat unseren Spielenachmittag dort im Grassi- Museum im Bonvenon-Raum stattfinden lassen.  Die nächsten Termine dort sind der 27. April und der 29. Jun.)Alle sind recht herzlich eingeladen. \n\n\n\nGruß\, Bernd
URL:https://behindertenverband-leipzig.de/event/spielenachmittag-im-grassi-museum/
END:VEVENT
BEGIN:VEVENT
DTSTART;TZID=Europe/Berlin:20230206T140000
DTEND;TZID=Europe/Berlin:20230206T160000
DTSTAMP:20260424T015641
CREATED:20230125T095505Z
LAST-MODIFIED:20230125T095506Z
UID:3644-1675692000-1675699200@behindertenverband-leipzig.de
SUMMARY:Gruppe 40Plus
DESCRIPTION:Die Gruppe 40Plus trifft sich am Montag\, dem 06. Februar in der Volkssolidarität von 14.00 bis 16.00 Uhr. \n\n\n\nViele Grüße\, Andreas
URL:https://behindertenverband-leipzig.de/event/gruppe-40plus-29/
END:VEVENT
BEGIN:VEVENT
DTSTART;TZID=Europe/Berlin:20230208T140000
DTEND;TZID=Europe/Berlin:20230208T163000
DTSTAMP:20260424T015641
CREATED:20230125T095745Z
LAST-MODIFIED:20230125T100020Z
UID:3647-1675864800-1675873800@behindertenverband-leipzig.de
SUMMARY:Café inklusiv(e)
DESCRIPTION:… Herr Froehlich liest vor \n\n\n\n„Auf einer Meierei…“; ein bunter Reigen von Gedichten\, die man noch teils von früher kennt\, kleine Rätselreime und dazwischen Geschichten\, die das Leben schreibt. Am 8. Februar bin ich wieder bei ihnen zu Gast. Ich freue mich schon. Bis dahin und schöne Grüße.Uwe FroehlichHaus der Demokratie\, Café
URL:https://behindertenverband-leipzig.de/event/cafe-inklusive-42/
END:VEVENT
BEGIN:VEVENT
DTSTART;TZID=Europe/Berlin:20230210T170000
DTEND;TZID=Europe/Berlin:20230210T190000
DTSTAMP:20260424T015641
CREATED:20230125T100412Z
LAST-MODIFIED:20230125T100532Z
UID:3651-1676048400-1676055600@behindertenverband-leipzig.de
SUMMARY:Club "Die Brücke"
DESCRIPTION:Unser Stammtisch findet am Freitag\, dem 10. Februar ab 17.00 Uhr in der „ Kleinen Kneipe“ statt. Bitte meldet euch bei mir an\, per E-Mail oder Handy.Bis dahin!Gruß\, Bernd
URL:https://behindertenverband-leipzig.de/event/club-die-bruecke-18/
END:VEVENT
BEGIN:VEVENT
DTSTART;TZID=Europe/Berlin:20230213T140000
DTEND;TZID=Europe/Berlin:20230213T160000
DTSTAMP:20260424T015641
CREATED:20230125T100731Z
LAST-MODIFIED:20230125T100732Z
UID:3655-1676296800-1676304000@behindertenverband-leipzig.de
SUMMARY:Kreatives Gestalten
DESCRIPTION:Unsere große Faschingsfeier steht endlich wieder vor der Tür. Deshalb wollen wir an diesem Nachmittag gemeinsam ein paar Knallbonbons basteln\, die auf der Party für eine Extraportion Spaß sorgen werden. Wir freuen uns auf Eure Teilnahme.Eure MartinaHaus der Demokratie\, Saal 2
URL:https://behindertenverband-leipzig.de/event/kreatives-gestalten-16/
END:VEVENT
BEGIN:VEVENT
DTSTART;TZID=Europe/Berlin:20230215T140000
DTEND;TZID=Europe/Berlin:20230215T163000
DTSTAMP:20260424T015641
CREATED:20230125T101011Z
LAST-MODIFIED:20230125T101012Z
UID:3657-1676469600-1676478600@behindertenverband-leipzig.de
SUMMARY:Café inklusiv
DESCRIPTION:Gesprächsrunde \n\n\n\nWir plaudern in lockerer Atmoshäre. \n\n\n\nHaus der Demokratie\, Café
URL:https://behindertenverband-leipzig.de/event/cafe-inklusiv-2/
END:VEVENT
BEGIN:VEVENT
DTSTART;TZID=Europe/Berlin:20230218T150000
DTEND;TZID=Europe/Berlin:20230218T190000
DTSTAMP:20260424T015641
CREATED:20230125T101620Z
LAST-MODIFIED:20230125T101813Z
UID:3659-1676732400-1676746800@behindertenverband-leipzig.de
SUMMARY:Faschingsparty: Kirche St. Martin
DESCRIPTION:Wir freuen uns\, dieses Jahr ENDLICH wieder zu unserer gemeinsamen Faschingsparty in der Sankt Martins Kirche in Grünau begrüßen zu dürfen. Uns erwartet ein buntes Rahmenprogramm aus Unterhaltung und Tanz\, Speis und Trank. Zu Gast haben wir dieses Jahr wieder den Grünauer Garnevals Glub (GGG)\, der uns den Nachmittag mit Sketch und Tanz versüßen wird. Für die musikalische Untermalung sorgt DJ Sondershaus. Ab 15.00 Uhr heißen wir alle herzlich willkommen\, bis 19.00 Uhr feiern wir gemeinsam. Anmeldeschluss ist der 14.02.22. Tel.: 0341 3065 120Katholische Kirche St. Martin\, Kolpingweg 1\, 04209 Leipzig
URL:https://behindertenverband-leipzig.de/event/faschingsparty-kirche-st-martin/
END:VEVENT
BEGIN:VEVENT
DTSTART;TZID=Europe/Berlin:20230221T130000
DTEND;TZID=Europe/Berlin:20230221T170000
DTSTAMP:20260424T015641
CREATED:20230125T102059Z
LAST-MODIFIED:20230125T102119Z
UID:3662-1676984400-1676998800@behindertenverband-leipzig.de
SUMMARY:E-Rolli Wandergruppe
DESCRIPTION:Liebe Wanderfreunde\,auch im Februar werden wir uns wieder eine Ausstellung anschauen. Wir haben die Sonderausstellung im EG des Naturkundemuseums “Herman H. ter Meer“ ausgesucht. Der Präparator ist mit seiner Arbeitsweise bis heute Vorbild für seine Berufskollegen. Eine Führung wird uns seine Tierpräparate und einige Kleinplastiken näher bringen.Wir treffen uns also am Dienstag\, dem 21. Februar ab 13.00 Uhr vor dem Naturkundemuseum\, Lortzingstr. 3 in 04105 Leipzig. Bitte beachtet\, dass das Museum nur über eine Besuchertoilette\, aber nicht über ein Behinderten-WC verfügt. Nach dem gemeinsamen Museumsbesuch kann dann jeder den Tag nach seinen individuellen Wünschen ausklingen lassen.Bleibt gesund und neugierig. \n\n\n\nWir freuen uns!Eure Gaby und Roland
URL:https://behindertenverband-leipzig.de/event/e-rolli-wandergruppe-18/
END:VEVENT
BEGIN:VEVENT
DTSTART;TZID=Europe/Berlin:20230222T140000
DTEND;TZID=Europe/Berlin:20230222T163000
DTSTAMP:20260424T015641
CREATED:20230125T102411Z
LAST-MODIFIED:20230125T102412Z
UID:3665-1677074400-1677083400@behindertenverband-leipzig.de
SUMMARY:Café inklusiv(e)
DESCRIPTION:… Bingo \n\n\n\nWer möchte nicht an einer so schönen Tradition festhalten oder sie sogar neu für sich entdecken? An unserem Bingo-Nachmittag im Café gibt es jede Menge Spaß und Gewinne für Sie! Eine Runde\, drei Gewinner und jede Menge Zahlen.Haus der Demokratie\, Café
URL:https://behindertenverband-leipzig.de/event/cafe-inklusive-43/
END:VEVENT
BEGIN:VEVENT
DTSTART;TZID=Europe/Berlin:20230223T140000
DTEND;TZID=Europe/Berlin:20230223T160000
DTSTAMP:20260424T015641
CREATED:20230125T102710Z
LAST-MODIFIED:20230125T102711Z
UID:3667-1677160800-1677168000@behindertenverband-leipzig.de
SUMMARY:Spielenachmittag im Grassi-Museum
DESCRIPTION:Ab dem 23. Februar von 14.00 bis 16.00 Uhr wollen wir jeden zweiten Monat unseren Spielenachmittag im Grassi-Museum im Bonvenon-Raum stattfinden lassen.(nächste Termine: Donnerstag\, den 27. April und den 29. Juni) \n\n\n\nAlle sind recht herzlich eingeladen.Gruß\, Bernd \n\n\n\nGrassi-Museum\, Bonvenon-Raum
URL:https://behindertenverband-leipzig.de/event/spielenachmittag-im-grassi-museum-2/
END:VEVENT
BEGIN:VEVENT
DTSTART;TZID=Europe/Berlin:20230224T160000
DTEND;TZID=Europe/Berlin:20230224T180000
DTSTAMP:20260424T015641
CREATED:20230125T102913Z
LAST-MODIFIED:20230125T102914Z
UID:3669-1677254400-1677261600@behindertenverband-leipzig.de
SUMMARY:Rolli-Kegeln
DESCRIPTION:Die Rolli-Kegler treffen sich wie gewohnt beim SV Lok Engelsdorf.
URL:https://behindertenverband-leipzig.de/event/rolli-kegeln-13/
END:VEVENT
BEGIN:VEVENT
DTSTART;TZID=Europe/Berlin:20230225T133000
DTEND;TZID=Europe/Berlin:20230225T160000
DTSTAMP:20260424T015641
CREATED:20230125T103426Z
LAST-MODIFIED:20230125T103713Z
UID:3671-1677331800-1677340800@behindertenverband-leipzig.de
SUMMARY:Kulturgruppe „Kultflexx“
DESCRIPTION:Liebe Mitglieder\, liebe Freunde!Leider ist das Thema „Krieg“ und „Terrorismus“ auch zu Beginn dieses neuen Jahres aktueller denn je. Die Geschehnisse des 11. September 2001 in New York werden uns wohl immer im Gedächtnis bleiben. Eine sehr interessante Ausstellung zu diesem Ereignis ist im Panometer Leipzig zu sehen. „NEW YORK 9/11 – Krieg in Zeiten von Frieden“ ist Yadegar Asisis viertes Anti-Kriegsprojekt und führt seine Betrachtung der Welt unter besonderem Fokus auf die Kriege der Neuzeit fort. Ich würde mich freuen\, wenn ich Euer Interesse fürdiese Ausstellung geweckt habe und lade Euch herzlich zu einem Besuch dieser Ausstellung ein!Bei Interesse bitte bis Montag\, dem 20.02. im Büro melden. \n\n\n\nEure Karin Panometer Leipzig
URL:https://behindertenverband-leipzig.de/event/kulturgruppe-kultflexx-11/
END:VEVENT
END:VCALENDAR