BEGIN:VCALENDAR
VERSION:2.0
PRODID:-//Behindertenverband Leipzig e.V. - ECPv6.15.20//NONSGML v1.0//EN
CALSCALE:GREGORIAN
METHOD:PUBLISH
X-WR-CALNAME:Behindertenverband Leipzig e.V.
X-ORIGINAL-URL:https://behindertenverband-leipzig.de
X-WR-CALDESC:Veranstaltungen für Behindertenverband Leipzig e.V.
REFRESH-INTERVAL;VALUE=DURATION:PT1H
X-Robots-Tag:noindex
X-PUBLISHED-TTL:PT1H
BEGIN:VTIMEZONE
TZID:Europe/Berlin
BEGIN:DAYLIGHT
TZOFFSETFROM:+0100
TZOFFSETTO:+0200
TZNAME:CEST
DTSTART:20210328T010000
END:DAYLIGHT
BEGIN:STANDARD
TZOFFSETFROM:+0200
TZOFFSETTO:+0100
TZNAME:CET
DTSTART:20211031T010000
END:STANDARD
BEGIN:DAYLIGHT
TZOFFSETFROM:+0100
TZOFFSETTO:+0200
TZNAME:CEST
DTSTART:20220327T010000
END:DAYLIGHT
BEGIN:STANDARD
TZOFFSETFROM:+0200
TZOFFSETTO:+0100
TZNAME:CET
DTSTART:20221030T010000
END:STANDARD
BEGIN:DAYLIGHT
TZOFFSETFROM:+0100
TZOFFSETTO:+0200
TZNAME:CEST
DTSTART:20230326T010000
END:DAYLIGHT
BEGIN:STANDARD
TZOFFSETFROM:+0200
TZOFFSETTO:+0100
TZNAME:CET
DTSTART:20231029T010000
END:STANDARD
END:VTIMEZONE
BEGIN:VEVENT
DTSTART;TZID=Europe/Berlin:20221205T140000
DTEND;TZID=Europe/Berlin:20221205T160000
DTSTAMP:20260424T050220
CREATED:20221201T081515Z
LAST-MODIFIED:20221201T081516Z
UID:3545-1670248800-1670256000@behindertenverband-leipzig.de
SUMMARY:Gruppe 40Plus
DESCRIPTION:Die Gruppe 40Plus trifft sich am Montag\, dem 05.12. in der Volkssolidarität von 14.00 bis 16.00 Uhr.Viele Grüße\, Andreas
URL:https://behindertenverband-leipzig.de/event/gruppe-40plus-27/
END:VEVENT
BEGIN:VEVENT
DTSTART;TZID=Europe/Berlin:20221205T170000
DTEND;TZID=Europe/Berlin:20221205T183000
DTSTAMP:20260424T050220
CREATED:20221201T075625Z
LAST-MODIFIED:20221201T083503Z
UID:3527-1670259600-1670265000@behindertenverband-leipzig.de
SUMMARY:Friedensgebet
DESCRIPTION:Wie jedes Jahr zum Beginn der Adventszeit findet das vom Behindertenverband Leipzig e.V. gestaltete Friedengebet in der Nikolaikirche statt. Das diesjährige Thema lautet „200 Jahre Gottesdienst in Gebärdensprache“. Wir heißen Sie herzlich willkommen!
URL:https://behindertenverband-leipzig.de/event/friedensgebet-3/
END:VEVENT
BEGIN:VEVENT
DTSTART;TZID=Europe/Berlin:20221207T140000
DTEND;TZID=Europe/Berlin:20221207T163000
DTSTAMP:20260424T050220
CREATED:20221201T081738Z
LAST-MODIFIED:20221206T095021Z
UID:3547-1670421600-1670430600@behindertenverband-leipzig.de
SUMMARY:Café inklusiv(e)
DESCRIPTION:… Singen \n\n\n\nDie Weihnachtsstimmung hat auch uns erfasst. Wer Lust hat kann neben Kaffee und Kuchen ein Weihnachtslied anstimmen und alle singen mit. Textvorlagen sind vorhanden. \n\n\n\nHaus der Demokratie\, Café
URL:https://behindertenverband-leipzig.de/event/cafe-inklusive-35/
END:VEVENT
BEGIN:VEVENT
DTSTART;TZID=Europe/Berlin:20221212T140000
DTEND;TZID=Europe/Berlin:20221212T160000
DTSTAMP:20260424T050220
CREATED:20221201T082054Z
LAST-MODIFIED:20221206T095129Z
UID:3551-1670853600-1670860800@behindertenverband-leipzig.de
SUMMARY:Kreatives Gestalten
DESCRIPTION:Liebe Bastel-Freunde\,am 12. Dezember um 14.00 Uhr gestalten wir einzigartige und dekorative Weihnachtssterne. Zum Selberaufhängen oder Weiterverschenken\, Material in verschiedener Form liegt bereit. Wir freuen uns über viele bastelbegeisterte Teilnehmer und Teilnehmerinnen. \n\n\n\nEure Martina
URL:https://behindertenverband-leipzig.de/event/kreatives-gestalten-14/
END:VEVENT
BEGIN:VEVENT
DTSTART;TZID=Europe/Berlin:20221214T140000
DTEND;TZID=Europe/Berlin:20221214T160000
DTSTAMP:20260424T050220
CREATED:20221201T082304Z
LAST-MODIFIED:20221206T094831Z
UID:3553-1671026400-1671033600@behindertenverband-leipzig.de
SUMMARY:Café inklusiv(e)
DESCRIPTION:… Weihnachtsfeier \n\n\n\nUnd um noch ein bisschen mehr in Festtagsstimung zu kommen machen wir es uns diesen Monat bei Café inklusiv(e) mal so richtig gemütlich: Mit warmen Getränken\, weihnachtlicher Musik und Stollen lauschen wir gemeinsam einer besonderen Weihnachtsgeschichte die uns von Frau Arend liebenswürdigerweise vorgelesen wird. \n\n\n\nHaus der Demokratie\, Café
URL:https://behindertenverband-leipzig.de/event/cafe-inklusive-36/
END:VEVENT
BEGIN:VEVENT
DTSTART;TZID=Europe/Berlin:20221215T140000
DTEND;TZID=Europe/Berlin:20221215T160000
DTSTAMP:20260424T050220
CREATED:20221201T082528Z
LAST-MODIFIED:20221202T094918Z
UID:3555-1671112800-1671120000@behindertenverband-leipzig.de
SUMMARY:E-Rolli Wandergruppe
DESCRIPTION:Am 15.12.2022 findet die Weihnachtsfeier der E-Rolli Wandergruppe sowie der Teilnehmenden des Kaffeeklatsches statt. Wir treffen uns 12 Uhr wie jedes Jahr im Gasthof Alt-Engelsdorf. Ende ist 17 Uhr.  \n\n\n\nWir hoffen\, ihr habt euch bereits angemeldet\, denn wir haben nicht so viele Plätze reservieren können. \n\n\n\nGaby und Hannelore
URL:https://behindertenverband-leipzig.de/event/e-rolli-wandergruppe-16/
END:VEVENT
BEGIN:VEVENT
DTSTART;TZID=Europe/Berlin:20221216T160000
DTEND;TZID=Europe/Berlin:20221216T180000
DTSTAMP:20260424T050220
CREATED:20221201T082726Z
LAST-MODIFIED:20221202T095107Z
UID:3557-1671206400-1671213600@behindertenverband-leipzig.de
SUMMARY:Rolli-Kegeln
DESCRIPTION:Die Rolli-Kegler treffen sich zu Ihrer Weihnachtsfeier im Gasthof Alt Engelsdorf.
URL:https://behindertenverband-leipzig.de/event/rolli-kegeln-12/
END:VEVENT
BEGIN:VEVENT
DTSTART;TZID=Europe/Berlin:20221219T140000
DTEND;TZID=Europe/Berlin:20221219T160000
DTSTAMP:20260424T050220
CREATED:20221201T083139Z
LAST-MODIFIED:20221206T094655Z
UID:3561-1671458400-1671465600@behindertenverband-leipzig.de
SUMMARY:Spielenachmittag
DESCRIPTION:Wichtige Mitteilung: Da der vierte Montag diesen Dezember ja in die Weihnachtsfeiertage fällt\, findet der Spielenachmitag diesen Monat schon am 19.12. statt. \n\n\n\nMartina & BerndBVL\, Raum 11
URL:https://behindertenverband-leipzig.de/event/spielenachmittag-10/
END:VEVENT
BEGIN:VEVENT
DTSTART;TZID=Europe/Berlin:20221221T140000
DTEND;TZID=Europe/Berlin:20221221T163000
DTSTAMP:20260424T050220
CREATED:20221201T082948Z
LAST-MODIFIED:20221201T082949Z
UID:3559-1671631200-1671640200@behindertenverband-leipzig.de
SUMMARY:Café inklusiv(e)
DESCRIPTION:… Gesprächsrunde \n\n\n\nWir plaudern in lockerer Atmosphäre. \n\n\n\nHaus der Demokratie\, Café
URL:https://behindertenverband-leipzig.de/event/cafe-inklusive-37/
END:VEVENT
END:VCALENDAR