BEGIN:VCALENDAR
VERSION:2.0
PRODID:-//Behindertenverband Leipzig e.V. - ECPv6.15.20//NONSGML v1.0//EN
CALSCALE:GREGORIAN
METHOD:PUBLISH
X-ORIGINAL-URL:https://behindertenverband-leipzig.de
X-WR-CALDESC:Veranstaltungen für Behindertenverband Leipzig e.V.
REFRESH-INTERVAL;VALUE=DURATION:PT1H
X-Robots-Tag:noindex
X-PUBLISHED-TTL:PT1H
BEGIN:VTIMEZONE
TZID:Europe/Berlin
BEGIN:DAYLIGHT
TZOFFSETFROM:+0100
TZOFFSETTO:+0200
TZNAME:CEST
DTSTART:20210328T010000
END:DAYLIGHT
BEGIN:STANDARD
TZOFFSETFROM:+0200
TZOFFSETTO:+0100
TZNAME:CET
DTSTART:20211031T010000
END:STANDARD
BEGIN:DAYLIGHT
TZOFFSETFROM:+0100
TZOFFSETTO:+0200
TZNAME:CEST
DTSTART:20220327T010000
END:DAYLIGHT
BEGIN:STANDARD
TZOFFSETFROM:+0200
TZOFFSETTO:+0100
TZNAME:CET
DTSTART:20221030T010000
END:STANDARD
BEGIN:DAYLIGHT
TZOFFSETFROM:+0100
TZOFFSETTO:+0200
TZNAME:CEST
DTSTART:20230326T010000
END:DAYLIGHT
BEGIN:STANDARD
TZOFFSETFROM:+0200
TZOFFSETTO:+0100
TZNAME:CET
DTSTART:20231029T010000
END:STANDARD
END:VTIMEZONE
BEGIN:VEVENT
DTSTART;TZID=Europe/Berlin:20221102T140000
DTEND;TZID=Europe/Berlin:20221102T163000
DTSTAMP:20260424T063117
CREATED:20221101T100736Z
LAST-MODIFIED:20221101T100736Z
UID:3478-1667397600-1667406600@behindertenverband-leipzig.de
SUMMARY:Café inklusiv(e)
DESCRIPTION:… Gesprächsrunde \n\n\n\nWir plaudern in lockerer Atmoshäre. \n\n\n\nHaus der Demokratie\, Café
URL:https://behindertenverband-leipzig.de/event/cafe-inklusive-31/
END:VEVENT
BEGIN:VEVENT
DTSTART;TZID=Europe/Berlin:20221104T150000
DTEND;TZID=Europe/Berlin:20221104T170000
DTSTAMP:20260424T063117
CREATED:20221101T101048Z
LAST-MODIFIED:20221101T101049Z
UID:3482-1667574000-1667581200@behindertenverband-leipzig.de
SUMMARY:Mitgliederversammlung
DESCRIPTION:Liebe Mitglieder\,wir möchten Sie noch einmal an unsere Mitgliederversammlung und Wahl erinnern. Wir laden Sie in diesem Jahr ganz herzlich in die Pfarrei St. Martin im Kolpingweg 1 ein. Bitte überprüfen Sie den Stand Ihrer Beitragszahlung und gleichen Rückstände bis zur Versammlung aus. Mitglieder mit Beitragsrückständen haben kein Stimmrecht.Der Vorstand
URL:https://behindertenverband-leipzig.de/event/mitgliederversammlung-3/
END:VEVENT
BEGIN:VEVENT
DTSTART;TZID=Europe/Berlin:20221107T140000
DTEND;TZID=Europe/Berlin:20221107T160000
DTSTAMP:20260424T063117
CREATED:20221101T101306Z
LAST-MODIFIED:20221101T101307Z
UID:3488-1667829600-1667836800@behindertenverband-leipzig.de
SUMMARY:Gruppe 40Plus
DESCRIPTION:Die Gruppe 40Plus trifft sich am Montag\, dem 07.11. in der Volkssolidarität von 14.00 bis 16.00 Uhr.Viele Grüße\, Andreas
URL:https://behindertenverband-leipzig.de/event/gruppe-40plus-26/
END:VEVENT
BEGIN:VEVENT
DTSTART;TZID=Europe/Berlin:20221109T140000
DTEND;TZID=Europe/Berlin:20221109T163000
DTSTAMP:20260424T063117
CREATED:20221101T101502Z
LAST-MODIFIED:20221101T101503Z
UID:3490-1668002400-1668011400@behindertenverband-leipzig.de
SUMMARY:Café inklusiv(e)
DESCRIPTION:… Gesprächsrunde \n\n\n\nWir plaudern in lockerer Atmoshäre. \n\n\n\nHaus der Demokratie\, Café
URL:https://behindertenverband-leipzig.de/event/cafe-inklusive-32/
END:VEVENT
BEGIN:VEVENT
DTSTART;TZID=Europe/Berlin:20221111T170000
DTEND;TZID=Europe/Berlin:20221111T190000
DTSTAMP:20260424T063117
CREATED:20221101T101729Z
LAST-MODIFIED:20221101T104930Z
UID:3492-1668186000-1668193200@behindertenverband-leipzig.de
SUMMARY:Club "Die Brücke"
DESCRIPTION:Liebe Mitglieder der Brücke\,unser Stammtisch findet am Freitag\, dem 11. November 2022 ab 17.00 Uhr in der „Kleinen Kneipe“ statt. Bitte denkt daran\, euch bei mir anzumelden. \n\n\n\nBis dahin\, Bernd
URL:https://behindertenverband-leipzig.de/event/club-die-bruecke-16/
END:VEVENT
BEGIN:VEVENT
DTSTART;TZID=Europe/Berlin:20221114T140000
DTEND;TZID=Europe/Berlin:20221114T160000
DTSTAMP:20260424T063117
CREATED:20221101T102019Z
LAST-MODIFIED:20221101T102019Z
UID:3494-1668434400-1668441600@behindertenverband-leipzig.de
SUMMARY:Kreatives Gestalten
DESCRIPTION:Herbstbasteln \n\n\n\nLiebe Bastel-Freunde\,am 14. November um 14.00 Uhr wollen wir herbstliche Deko aus Tannenzapfen herstellen. Die Zapfen werden dabei bunt bemalt. Alle Materialien sind bereits vorhanden. Wir freuen uns über viele bastelbegeisterte Teilnehmer und Teilnehmerinnen. \n\n\n\nEure Martina
URL:https://behindertenverband-leipzig.de/event/kreatives-gestalten-13/
END:VEVENT
BEGIN:VEVENT
DTSTART;TZID=Europe/Berlin:20221115T130000
DTEND;TZID=Europe/Berlin:20221115T163000
DTSTAMP:20260424T063117
CREATED:20221101T102729Z
LAST-MODIFIED:20221101T102730Z
UID:3497-1668517200-1668529800@behindertenverband-leipzig.de
SUMMARY:E-Rolli Wandergruppe
DESCRIPTION:Liebe Wanderfreunde\,leider regnete es gerade zu dem Zeitpunkt\, als wir unsere Herbstausflüge geplant hatten. Das war sehr ärgerlich und so hoffen wir\, ihr konntet dennoch die herrliche Herbstfärbung genießen.Zu unserer November-„Wanderung“ treffen wir uns am 15. November 2022 um 13.00 Uhr am Zeitgeschichtlichen Forum in der Grimmaischen Str. 6 in 04109 Leipzig. Derzeit lädt dieWechselausstellung #DeutschlandDigital mit vielen interessanten Objekten zum Besuch ein. Im Anschluss daran kann jeder individuell den Nachmittag ausklingen lassen.Meldet euch bitte an. Wir freuen uns.Eure Gaby und Roland
URL:https://behindertenverband-leipzig.de/event/e-rolli-wandergruppe-15/
END:VEVENT
BEGIN:VEVENT
DTSTART;TZID=Europe/Berlin:20221115T140000
DTEND;TZID=Europe/Berlin:20221115T160000
DTSTAMP:20260424T063117
CREATED:20221101T103619Z
LAST-MODIFIED:20221101T103620Z
UID:3500-1668520800-1668528000@behindertenverband-leipzig.de
SUMMARY:Bewegung nach Musik
DESCRIPTION:Ab 15. November 2022 starten wir ein neues Freizeitangebot. Frau Virgine Blei wird uns bei Bewegung nach Musik anleiten. Einmal im Monat wird sie uns dabei bestimmt die gute Laune herauskitzeln.Bitte bis 11.11. unter 0341 – 3065120 anmelden. \n\n\n\nGaststätte im Haus der Demokratie
URL:https://behindertenverband-leipzig.de/event/bewegung-nach-musik/
END:VEVENT
BEGIN:VEVENT
DTSTART;TZID=Europe/Berlin:20221123T140000
DTEND;TZID=Europe/Berlin:20221123T163000
DTSTAMP:20260424T063117
CREATED:20221101T104035Z
LAST-MODIFIED:20221101T104036Z
UID:3503-1669212000-1669221000@behindertenverband-leipzig.de
SUMMARY:Café inklusiv(e)
DESCRIPTION:… Herrn Froehlich: Lesung „Tierisch inklusiv! Ein Löwe auf Abenteuerreise“ \n\n\n\nHerr Foehlich liest tolle Geschichten über ungewöhnliche\, tierische und mutige Begegnungen aus „Tierisch inklusiv! Ein Löwe auf Abenteuerreise“ und taucht gemeinsam mit dem Publikum in die Welt von Löwe Leon und seinen Freunden ein.Ab 14.00 Uhr gibt es Kaffee und Kuchen im Café. Bitte im Vorfeld anmelden.Die Lesung findet um 15.00 Uhr im Kino Prager Frühling statt.
URL:https://behindertenverband-leipzig.de/event/cafe-inklusive-33/
END:VEVENT
BEGIN:VEVENT
DTSTART;TZID=Europe/Berlin:20221125T160000
DTEND;TZID=Europe/Berlin:20221125T180000
DTSTAMP:20260424T063117
CREATED:20221101T104154Z
LAST-MODIFIED:20221101T104155Z
UID:3508-1669392000-1669399200@behindertenverband-leipzig.de
SUMMARY:Rolli-Kegeln
DESCRIPTION:Die Rolli-Kegler treffen sich wie gewohnt beim SV Lok Engelsdorf.
URL:https://behindertenverband-leipzig.de/event/rolli-kegeln-11/
END:VEVENT
BEGIN:VEVENT
DTSTART;TZID=Europe/Berlin:20221128T140000
DTEND;TZID=Europe/Berlin:20221128T160000
DTSTAMP:20260424T063117
CREATED:20221101T104325Z
LAST-MODIFIED:20221101T104326Z
UID:3510-1669644000-1669651200@behindertenverband-leipzig.de
SUMMARY:Spielenachmittag
DESCRIPTION:Wir freuen uns über unterhaltsame und abwechslungsreiche Stunden mit den guten alten Gesellschafts- und Brettspielen. Rommé\, Mensch ärgere dich nicht und Memo sind auch heute noch ein Renner. In den letzten Jahren hat sich jedoch viel in diesem Bereich getan\, im Handel gibt es aktuell spannende Spiele\, auf die wir uns genauso freuen\, wie auf die bekannten Klassiker. Hier gibt es viele tolle Ideen für jeden Geschmack. Alle Menschen\, jüngere und ältere\, denen spielen Spaß macht\, sind eingeladen. Es können auch eigene Spiele mitgebracht werden. \n\n\n\nGruß\, Bernd Herty \n\n\n\nBVL\, Saal 2
URL:https://behindertenverband-leipzig.de/event/spielenachmittag-9/
END:VEVENT
BEGIN:VEVENT
DTSTART;TZID=Europe/Berlin:20221130T140000
DTEND;TZID=Europe/Berlin:20221130T170000
DTSTAMP:20260424T063117
CREATED:20221101T104832Z
LAST-MODIFIED:20221101T104833Z
UID:3512-1669816800-1669827600@behindertenverband-leipzig.de
SUMMARY:Café inklusiv(e)
DESCRIPTION:… Wunschkino \n\n\n\nIm Oktoberheft wurden drei Filme für das Wunschkino zur Auswahl gestellt. Der am meisten gewünschte Film ist: Alles auf Zucker! Alles KoscherInhalt: Es läuft nicht gut für den Ex-DDR-Sportreporter Jaecki Zucker: Finanziell steht der schlitzohrige Zocker vor dem Ruin und seine resolute Ehefrau droht damit\, ihn zu verlassen. In dieser Situation kommt das Erbe von Jaeckis Mutter gerade recht. Die Sache hat nur einen Haken: Um das Erbe zu erhalten\, muss Jaecki sich mit seinem Bruder Samuel\, einem orthodoxen Juden\, versöhnen. Nur hat Jaecki mit der Religion seiner Vorväter bislang nicht allzu viel am Hut gehabt … \n\n\n\nDas Wunschkino beginnt am 30.11.um 14 Uhr mit einem gemütlichen Kaffee trinken und Kuchen essen und 15 Uhr wird uns der Landesfilmdienst Leipzig e.V. den Wunschfilm präsentieren.Wir wünschen einen schönen Nachmittag.Das Team des BVL
URL:https://behindertenverband-leipzig.de/event/cafe-inklusive-34/
END:VEVENT
END:VCALENDAR