BEGIN:VCALENDAR
VERSION:2.0
PRODID:-//Behindertenverband Leipzig e.V. - ECPv6.15.20//NONSGML v1.0//EN
CALSCALE:GREGORIAN
METHOD:PUBLISH
X-WR-CALNAME:Behindertenverband Leipzig e.V.
X-ORIGINAL-URL:https://behindertenverband-leipzig.de
X-WR-CALDESC:Veranstaltungen für Behindertenverband Leipzig e.V.
REFRESH-INTERVAL;VALUE=DURATION:PT1H
X-Robots-Tag:noindex
X-PUBLISHED-TTL:PT1H
BEGIN:VTIMEZONE
TZID:Europe/Berlin
BEGIN:DAYLIGHT
TZOFFSETFROM:+0100
TZOFFSETTO:+0200
TZNAME:CEST
DTSTART:20210328T010000
END:DAYLIGHT
BEGIN:STANDARD
TZOFFSETFROM:+0200
TZOFFSETTO:+0100
TZNAME:CET
DTSTART:20211031T010000
END:STANDARD
BEGIN:DAYLIGHT
TZOFFSETFROM:+0100
TZOFFSETTO:+0200
TZNAME:CEST
DTSTART:20220327T010000
END:DAYLIGHT
BEGIN:STANDARD
TZOFFSETFROM:+0200
TZOFFSETTO:+0100
TZNAME:CET
DTSTART:20221030T010000
END:STANDARD
BEGIN:DAYLIGHT
TZOFFSETFROM:+0100
TZOFFSETTO:+0200
TZNAME:CEST
DTSTART:20230326T010000
END:DAYLIGHT
BEGIN:STANDARD
TZOFFSETFROM:+0200
TZOFFSETTO:+0100
TZNAME:CET
DTSTART:20231029T010000
END:STANDARD
END:VTIMEZONE
BEGIN:VEVENT
DTSTART;TZID=Europe/Berlin:20220930T100000
DTEND;TZID=Europe/Berlin:20221002T180000
DTSTAMP:20260424T075903
CREATED:20220826T072738Z
LAST-MODIFIED:20220908T093922Z
UID:3368-1664532000-1664733600@behindertenverband-leipzig.de
SUMMARY:Messe "modell-hobby-spiel"
DESCRIPTION:Wie jedes Jahr steigt auch in diesem Herbst wieder die alljährliche Messe „Modell-Hobby-Spiel“ auf dem Leipziger Messegelände. Das Angebot bietet kreativen Köpfen\, Bastlern und Spielbegeisterten neue Anreize für ihre Freizeitgestaltung. Hier ist für jeden Geschmack etwas dabei. Auch in diesem Jahr ist der Behindertenverband Leipzig e.V. mit einem Stand vertreten.Vom 30. September bis 2. Oktober laden wir mit unseren Klassikern wie Rommé\, Memo und Quartett\, aber auch mit unserem beliebten Kartenspiel „Barriereteufel\, wir überlisten dich!“ zum Spielen ein. Sie finden uns in Halle 2 am Stand J17. Wir freuen uns schon alle riesig auf die Gelegenheit\, unsere Materialien vorzustellen und hoffen auf zahlreiche Besucher.Das Team des BVLLeipziger Messe; Halle 2 / Stand J17
URL:https://behindertenverband-leipzig.de/event/messe-modell-hobby-spiel/
END:VEVENT
BEGIN:VEVENT
DTSTART;TZID=Europe/Berlin:20221005T133000
DTEND;TZID=Europe/Berlin:20221005T180000
DTSTAMP:20260424T075903
CREATED:20220826T073312Z
LAST-MODIFIED:20220929T122458Z
UID:3371-1664976600-1664992800@behindertenverband-leipzig.de
SUMMARY:Café inklusiv(e)
DESCRIPTION:… Elefant\, Tiger & Co – Wir gehen wieder in den Zoo \n\n\n\nNoch einmal besuchen wir gemeinsam dieses Jahr den Zoo. Diesmal ohne Führung.Wir treffen uns am 05.10.2020 13:30 Uhr am Eingang. Nun hoffen wir nur noch auf schönes Wetter an diesen erlebnisreichen Nachmittag.Viel SpaßZoo Leipzig
URL:https://behindertenverband-leipzig.de/event/cafe-inklusive-27/
END:VEVENT
BEGIN:VEVENT
DTSTART;TZID=Europe/Berlin:20221009T160000
DTEND;TZID=Europe/Berlin:20221009T200000
DTSTAMP:20260424T075903
CREATED:20220929T123050Z
LAST-MODIFIED:20220929T123449Z
UID:3435-1665331200-1665345600@behindertenverband-leipzig.de
SUMMARY:Kulturgruppe "Kultflexx"
DESCRIPTION:Erstmals auf Eis wird die akrobatische Revue des „Cirque du Soleil“ dargeboten.Im Oktober wollen wir uns dieses Event nicht entgehen lassen und die Weltstars in ihren farbenprächtigen Kostümen bewundern. Wir treffen uns um 16:15 Uhr am Eingang der Arena\, los geht es dann um 17 Uhr. Anmeldung bis 06. Oktober 2022 im Büro des BVL! Für den Fahrdienst ist bitte selbst zu sorgen! \n\n\n\nBleibt schön gesund! \n\n\n\nKarin Nnabuike
URL:https://behindertenverband-leipzig.de/event/kulturgruppe-kultflexx-10/
END:VEVENT
BEGIN:VEVENT
DTSTART;TZID=Europe/Berlin:20221010T140000
DTEND;TZID=Europe/Berlin:20221010T160000
DTSTAMP:20260424T075903
CREATED:20220929T123409Z
LAST-MODIFIED:20220929T123550Z
UID:3439-1665410400-1665417600@behindertenverband-leipzig.de
SUMMARY:Gruppe 40Plus
DESCRIPTION:Die Gruppe 40Plus trifft sich am Montag\, dem 10. Oktober in derVolkssolidarität von 14 bis 16 Uhr. \n\n\n\nViele Grüße\, Andreas
URL:https://behindertenverband-leipzig.de/event/gruppe-40plus-24/
END:VEVENT
BEGIN:VEVENT
DTSTART;TZID=Europe/Berlin:20221011T080000
DTEND;TZID=Europe/Berlin:20221011T170000
DTSTAMP:20260424T075903
CREATED:20220929T123755Z
LAST-MODIFIED:20220929T123755Z
UID:3449-1665475200-1665507600@behindertenverband-leipzig.de
SUMMARY:Gruppe 40Plus
DESCRIPTION:Am 11. Oktober besuchen wir das Schokoladenmuseum in Dresden.  \n\n\n\nViele Grüße\, Andreas
URL:https://behindertenverband-leipzig.de/event/gruppe-40plus-25/
END:VEVENT
BEGIN:VEVENT
DTSTART;TZID=Europe/Berlin:20221013T140000
DTEND;TZID=Europe/Berlin:20221013T160000
DTSTAMP:20260424T075903
CREATED:20220929T124151Z
LAST-MODIFIED:20220929T124152Z
UID:3451-1665669600-1665676800@behindertenverband-leipzig.de
SUMMARY:Café inklusiv(e)
DESCRIPTION:… Verabschiedung von Frau Lück \n\n\n\nWir verlegen das Café inklusiv von Mittwoch auf Donnerstag\, den 13.10.22. Dort möchten wir uns um 14.00 Uhr im Café des Hauses der Demokratie ganz herzlich von Frau Lück verabschieden. Sie sind herzlichst eingeladen. \n\n\n\nCafé\, Haus der Demokratie
URL:https://behindertenverband-leipzig.de/event/cafe-inklusive-28/
END:VEVENT
BEGIN:VEVENT
DTSTART;TZID=Europe/Berlin:20221014T170000
DTEND;TZID=Europe/Berlin:20221014T190000
DTSTAMP:20260424T075903
CREATED:20220929T124441Z
LAST-MODIFIED:20220929T124441Z
UID:3454-1665766800-1665774000@behindertenverband-leipzig.de
SUMMARY:Club "Die Brücke"
DESCRIPTION:Liebe Mitglieder der Brücke\,unser Stammtisch findet am Freitag\, dem 14. Oktober 2022 ab 17.00 Uhr in der „Kleinen Kneipe“ statt. Bitte denkt daran\, euch bei mir übers Handy anzumelden. Zum Stammtisch bin ich leider nicht da. \n\n\n\nGruß\, Bernd
URL:https://behindertenverband-leipzig.de/event/club-die-bruecke-15/
END:VEVENT
BEGIN:VEVENT
DTSTART;TZID=Europe/Berlin:20221017T140000
DTEND;TZID=Europe/Berlin:20221017T160000
DTSTAMP:20260424T075903
CREATED:20220929T124735Z
LAST-MODIFIED:20220929T124735Z
UID:3457-1666015200-1666022400@behindertenverband-leipzig.de
SUMMARY:Kreatives Gestalten
DESCRIPTION:Herbstbasteln \n\n\n\nLiebe Bastelfreunde\,am 17.10.22\, 14.00 – 16.00 Uhr findet wieder das Kreative Gestalten im BVL statt. Wir wollen Herbstdekoration basteln – kleine Tiere aus Kastanien\, Eicheln und Streichhölzern. Bringt bitte eine gefüllte Streicholzschachtel mit. Viel Spaß beim Basteln.Eure Martina
URL:https://behindertenverband-leipzig.de/event/kreatives-gestalten-12/
END:VEVENT
BEGIN:VEVENT
DTSTART;TZID=Europe/Berlin:20221018T130000
DTEND;TZID=Europe/Berlin:20221018T173000
DTSTAMP:20260424T075903
CREATED:20220929T124958Z
LAST-MODIFIED:20220929T130142Z
UID:3460-1666098000-1666114200@behindertenverband-leipzig.de
SUMMARY:E-Rolli Wandergruppe
DESCRIPTION:Liebe Wanderfreunde\,im Oktober wollen wir uns noch einmal in die Natur wagen. Wir treffen uns am Dienstag\, dem 18. Oktober 2022 um 13 Uhr am Ostplatz\, das ist die Kreuzung zwischen Prager Straße und Oststraße. Von dort wollen wir durch den Friedenspark mit dem Duft- und Tastgarten zum alten Messegelände wandern. Dann geht es weiter bis zur Gaststätte Peloruss\, die sich im Park gegenüber des Völkerschlachtdenkmals befindet. Bis gegen 17.30 Uhr werden wir dort verweilen. Bitte meldet euch an und denkt auch daran\,wenn nötig\, den Fahrdienst zu bestellen. Drückt die Daumen für ein schönes Herbstwetter.Bleibt gesund. Wir freuen uns. Eure Gaby und Roland
URL:https://behindertenverband-leipzig.de/event/e-rolli-wandergruppe-14/
END:VEVENT
BEGIN:VEVENT
DTSTART;TZID=Europe/Berlin:20221019T140000
DTEND;TZID=Europe/Berlin:20221019T163000
DTSTAMP:20260424T075903
CREATED:20220929T125222Z
LAST-MODIFIED:20220929T125223Z
UID:3462-1666188000-1666197000@behindertenverband-leipzig.de
SUMMARY:Café inklusiv(e)
DESCRIPTION:… Uwe Psurek: Gemeinsam Singen \n\n\n\nAm 19. Oktober nimmt uns Herr Psurek mit auf eine musikalische Reise. Gemeinsam wollen wir Volkslieder und bekannte Schlager singen. Herr Psurek singt und begleitet uns auf der Gitarre.Haus der Demokratie\, Café
URL:https://behindertenverband-leipzig.de/event/cafe-inklusive-29/
END:VEVENT
BEGIN:VEVENT
DTSTART;TZID=Europe/Berlin:20221024T140000
DTEND;TZID=Europe/Berlin:20221024T160000
DTSTAMP:20260424T075903
CREATED:20220929T125520Z
LAST-MODIFIED:20220929T125555Z
UID:3465-1666620000-1666627200@behindertenverband-leipzig.de
SUMMARY:Spielenachmittag
DESCRIPTION:Jeden vierten Montag im Monat treffen sich die Spielfreunde des Behindertenverbandes Leipzig e.V. zu einem gemütlichen Spielenachmittag. Ab 14.00 Uhr wird in den Räumlichkeiten des Verbandes bei Kaffee und Keksen munter gespielt. Dabei kommen die Klassiker wie Rommé und Mensch-ärgere-dich-nicht\, genauso wie neue Spiele z.B. Dridom zum Einsatz. Kommen Sie doch einmal vorbei! Alle sind willkommen.  \n\n\n\nMartina & BerndBVL\, Raum 11
URL:https://behindertenverband-leipzig.de/event/spielenachmittag-8/
END:VEVENT
BEGIN:VEVENT
DTSTART;TZID=Europe/Berlin:20221026T140000
DTEND;TZID=Europe/Berlin:20221026T163000
DTSTAMP:20260424T075903
CREATED:20220929T125821Z
LAST-MODIFIED:20220929T125822Z
UID:3469-1666792800-1666801800@behindertenverband-leipzig.de
SUMMARY:Café inklusiv(e)
DESCRIPTION:… Gesprächsrunde \n\n\n\nWir plaudern in lockerer Atmoshäre. \n\n\n\nHaus der Demokratie\, Café
URL:https://behindertenverband-leipzig.de/event/cafe-inklusive-30/
END:VEVENT
BEGIN:VEVENT
DTSTART;TZID=Europe/Berlin:20221028T160000
DTEND;TZID=Europe/Berlin:20221028T190000
DTSTAMP:20260424T075903
CREATED:20220929T130014Z
LAST-MODIFIED:20220929T130015Z
UID:3471-1666972800-1666983600@behindertenverband-leipzig.de
SUMMARY:Rolli-Kegeln
DESCRIPTION:Die Rolli-Kegler treffen sich wie gewohnt beim SV Lok Engelsdorf.
URL:https://behindertenverband-leipzig.de/event/rolli-kegeln-10/
END:VEVENT
END:VCALENDAR