BEGIN:VCALENDAR
VERSION:2.0
PRODID:-//Behindertenverband Leipzig e.V. - ECPv6.15.20//NONSGML v1.0//EN
CALSCALE:GREGORIAN
METHOD:PUBLISH
X-ORIGINAL-URL:https://behindertenverband-leipzig.de
X-WR-CALDESC:Veranstaltungen für Behindertenverband Leipzig e.V.
REFRESH-INTERVAL;VALUE=DURATION:PT1H
X-Robots-Tag:noindex
X-PUBLISHED-TTL:PT1H
BEGIN:VTIMEZONE
TZID:Europe/Berlin
BEGIN:DAYLIGHT
TZOFFSETFROM:+0100
TZOFFSETTO:+0200
TZNAME:CEST
DTSTART:20250330T010000
END:DAYLIGHT
BEGIN:STANDARD
TZOFFSETFROM:+0200
TZOFFSETTO:+0100
TZNAME:CET
DTSTART:20251026T010000
END:STANDARD
BEGIN:DAYLIGHT
TZOFFSETFROM:+0100
TZOFFSETTO:+0200
TZNAME:CEST
DTSTART:20260329T010000
END:DAYLIGHT
BEGIN:STANDARD
TZOFFSETFROM:+0200
TZOFFSETTO:+0100
TZNAME:CET
DTSTART:20261025T010000
END:STANDARD
BEGIN:DAYLIGHT
TZOFFSETFROM:+0100
TZOFFSETTO:+0200
TZNAME:CEST
DTSTART:20270328T010000
END:DAYLIGHT
BEGIN:STANDARD
TZOFFSETFROM:+0200
TZOFFSETTO:+0100
TZNAME:CET
DTSTART:20271031T010000
END:STANDARD
END:VTIMEZONE
BEGIN:VEVENT
DTSTART;TZID=Europe/Berlin:20260417T153000
DTEND;TZID=Europe/Berlin:20260417T190000
DTSTAMP:20260421T173550
CREATED:20260327T105732Z
LAST-MODIFIED:20260327T105733Z
UID:5077-1776439800-1776452400@behindertenverband-leipzig.de
SUMMARY:Teilhabefest „Bunt.Stiften“
DESCRIPTION:Am Freitag\, den 17. April 2026\, findet ab 15:30 Uhr das Teilhabefest „Bunt.Stiften“ in der Halle A des WERK 2 in Leipzig statt. Zahlreiche Vereine und Initiativen präsentieren ihre Angebote rund um Engagement und Teilhabe\, laden zum Mitmachen ein und kommen mit Besucher:innen ins Gespräch.Für Familien gibt es einen eigenen Bereich. Ab 18:00 Uhr rundet ein inklusives Kulturprogramm den Tag ab. Der Eintritt ist kostenlos\, die Veranstaltung ist barrierearm und bietet eine gute Gelegenheit\, neue Angebote kennenzulernen und Kontakte zu knüpfen.
URL:https://behindertenverband-leipzig.de/event/teilhabefest-bunt-stiften/
LOCATION:Werk 2\, Kochstr. 132\, Leipzig\, 04277\, Germany
END:VEVENT
END:VCALENDAR