BEGIN:VCALENDAR
VERSION:2.0
PRODID:-//Behindertenverband Leipzig e.V. - ECPv6.15.20//NONSGML v1.0//EN
CALSCALE:GREGORIAN
METHOD:PUBLISH
X-WR-CALNAME:Behindertenverband Leipzig e.V.
X-ORIGINAL-URL:https://behindertenverband-leipzig.de
X-WR-CALDESC:Veranstaltungen für Behindertenverband Leipzig e.V.
REFRESH-INTERVAL;VALUE=DURATION:PT1H
X-Robots-Tag:noindex
X-PUBLISHED-TTL:PT1H
BEGIN:VTIMEZONE
TZID:Europe/Berlin
BEGIN:DAYLIGHT
TZOFFSETFROM:+0100
TZOFFSETTO:+0200
TZNAME:CEST
DTSTART:20250330T010000
END:DAYLIGHT
BEGIN:STANDARD
TZOFFSETFROM:+0200
TZOFFSETTO:+0100
TZNAME:CET
DTSTART:20251026T010000
END:STANDARD
BEGIN:DAYLIGHT
TZOFFSETFROM:+0100
TZOFFSETTO:+0200
TZNAME:CEST
DTSTART:20260329T010000
END:DAYLIGHT
BEGIN:STANDARD
TZOFFSETFROM:+0200
TZOFFSETTO:+0100
TZNAME:CET
DTSTART:20261025T010000
END:STANDARD
BEGIN:DAYLIGHT
TZOFFSETFROM:+0100
TZOFFSETTO:+0200
TZNAME:CEST
DTSTART:20270328T010000
END:DAYLIGHT
BEGIN:STANDARD
TZOFFSETFROM:+0200
TZOFFSETTO:+0100
TZNAME:CET
DTSTART:20271031T010000
END:STANDARD
END:VTIMEZONE
BEGIN:VEVENT
DTSTART;TZID=Europe/Berlin:20260401T140000
DTEND;TZID=Europe/Berlin:20260401T163000
DTSTAMP:20260421T173423
CREATED:20260327T104925Z
LAST-MODIFIED:20260327T104926Z
UID:5069-1775052000-1775061000@behindertenverband-leipzig.de
SUMMARY:Café inklusiv(e) – Seniorensicherheitsberatung
DESCRIPTION:Ältere Menschen geraten immer häufiger ins Visier von Trickbetrügern. Mit gut durchdachten Maschen versuchen Täter\, Vertrauen zu gewinnen und an Geld oder Wertsachen zu gelangen. Die Seniorensicherheitsberatung der Polizei hilft\, solche Gefahren frühzeitig zu erkennen und richtig zu reagieren. Frau Thalheim gibt uns Tipps und Informationen zu Haustürgeschäften\, Falschen Handwerkern oder Amtspersonen\, Schockanrufe und „Enkeltrick“ und zeigt uns wie wir Falschgeld erkennen. Seniorensicherheitsberatung bedeutet\, informiert und vorbereitet zu sein. Wer Bescheid weiß\, kann sich und andere besser schützen.
URL:https://behindertenverband-leipzig.de/event/cafe-inklusive-seniorensicherheitsberatung/
LOCATION:Haus der Demokratie\, Café\, Bernhard-Göring-Str. 152\, Leipzig\, 04277\, Deutschland
END:VEVENT
END:VCALENDAR