BEGIN:VCALENDAR
VERSION:2.0
PRODID:-//Behindertenverband Leipzig e.V. - ECPv6.15.20//NONSGML v1.0//EN
CALSCALE:GREGORIAN
METHOD:PUBLISH
X-WR-CALNAME:Behindertenverband Leipzig e.V.
X-ORIGINAL-URL:https://behindertenverband-leipzig.de
X-WR-CALDESC:Veranstaltungen für Behindertenverband Leipzig e.V.
REFRESH-INTERVAL;VALUE=DURATION:PT1H
X-Robots-Tag:noindex
X-PUBLISHED-TTL:PT1H
BEGIN:VTIMEZONE
TZID:Europe/Berlin
BEGIN:DAYLIGHT
TZOFFSETFROM:+0100
TZOFFSETTO:+0200
TZNAME:CEST
DTSTART:20250330T010000
END:DAYLIGHT
BEGIN:STANDARD
TZOFFSETFROM:+0200
TZOFFSETTO:+0100
TZNAME:CET
DTSTART:20251026T010000
END:STANDARD
BEGIN:DAYLIGHT
TZOFFSETFROM:+0100
TZOFFSETTO:+0200
TZNAME:CEST
DTSTART:20260329T010000
END:DAYLIGHT
BEGIN:STANDARD
TZOFFSETFROM:+0200
TZOFFSETTO:+0100
TZNAME:CET
DTSTART:20261025T010000
END:STANDARD
BEGIN:DAYLIGHT
TZOFFSETFROM:+0100
TZOFFSETTO:+0200
TZNAME:CEST
DTSTART:20270328T010000
END:DAYLIGHT
BEGIN:STANDARD
TZOFFSETFROM:+0200
TZOFFSETTO:+0100
TZNAME:CET
DTSTART:20271031T010000
END:STANDARD
END:VTIMEZONE
BEGIN:VEVENT
DTSTART;TZID=Europe/Berlin:20260325T140000
DTEND;TZID=Europe/Berlin:20260325T163000
DTSTAMP:20260421T192033
CREATED:20260226T092058Z
LAST-MODIFIED:20260226T092059Z
UID:5010-1774447200-1774456200@behindertenverband-leipzig.de
SUMMARY:Café inklusiv(e) – Gedächtnistraining
DESCRIPTION:Diesen Mittwoch gestaltet für uns Anett Reichel\, zertifizierteGedächtnistrainerin von „mobile Lichtmomente“\, mit einemLeipziger Allerlei verschiedener Fragen und Aufgaben\, um unsereGehirne ein bisschen auf Touren zu bringen.
URL:https://behindertenverband-leipzig.de/event/cafe-inklusive-gedaechtnistraining-5/
LOCATION:Haus der Demokratie\, Café\, Bernhard-Göring-Str. 152\, Leipzig\, 04277\, Deutschland
END:VEVENT
END:VCALENDAR