BEGIN:VCALENDAR
VERSION:2.0
PRODID:-//Behindertenverband Leipzig e.V. - ECPv6.15.20//NONSGML v1.0//EN
CALSCALE:GREGORIAN
METHOD:PUBLISH
X-WR-CALNAME:Behindertenverband Leipzig e.V.
X-ORIGINAL-URL:https://behindertenverband-leipzig.de
X-WR-CALDESC:Veranstaltungen für Behindertenverband Leipzig e.V.
REFRESH-INTERVAL;VALUE=DURATION:PT1H
X-Robots-Tag:noindex
X-PUBLISHED-TTL:PT1H
BEGIN:VTIMEZONE
TZID:Europe/Berlin
BEGIN:DAYLIGHT
TZOFFSETFROM:+0100
TZOFFSETTO:+0200
TZNAME:CEST
DTSTART:20250330T010000
END:DAYLIGHT
BEGIN:STANDARD
TZOFFSETFROM:+0200
TZOFFSETTO:+0100
TZNAME:CET
DTSTART:20251026T010000
END:STANDARD
BEGIN:DAYLIGHT
TZOFFSETFROM:+0100
TZOFFSETTO:+0200
TZNAME:CEST
DTSTART:20260329T010000
END:DAYLIGHT
BEGIN:STANDARD
TZOFFSETFROM:+0200
TZOFFSETTO:+0100
TZNAME:CET
DTSTART:20261025T010000
END:STANDARD
BEGIN:DAYLIGHT
TZOFFSETFROM:+0100
TZOFFSETTO:+0200
TZNAME:CEST
DTSTART:20270328T010000
END:DAYLIGHT
BEGIN:STANDARD
TZOFFSETFROM:+0200
TZOFFSETTO:+0100
TZNAME:CET
DTSTART:20271031T010000
END:STANDARD
END:VTIMEZONE
BEGIN:VEVENT
DTSTART;TZID=Europe/Berlin:20260129T134500
DTEND;TZID=Europe/Berlin:20260129T160000
DTSTAMP:20260421T205517
CREATED:20251218T161109Z
LAST-MODIFIED:20251218T161110Z
UID:4981-1769694300-1769702400@behindertenverband-leipzig.de
SUMMARY:Spielenachmittag im Grassi
DESCRIPTION:Wir spielen gemeinsam. Jeden zweiten Monat auch im Bonvenon Raum des Grassimuseums für Völkerkunde. Eine Sammlung ist vorhanden\, Lieblingsspiele dürfen gerne zum ausprobieren mitgebracht werden.
URL:https://behindertenverband-leipzig.de/event/spielenachmittag-im-grassi-9/
LOCATION:GRASSI Museum für Völkerkunde\, Johannisplatz 5-11\, Leipzig\, 04103
END:VEVENT
END:VCALENDAR