BEGIN:VCALENDAR
VERSION:2.0
PRODID:-//Behindertenverband Leipzig e.V. - ECPv6.15.20//NONSGML v1.0//EN
CALSCALE:GREGORIAN
METHOD:PUBLISH
X-WR-CALNAME:Behindertenverband Leipzig e.V.
X-ORIGINAL-URL:https://behindertenverband-leipzig.de
X-WR-CALDESC:Veranstaltungen für Behindertenverband Leipzig e.V.
REFRESH-INTERVAL;VALUE=DURATION:PT1H
X-Robots-Tag:noindex
X-PUBLISHED-TTL:PT1H
BEGIN:VTIMEZONE
TZID:Europe/Berlin
BEGIN:DAYLIGHT
TZOFFSETFROM:+0100
TZOFFSETTO:+0200
TZNAME:CEST
DTSTART:20250330T010000
END:DAYLIGHT
BEGIN:STANDARD
TZOFFSETFROM:+0200
TZOFFSETTO:+0100
TZNAME:CET
DTSTART:20251026T010000
END:STANDARD
BEGIN:DAYLIGHT
TZOFFSETFROM:+0100
TZOFFSETTO:+0200
TZNAME:CEST
DTSTART:20260329T010000
END:DAYLIGHT
BEGIN:STANDARD
TZOFFSETFROM:+0200
TZOFFSETTO:+0100
TZNAME:CET
DTSTART:20261025T010000
END:STANDARD
BEGIN:DAYLIGHT
TZOFFSETFROM:+0100
TZOFFSETTO:+0200
TZNAME:CEST
DTSTART:20270328T010000
END:DAYLIGHT
BEGIN:STANDARD
TZOFFSETFROM:+0200
TZOFFSETTO:+0100
TZNAME:CET
DTSTART:20271031T010000
END:STANDARD
END:VTIMEZONE
BEGIN:VEVENT
DTSTART;TZID=Europe/Berlin:20260126T163000
DTEND;TZID=Europe/Berlin:20260126T180000
DTSTAMP:20260421T205528
CREATED:20251218T160459Z
LAST-MODIFIED:20260126T121710Z
UID:4976-1769445000-1769450400@behindertenverband-leipzig.de
SUMMARY:FÄLLT AUS! Skat
DESCRIPTION:Es ist endlich soweit: Unsere Skatrunde trifft sich zum ersten Mal am Montag\, dem 26. Januar 2026\, um 16:30 Uhr im Besprechungsraum. Eingeladen sind alle\, die Freude am Skatspielen haben – ganz egal\, ob erfahrene Spielerinnen und Spieler oder neugierige Neueinsteiger.Anmeldung bitte vorab per E-Mail ankontakt@behindertenverband-leizig.deoder telefonisch unter 0341 3065 120.Wir freuen uns auf einen geselligen Nachmittag mit spannenden Runden und anregenden Gesprächen
URL:https://behindertenverband-leipzig.de/event/skatfreunde-aufgepasst/
LOCATION:Haus der Demokratie\, Raum 011\, Bernhard-Göring-Str. 152\, Leipzig\, 04277
END:VEVENT
END:VCALENDAR