BEGIN:VCALENDAR
VERSION:2.0
PRODID:-//Behindertenverband Leipzig e.V. - ECPv6.15.20//NONSGML v1.0//EN
CALSCALE:GREGORIAN
METHOD:PUBLISH
X-WR-CALNAME:Behindertenverband Leipzig e.V.
X-ORIGINAL-URL:https://behindertenverband-leipzig.de
X-WR-CALDESC:Veranstaltungen für Behindertenverband Leipzig e.V.
REFRESH-INTERVAL;VALUE=DURATION:PT1H
X-Robots-Tag:noindex
X-PUBLISHED-TTL:PT1H
BEGIN:VTIMEZONE
TZID:Europe/Berlin
BEGIN:DAYLIGHT
TZOFFSETFROM:+0100
TZOFFSETTO:+0200
TZNAME:CEST
DTSTART:20250330T010000
END:DAYLIGHT
BEGIN:STANDARD
TZOFFSETFROM:+0200
TZOFFSETTO:+0100
TZNAME:CET
DTSTART:20251026T010000
END:STANDARD
BEGIN:DAYLIGHT
TZOFFSETFROM:+0100
TZOFFSETTO:+0200
TZNAME:CEST
DTSTART:20260329T010000
END:DAYLIGHT
BEGIN:STANDARD
TZOFFSETFROM:+0200
TZOFFSETTO:+0100
TZNAME:CET
DTSTART:20261025T010000
END:STANDARD
BEGIN:DAYLIGHT
TZOFFSETFROM:+0100
TZOFFSETTO:+0200
TZNAME:CEST
DTSTART:20270328T010000
END:DAYLIGHT
BEGIN:STANDARD
TZOFFSETFROM:+0200
TZOFFSETTO:+0100
TZNAME:CET
DTSTART:20271031T010000
END:STANDARD
END:VTIMEZONE
BEGIN:VEVENT
DTSTART;TZID=Europe/Berlin:20260120T130000
DTEND;TZID=Europe/Berlin:20260120T170000
DTSTAMP:20260421T223145
CREATED:20251218T160358Z
LAST-MODIFIED:20251218T160358Z
UID:4974-1768914000-1768928400@behindertenverband-leipzig.de
SUMMARY:E-Rolli Wandergruppe
DESCRIPTION:Liebe Wanderfreunde\,ein neues Jahr hat begonnen und ich möchte euch ganz herzlich zum Besuch beim Sandmännchen einladen. Dazu treffen wir uns am Dienstag\, dem 20. Januar 2026 am Stadtgeschichtlichen Museum\, Haus Böttchergäßchen\, Böttchergäßchen 3 in 04109 Leipzig zur Sonderausstellung „Unser Sandmännchen in Leipzig“. Bestaunen wir gemeinsam die unterschiedlichen Puppen\, deren Fahrzeuge und die Kulissen vom Märchenwald im Original.Ich freue mich.Eure Gaby
URL:https://behindertenverband-leipzig.de/event/e-rolli-wandergruppe-41/
END:VEVENT
END:VCALENDAR