BEGIN:VCALENDAR
VERSION:2.0
PRODID:-//Behindertenverband Leipzig e.V. - ECPv6.15.20//NONSGML v1.0//EN
CALSCALE:GREGORIAN
METHOD:PUBLISH
X-WR-CALNAME:Behindertenverband Leipzig e.V.
X-ORIGINAL-URL:https://behindertenverband-leipzig.de
X-WR-CALDESC:Veranstaltungen für Behindertenverband Leipzig e.V.
REFRESH-INTERVAL;VALUE=DURATION:PT1H
X-Robots-Tag:noindex
X-PUBLISHED-TTL:PT1H
BEGIN:VTIMEZONE
TZID:Europe/Berlin
BEGIN:DAYLIGHT
TZOFFSETFROM:+0100
TZOFFSETTO:+0200
TZNAME:CEST
DTSTART:20240331T010000
END:DAYLIGHT
BEGIN:STANDARD
TZOFFSETFROM:+0200
TZOFFSETTO:+0100
TZNAME:CET
DTSTART:20241027T010000
END:STANDARD
BEGIN:DAYLIGHT
TZOFFSETFROM:+0100
TZOFFSETTO:+0200
TZNAME:CEST
DTSTART:20250330T010000
END:DAYLIGHT
BEGIN:STANDARD
TZOFFSETFROM:+0200
TZOFFSETTO:+0100
TZNAME:CET
DTSTART:20251026T010000
END:STANDARD
BEGIN:DAYLIGHT
TZOFFSETFROM:+0100
TZOFFSETTO:+0200
TZNAME:CEST
DTSTART:20260329T010000
END:DAYLIGHT
BEGIN:STANDARD
TZOFFSETFROM:+0200
TZOFFSETTO:+0100
TZNAME:CET
DTSTART:20261025T010000
END:STANDARD
END:VTIMEZONE
BEGIN:VEVENT
DTSTART;TZID=Europe/Berlin:20251118T130000
DTEND;TZID=Europe/Berlin:20251118T160000
DTSTAMP:20260422T014353
CREATED:20251105T093516Z
LAST-MODIFIED:20251105T093517Z
UID:4912-1763470800-1763481600@behindertenverband-leipzig.de
SUMMARY:E-Rolli Wandergruppe
DESCRIPTION:Liebe Wanderfreunde\,im November schauen wir uns eine ganz besondere Ausstellung im Leipziger Stadtarchiv an. Diese steht unter dem Titel: „Schimpf und Schande“ und beschäftigt sich mit Beleidigungen\, Beschimpfungen und Diffamierungen in den vergangenen Jahrhunderten.Wir treffen uns also am Stadtarchiv\, dem ehemaligen sowjetischen Pavillon auf der Alten Messe\, am Dienstag\, dem 18. November 2025 um 13 Uhr. Bleibt gesund. Ich freue mich!Eure Gaby
URL:https://behindertenverband-leipzig.de/event/e-rolli-wandergruppe-40/
END:VEVENT
END:VCALENDAR