BEGIN:VCALENDAR
VERSION:2.0
PRODID:-//Behindertenverband Leipzig e.V. - ECPv6.15.20//NONSGML v1.0//EN
CALSCALE:GREGORIAN
METHOD:PUBLISH
X-WR-CALNAME:Behindertenverband Leipzig e.V.
X-ORIGINAL-URL:https://behindertenverband-leipzig.de
X-WR-CALDESC:Veranstaltungen für Behindertenverband Leipzig e.V.
REFRESH-INTERVAL;VALUE=DURATION:PT1H
X-Robots-Tag:noindex
X-PUBLISHED-TTL:PT1H
BEGIN:VTIMEZONE
TZID:Europe/Berlin
BEGIN:DAYLIGHT
TZOFFSETFROM:+0100
TZOFFSETTO:+0200
TZNAME:CEST
DTSTART:20240331T010000
END:DAYLIGHT
BEGIN:STANDARD
TZOFFSETFROM:+0200
TZOFFSETTO:+0100
TZNAME:CET
DTSTART:20241027T010000
END:STANDARD
BEGIN:DAYLIGHT
TZOFFSETFROM:+0100
TZOFFSETTO:+0200
TZNAME:CEST
DTSTART:20250330T010000
END:DAYLIGHT
BEGIN:STANDARD
TZOFFSETFROM:+0200
TZOFFSETTO:+0100
TZNAME:CET
DTSTART:20251026T010000
END:STANDARD
BEGIN:DAYLIGHT
TZOFFSETFROM:+0100
TZOFFSETTO:+0200
TZNAME:CEST
DTSTART:20260329T010000
END:DAYLIGHT
BEGIN:STANDARD
TZOFFSETFROM:+0200
TZOFFSETTO:+0100
TZNAME:CET
DTSTART:20261025T010000
END:STANDARD
END:VTIMEZONE
BEGIN:VEVENT
DTSTART;TZID=Europe/Berlin:20250910T140000
DTEND;TZID=Europe/Berlin:20250910T163000
DTSTAMP:20260422T051123
CREATED:20250821T112522Z
LAST-MODIFIED:20250821T112523Z
UID:4832-1757512800-1757521800@behindertenverband-leipzig.de
SUMMARY:Café Inklusiv(e) – Begegnungsfahrt auf dem Markkleeberger See
DESCRIPTION:Liebe Mittwochsrunde und Interessierte\,dieses Jahr möchten wir Sie endlich mal wieder zu einem kleinen Ausflug einladen. Gemeinsam machen wir uns auf zum Markkleeberger See\, um dort eine zweistündige Rundfahrt auf einem Schiff zu genießen und bei Kaffee und Kuchen die Seele baumeln zu lassen. \n\n\n\nDas Schiff ist barrierefrei und es gibt eine rollstuhlgerechte Toilette.Kosten: 10 € für Schifffahrt und Verpflegung an Deck\, zzgl. Fahrtkosten\, falls Sie mit dem Fahrdienst fahren.Anmeldeschluss: Mittwoch\, der 01.09.2025\, nur angemeldete Personen können am Ausflug teilnehmen! \n\n\n\nEs wird eine Gruppe geben\, die gemeinsam mit Frau Keitel mit den öffentlichen Verkehrsmitteln anreist.Dazu treffen wir uns um 13:00 Uhr an der Tramhaltestelle Connewitzer Kreuz\, nehmen dort um 13:10 Uhr die Tram 11 Richtung Markkleeberg Ost und steigen an der Haltestelle Markkleeberg Ost Schillerplatz aus. Den Bootsanlegesteg erreichen wir dann in ca. 10 Minuten \n\n\n\nBitte kümmern Sie sich eigenständig um den Erwerb von Tickets für die Tram und melden Sie sich bei Frau Keitel\, wenn Sie hierfür Unterstützung wünschen.Falls Sie einen Schieberollstuhl haben und noch jemand zum Schieben brauchen\, sagen Sie Bescheid – wir versuchen es möglich zu machen. Wir freuen uns auf den gemeinsamen Nachmittag auf dem Wasser!
URL:https://behindertenverband-leipzig.de/event/cafe-inklusive-begegnungsfahrt-auf-dem-markkleeberger-see/
END:VEVENT
END:VCALENDAR