BEGIN:VCALENDAR
VERSION:2.0
PRODID:-//Behindertenverband Leipzig e.V. - ECPv6.15.20//NONSGML v1.0//EN
CALSCALE:GREGORIAN
METHOD:PUBLISH
X-ORIGINAL-URL:https://behindertenverband-leipzig.de
X-WR-CALDESC:Veranstaltungen für Behindertenverband Leipzig e.V.
REFRESH-INTERVAL;VALUE=DURATION:PT1H
X-Robots-Tag:noindex
X-PUBLISHED-TTL:PT1H
BEGIN:VTIMEZONE
TZID:Europe/Berlin
BEGIN:DAYLIGHT
TZOFFSETFROM:+0100
TZOFFSETTO:+0200
TZNAME:CEST
DTSTART:20240331T010000
END:DAYLIGHT
BEGIN:STANDARD
TZOFFSETFROM:+0200
TZOFFSETTO:+0100
TZNAME:CET
DTSTART:20241027T010000
END:STANDARD
BEGIN:DAYLIGHT
TZOFFSETFROM:+0100
TZOFFSETTO:+0200
TZNAME:CEST
DTSTART:20250330T010000
END:DAYLIGHT
BEGIN:STANDARD
TZOFFSETFROM:+0200
TZOFFSETTO:+0100
TZNAME:CET
DTSTART:20251026T010000
END:STANDARD
BEGIN:DAYLIGHT
TZOFFSETFROM:+0100
TZOFFSETTO:+0200
TZNAME:CEST
DTSTART:20260329T010000
END:DAYLIGHT
BEGIN:STANDARD
TZOFFSETFROM:+0200
TZOFFSETTO:+0100
TZNAME:CET
DTSTART:20261025T010000
END:STANDARD
END:VTIMEZONE
BEGIN:VEVENT
DTSTART;TZID=Europe/Berlin:20250903T160000
DTEND;TZID=Europe/Berlin:20250903T163000
DTSTAMP:20260422T051344
CREATED:20250821T112256Z
LAST-MODIFIED:20250821T112258Z
UID:4830-1756915200-1756917000@behindertenverband-leipzig.de
SUMMARY:Café Inklusiv(e) – Botanischer Garten
DESCRIPTION:Wegen Renovierungsarbeiten im Haus der Demokratie können wir das Café nicht nutzen.Wir werden deshalb einen kleinen Ausflug in den Botanischen Garten machen und dort gemeinsam den Nachmittag genießen.Treffpunkt ist um 14:00 Uhr vor dem Eingang Johannisallee.
URL:https://behindertenverband-leipzig.de/event/cafe-inklusive-botanischer-garten-2/
LOCATION:Botanischer Garten\, Linnéstraße 1\, Leipzig\, 04103\, Deutschland
END:VEVENT
END:VCALENDAR