BEGIN:VCALENDAR
VERSION:2.0
PRODID:-//Behindertenverband Leipzig e.V. - ECPv6.15.20//NONSGML v1.0//EN
CALSCALE:GREGORIAN
METHOD:PUBLISH
X-ORIGINAL-URL:https://behindertenverband-leipzig.de
X-WR-CALDESC:Veranstaltungen für Behindertenverband Leipzig e.V.
REFRESH-INTERVAL;VALUE=DURATION:PT1H
X-Robots-Tag:noindex
X-PUBLISHED-TTL:PT1H
BEGIN:VTIMEZONE
TZID:Europe/Berlin
BEGIN:DAYLIGHT
TZOFFSETFROM:+0100
TZOFFSETTO:+0200
TZNAME:CEST
DTSTART:20240331T010000
END:DAYLIGHT
BEGIN:STANDARD
TZOFFSETFROM:+0200
TZOFFSETTO:+0100
TZNAME:CET
DTSTART:20241027T010000
END:STANDARD
BEGIN:DAYLIGHT
TZOFFSETFROM:+0100
TZOFFSETTO:+0200
TZNAME:CEST
DTSTART:20250330T010000
END:DAYLIGHT
BEGIN:STANDARD
TZOFFSETFROM:+0200
TZOFFSETTO:+0100
TZNAME:CET
DTSTART:20251026T010000
END:STANDARD
BEGIN:DAYLIGHT
TZOFFSETFROM:+0100
TZOFFSETTO:+0200
TZNAME:CEST
DTSTART:20260329T010000
END:DAYLIGHT
BEGIN:STANDARD
TZOFFSETFROM:+0200
TZOFFSETTO:+0100
TZNAME:CET
DTSTART:20261025T010000
END:STANDARD
END:VTIMEZONE
BEGIN:VEVENT
DTSTART;TZID=Europe/Berlin:20250709T133000
DTEND;TZID=Europe/Berlin:20250709T160000
DTSTAMP:20260422T081145
CREATED:20250624T074258Z
LAST-MODIFIED:20250624T074259Z
UID:4778-1752067800-1752076800@behindertenverband-leipzig.de
SUMMARY:Café Inklusiv(e): Kochen
DESCRIPTION:Da es letztes Mal so schön war\, wollen wir diesen Mittwoch wieder lecker in Gemeinschaft kochen. Wir zaubern eine sommerliche Minestrone (italienische Gemüsesuppe)\, die es je nach Saison und Region in vielen Varianten gibt.Über eine Teilnahmegebühr von 5 Euro würden wir uns freuen (Kaffee inklusive).Bitte kommen Sie zu diesem Termin bereits um 13:30 Uhr.
URL:https://behindertenverband-leipzig.de/event/cafe-inklusive-kochen/
LOCATION:Haus der Demokratie\, Café\, Bernhard-Göring-Str. 152\, Leipzig\, 04277\, Deutschland
END:VEVENT
END:VCALENDAR