BEGIN:VCALENDAR
VERSION:2.0
PRODID:-//Behindertenverband Leipzig e.V. - ECPv6.15.20//NONSGML v1.0//EN
CALSCALE:GREGORIAN
METHOD:PUBLISH
X-ORIGINAL-URL:https://behindertenverband-leipzig.de
X-WR-CALDESC:Veranstaltungen für Behindertenverband Leipzig e.V.
REFRESH-INTERVAL;VALUE=DURATION:PT1H
X-Robots-Tag:noindex
X-PUBLISHED-TTL:PT1H
BEGIN:VTIMEZONE
TZID:Europe/Berlin
BEGIN:DAYLIGHT
TZOFFSETFROM:+0100
TZOFFSETTO:+0200
TZNAME:CEST
DTSTART:20240331T010000
END:DAYLIGHT
BEGIN:STANDARD
TZOFFSETFROM:+0200
TZOFFSETTO:+0100
TZNAME:CET
DTSTART:20241027T010000
END:STANDARD
BEGIN:DAYLIGHT
TZOFFSETFROM:+0100
TZOFFSETTO:+0200
TZNAME:CEST
DTSTART:20250330T010000
END:DAYLIGHT
BEGIN:STANDARD
TZOFFSETFROM:+0200
TZOFFSETTO:+0100
TZNAME:CET
DTSTART:20251026T010000
END:STANDARD
BEGIN:DAYLIGHT
TZOFFSETFROM:+0100
TZOFFSETTO:+0200
TZNAME:CEST
DTSTART:20260329T010000
END:DAYLIGHT
BEGIN:STANDARD
TZOFFSETFROM:+0200
TZOFFSETTO:+0100
TZNAME:CET
DTSTART:20261025T010000
END:STANDARD
END:VTIMEZONE
BEGIN:VEVENT
DTSTART;TZID=Europe/Berlin:20250702T140000
DTEND;TZID=Europe/Berlin:20250702T160000
DTSTAMP:20260422T081024
CREATED:20250624T074140Z
LAST-MODIFIED:20250624T074141Z
UID:4776-1751464800-1751472000@behindertenverband-leipzig.de
SUMMARY:Café Inklusiv(e): Besuch von der Stadt
DESCRIPTION:Wir bekommen Besuch von der Stadt\, die sich gerne zu folgenden Themen mit uns austauschen möchte:Wie finden Sie die offenen Begegnungsangebote für Menschen mit (und ohne) Behinderung? Welche Angebote gefallen Ihnen? Welche Angebote wünschen Sie sich?Was erwartet Sie?Ein Gespräch mit Mitarbeiterinnen des Sozialamtes der Stadt Leipzig bei Kaffee\, Kuchen und Obst.Warum wird zu dem Gespräch eingeladen?Das Sozialamt erarbeitet den Fachplan „Offene Angebote für soziale Teilhabe“. Mit diesem sollen unter anderem Begegnungsangebote weiterentwickelt werden. Ihre Meinung als Nutzerin oder Nutzer ist dafür sehr wichtig.Wie können Sie sich anmelden?Melden Sie sich gerne im Sekretariat des BVL an.Wir freuen uns\, wenn Sie an dem Gespräch teilnehmen!
URL:https://behindertenverband-leipzig.de/event/cafe-inklusive-besuch-von-der-stadt/
LOCATION:Haus der Demokratie\, Café\, Bernhard-Göring-Str. 152\, Leipzig\, 04277\, Deutschland
END:VEVENT
END:VCALENDAR