BEGIN:VCALENDAR
VERSION:2.0
PRODID:-//Behindertenverband Leipzig e.V. - ECPv6.15.20//NONSGML v1.0//EN
CALSCALE:GREGORIAN
METHOD:PUBLISH
X-ORIGINAL-URL:https://behindertenverband-leipzig.de
X-WR-CALDESC:Veranstaltungen für Behindertenverband Leipzig e.V.
REFRESH-INTERVAL;VALUE=DURATION:PT1H
X-Robots-Tag:noindex
X-PUBLISHED-TTL:PT1H
BEGIN:VTIMEZONE
TZID:Europe/Berlin
BEGIN:DAYLIGHT
TZOFFSETFROM:+0100
TZOFFSETTO:+0200
TZNAME:CEST
DTSTART:20240331T010000
END:DAYLIGHT
BEGIN:STANDARD
TZOFFSETFROM:+0200
TZOFFSETTO:+0100
TZNAME:CET
DTSTART:20241027T010000
END:STANDARD
BEGIN:DAYLIGHT
TZOFFSETFROM:+0100
TZOFFSETTO:+0200
TZNAME:CEST
DTSTART:20250330T010000
END:DAYLIGHT
BEGIN:STANDARD
TZOFFSETFROM:+0200
TZOFFSETTO:+0100
TZNAME:CET
DTSTART:20251026T010000
END:STANDARD
BEGIN:DAYLIGHT
TZOFFSETFROM:+0100
TZOFFSETTO:+0200
TZNAME:CEST
DTSTART:20260329T010000
END:DAYLIGHT
BEGIN:STANDARD
TZOFFSETFROM:+0200
TZOFFSETTO:+0100
TZNAME:CET
DTSTART:20261025T010000
END:STANDARD
END:VTIMEZONE
BEGIN:VEVENT
DTSTART;TZID=Europe/Berlin:20250617T130000
DTEND;TZID=Europe/Berlin:20250617T170000
DTSTAMP:20260422T094154
CREATED:20250522T114713Z
LAST-MODIFIED:20250522T114714Z
UID:4755-1750165200-1750179600@behindertenverband-leipzig.de
SUMMARY:E-Rolli Wandergruppe
DESCRIPTION:Liebe Wanderfreunde\, \n\n\n\nim Juni werden wir uns ein Leipziger Kleinod anschauen.Leipzig wird auch als Wiege der Kleingärten bezeichnet und so werden wir dem Freigelände des Kleingartenmuseums in der Aachener Straße unseren Besuch abstatten.Wir treffen uns am 17. Juni 2025 um 13 Uhr am Waldplatz auf der Seite der AOK. Von dort wandern wir dann zur Kleingartenanlage „Dr. Schreber“ und schauen uns die unterschiedlichen Schaugärten an. \n\n\n\nIch hoffe\, wir können trotz aller Straßenbaumaßnahmen unsere Wanderung mit allen Wanderfreunden durchführen. \n\n\n\nBitte meldet euch an und bleibt gesund.Ich freue michEure Gaby
URL:https://behindertenverband-leipzig.de/event/e-rolli-wandergruppe-36/
END:VEVENT
END:VCALENDAR