BEGIN:VCALENDAR
VERSION:2.0
PRODID:-//Behindertenverband Leipzig e.V. - ECPv6.15.20//NONSGML v1.0//EN
CALSCALE:GREGORIAN
METHOD:PUBLISH
X-WR-CALNAME:Behindertenverband Leipzig e.V.
X-ORIGINAL-URL:https://behindertenverband-leipzig.de
X-WR-CALDESC:Veranstaltungen für Behindertenverband Leipzig e.V.
REFRESH-INTERVAL;VALUE=DURATION:PT1H
X-Robots-Tag:noindex
X-PUBLISHED-TTL:PT1H
BEGIN:VTIMEZONE
TZID:Europe/Berlin
BEGIN:DAYLIGHT
TZOFFSETFROM:+0100
TZOFFSETTO:+0200
TZNAME:CEST
DTSTART:20240331T010000
END:DAYLIGHT
BEGIN:STANDARD
TZOFFSETFROM:+0200
TZOFFSETTO:+0100
TZNAME:CET
DTSTART:20241027T010000
END:STANDARD
BEGIN:DAYLIGHT
TZOFFSETFROM:+0100
TZOFFSETTO:+0200
TZNAME:CEST
DTSTART:20250330T010000
END:DAYLIGHT
BEGIN:STANDARD
TZOFFSETFROM:+0200
TZOFFSETTO:+0100
TZNAME:CET
DTSTART:20251026T010000
END:STANDARD
BEGIN:DAYLIGHT
TZOFFSETFROM:+0100
TZOFFSETTO:+0200
TZNAME:CEST
DTSTART:20260329T010000
END:DAYLIGHT
BEGIN:STANDARD
TZOFFSETFROM:+0200
TZOFFSETTO:+0100
TZNAME:CET
DTSTART:20261025T010000
END:STANDARD
END:VTIMEZONE
BEGIN:VEVENT
DTSTART;TZID=Europe/Berlin:20250210T140000
DTEND;TZID=Europe/Berlin:20250210T160000
DTSTAMP:20260422T155901
CREATED:20250121T142448Z
LAST-MODIFIED:20250123T070140Z
UID:4554-1739196000-1739203200@behindertenverband-leipzig.de
SUMMARY:Kreatives Gestalten
DESCRIPTION:Liebe Bastelfreundinnen und -freunde\,Wir wollen diesen Monat wieder mit Ton arbeiten. Fertiggebrannte Stücke der letzten Male werden mitgebracht undkönnen glasiert werden.Liebe Grüße\, Tom und Martina
URL:https://behindertenverband-leipzig.de/event/kreatives-gestalten-37/
LOCATION:Haus der Demokratie\, Raum 011\, Bernhard-Göring-Str. 152\, Leipzig\, 04277
END:VEVENT
END:VCALENDAR