BEGIN:VCALENDAR
VERSION:2.0
PRODID:-//Behindertenverband Leipzig e.V. - ECPv6.15.20//NONSGML v1.0//EN
CALSCALE:GREGORIAN
METHOD:PUBLISH
X-ORIGINAL-URL:https://behindertenverband-leipzig.de
X-WR-CALDESC:Veranstaltungen für Behindertenverband Leipzig e.V.
REFRESH-INTERVAL;VALUE=DURATION:PT1H
X-Robots-Tag:noindex
X-PUBLISHED-TTL:PT1H
BEGIN:VTIMEZONE
TZID:Europe/Berlin
BEGIN:DAYLIGHT
TZOFFSETFROM:+0100
TZOFFSETTO:+0200
TZNAME:CEST
DTSTART:20240331T010000
END:DAYLIGHT
BEGIN:STANDARD
TZOFFSETFROM:+0200
TZOFFSETTO:+0100
TZNAME:CET
DTSTART:20241027T010000
END:STANDARD
BEGIN:DAYLIGHT
TZOFFSETFROM:+0100
TZOFFSETTO:+0200
TZNAME:CEST
DTSTART:20250330T010000
END:DAYLIGHT
BEGIN:STANDARD
TZOFFSETFROM:+0200
TZOFFSETTO:+0100
TZNAME:CET
DTSTART:20251026T010000
END:STANDARD
BEGIN:DAYLIGHT
TZOFFSETFROM:+0100
TZOFFSETTO:+0200
TZNAME:CEST
DTSTART:20260329T010000
END:DAYLIGHT
BEGIN:STANDARD
TZOFFSETFROM:+0200
TZOFFSETTO:+0100
TZNAME:CET
DTSTART:20261025T010000
END:STANDARD
END:VTIMEZONE
BEGIN:VEVENT
DTSTART;TZID=Europe/Berlin:20250129T140000
DTEND;TZID=Europe/Berlin:20250129T163000
DTSTAMP:20260422T160052
CREATED:20241219T131150Z
LAST-MODIFIED:20250123T065934Z
UID:4491-1738159200-1738168200@behindertenverband-leipzig.de
SUMMARY:Café Inklusiv(e): Vorstellung Malteser Besuchsdienst
DESCRIPTION:Sie wünschen sich gute Gespräche\, einen Spaziergang insGrüne oder einen Besuch im Stadtcafé? Die Ehrenamtlichendes Malteser Besuchsdienst besuchen und begleiten Sie inIhrem Alltag. Das Angebot richtet sich an alle\, die sich mehrAbwechslung und Miteinander wünschen sowie Freude anGeselligkeit und Austausch haben. Zu Gast haben wir an diesemNachmittag die Besuchsdienstkoordinatorin Katharina Saunders.
URL:https://behindertenverband-leipzig.de/event/cafe-inklusive-vorstellung-malteser-besuchsdienst/
LOCATION:Haus der Demokratie\, Café\, Bernhard-Göring-Str. 152\, Leipzig\, 04277\, Deutschland
END:VEVENT
END:VCALENDAR