BEGIN:VCALENDAR
VERSION:2.0
PRODID:-//Behindertenverband Leipzig e.V. - ECPv6.15.20//NONSGML v1.0//EN
CALSCALE:GREGORIAN
METHOD:PUBLISH
X-ORIGINAL-URL:https://behindertenverband-leipzig.de
X-WR-CALDESC:Veranstaltungen für Behindertenverband Leipzig e.V.
REFRESH-INTERVAL;VALUE=DURATION:PT1H
X-Robots-Tag:noindex
X-PUBLISHED-TTL:PT1H
BEGIN:VTIMEZONE
TZID:Europe/Berlin
BEGIN:DAYLIGHT
TZOFFSETFROM:+0100
TZOFFSETTO:+0200
TZNAME:CEST
DTSTART:20230326T010000
END:DAYLIGHT
BEGIN:STANDARD
TZOFFSETFROM:+0200
TZOFFSETTO:+0100
TZNAME:CET
DTSTART:20231029T010000
END:STANDARD
BEGIN:DAYLIGHT
TZOFFSETFROM:+0100
TZOFFSETTO:+0200
TZNAME:CEST
DTSTART:20240331T010000
END:DAYLIGHT
BEGIN:STANDARD
TZOFFSETFROM:+0200
TZOFFSETTO:+0100
TZNAME:CET
DTSTART:20241027T010000
END:STANDARD
BEGIN:DAYLIGHT
TZOFFSETFROM:+0100
TZOFFSETTO:+0200
TZNAME:CEST
DTSTART:20250330T010000
END:DAYLIGHT
BEGIN:STANDARD
TZOFFSETFROM:+0200
TZOFFSETTO:+0100
TZNAME:CET
DTSTART:20251026T010000
END:STANDARD
END:VTIMEZONE
BEGIN:VEVENT
DTSTART;TZID=Europe/Berlin:20241002T140000
DTEND;TZID=Europe/Berlin:20241002T163000
DTSTAMP:20260422T214703
CREATED:20241002T074723Z
LAST-MODIFIED:20241002T074725Z
UID:4308-1727877600-1727886600@behindertenverband-leipzig.de
SUMMARY:Café Inklusiv(e) - Interkulturelle Herausforderungen Eine Welt e.V.
DESCRIPTION:Die Begegnung mit Menschen verschiedener Kulturen kann für beide Seiten bereichernd und gleichzeitig herausfordernd sein. Dabei haben wir es oft mit unterschiedlichen Wertvorstellungen zu tun. Es gibt Unterschiede\, aber auch viele Gemeinsamkeiten.Wie können wir respektvoll miteinander umgehen?
URL:https://behindertenverband-leipzig.de/event/cafe-inklusive-interkulturelle-herausforderungen-eine-welt-e-v/
LOCATION:Haus der Demokratie\, Café\, Bernhard-Göring-Str. 152\, Leipzig\, 04277\, Deutschland
END:VEVENT
END:VCALENDAR