BEGIN:VCALENDAR
VERSION:2.0
PRODID:-//Behindertenverband Leipzig e.V. - ECPv6.15.20//NONSGML v1.0//EN
CALSCALE:GREGORIAN
METHOD:PUBLISH
X-WR-CALNAME:Behindertenverband Leipzig e.V.
X-ORIGINAL-URL:https://behindertenverband-leipzig.de
X-WR-CALDESC:Veranstaltungen für Behindertenverband Leipzig e.V.
REFRESH-INTERVAL;VALUE=DURATION:PT1H
X-Robots-Tag:noindex
X-PUBLISHED-TTL:PT1H
BEGIN:VTIMEZONE
TZID:Europe/Berlin
BEGIN:DAYLIGHT
TZOFFSETFROM:+0100
TZOFFSETTO:+0200
TZNAME:CEST
DTSTART:20230326T010000
END:DAYLIGHT
BEGIN:STANDARD
TZOFFSETFROM:+0200
TZOFFSETTO:+0100
TZNAME:CET
DTSTART:20231029T010000
END:STANDARD
BEGIN:DAYLIGHT
TZOFFSETFROM:+0100
TZOFFSETTO:+0200
TZNAME:CEST
DTSTART:20240331T010000
END:DAYLIGHT
BEGIN:STANDARD
TZOFFSETFROM:+0200
TZOFFSETTO:+0100
TZNAME:CET
DTSTART:20241027T010000
END:STANDARD
BEGIN:DAYLIGHT
TZOFFSETFROM:+0100
TZOFFSETTO:+0200
TZNAME:CEST
DTSTART:20250330T010000
END:DAYLIGHT
BEGIN:STANDARD
TZOFFSETFROM:+0200
TZOFFSETTO:+0100
TZNAME:CET
DTSTART:20251026T010000
END:STANDARD
END:VTIMEZONE
BEGIN:VEVENT
DTSTART;TZID=Europe/Berlin:20240918T100000
DTEND;TZID=Europe/Berlin:20240918T140000
DTSTAMP:20260422T230846
CREATED:20240827T074911Z
LAST-MODIFIED:20240827T074913Z
UID:4300-1726653600-1726668000@behindertenverband-leipzig.de
SUMMARY:Sicher unterwegs - Offenes Mobilitätstraining mit den LVB
DESCRIPTION:Am 18. September lädt Sie die LVB ein\, sich in der großen Wagenhalle des Straßenbahnhofes Angerbrücke vielseitig zum Thema Sicherheit im ÖPNV zu informieren und beraten zu lassen. \n\n\n\nAn einer bereitstehenden Straßenbahn und einem Bus können Sie mit Ihrem Hilfsmittel\, egal ob Gehhilfe\, Rollator\, Rollstuhl oder Elektromobil\, den Ein- und Ausstieg üben. Dafür stehen Ihnen bei Bedarf die helfenden Hände des LVB-Begleitdienstes zur Seite. Darüber hinaus gibt es Beratungsangebote von verschiedenen Vereinen. Auch der BVL wird wieder mit einem Stand vertreten sein.  \n\n\n\nDa die Veranstaltung über die Mittagszeit geht\, können Speisen und Getränke für einen kleinen Obolus vor Ort erworben werden
URL:https://behindertenverband-leipzig.de/event/sicher-unterwegs-offenes-mobilitaetstraining-mit-den-lvb/
END:VEVENT
BEGIN:VEVENT
DTSTART;TZID=Europe/Berlin:20240918T140000
DTEND;TZID=Europe/Berlin:20240918T163000
DTSTAMP:20260422T230846
CREATED:20240827T070437Z
LAST-MODIFIED:20240827T070439Z
UID:4287-1726668000-1726677000@behindertenverband-leipzig.de
SUMMARY:Café Inklusiv(e) - Filmmittag „Schmetterlinge – Quelle der Inspiration“
DESCRIPTION:Die enormen Fähigkeiten und der Einfallsreichtum derSchmetterlinge inspirieren die moderne Wissenschaft. Wertvolletechnologische Instrumente und wissenschaftliche Anwendungenentstehen auf dieser Basis und sind eine Entwicklung für dieZukunft. Vom Wunder der Natur zum Wissen – der Menschprofitiert von der Evolution dieser wunderschönen Kreatur\,Poesie wird Fortschritt.
URL:https://behindertenverband-leipzig.de/event/cafe-inklusive-filmmittag-schmetterlinge-quelle-der-inspiration/
LOCATION:Haus der Demokratie\, Café\, Bernhard-Göring-Str. 152\, Leipzig\, 04277\, Deutschland
END:VEVENT
END:VCALENDAR