BEGIN:VCALENDAR
VERSION:2.0
PRODID:-//Behindertenverband Leipzig e.V. - ECPv6.15.20//NONSGML v1.0//EN
CALSCALE:GREGORIAN
METHOD:PUBLISH
X-ORIGINAL-URL:https://behindertenverband-leipzig.de
X-WR-CALDESC:Veranstaltungen für Behindertenverband Leipzig e.V.
REFRESH-INTERVAL;VALUE=DURATION:PT1H
X-Robots-Tag:noindex
X-PUBLISHED-TTL:PT1H
BEGIN:VTIMEZONE
TZID:Europe/Berlin
BEGIN:DAYLIGHT
TZOFFSETFROM:+0100
TZOFFSETTO:+0200
TZNAME:CEST
DTSTART:20230326T010000
END:DAYLIGHT
BEGIN:STANDARD
TZOFFSETFROM:+0200
TZOFFSETTO:+0100
TZNAME:CET
DTSTART:20231029T010000
END:STANDARD
BEGIN:DAYLIGHT
TZOFFSETFROM:+0100
TZOFFSETTO:+0200
TZNAME:CEST
DTSTART:20240331T010000
END:DAYLIGHT
BEGIN:STANDARD
TZOFFSETFROM:+0200
TZOFFSETTO:+0100
TZNAME:CET
DTSTART:20241027T010000
END:STANDARD
BEGIN:DAYLIGHT
TZOFFSETFROM:+0100
TZOFFSETTO:+0200
TZNAME:CEST
DTSTART:20250330T010000
END:DAYLIGHT
BEGIN:STANDARD
TZOFFSETFROM:+0200
TZOFFSETTO:+0100
TZNAME:CET
DTSTART:20251026T010000
END:STANDARD
END:VTIMEZONE
BEGIN:VEVENT
DTSTART;TZID=Europe/Berlin:20240904T140000
DTEND;TZID=Europe/Berlin:20240904T170000
DTSTAMP:20260422T230936
CREATED:20240801T095135Z
LAST-MODIFIED:20240801T095243Z
UID:4281-1725458400-1725469200@behindertenverband-leipzig.de
SUMMARY:Begegnungsfahrt - Alpakawanderung am Hainer See
DESCRIPTION:Liebe Mittwochsrunde und Interessierte\,dieses Jahr möchten wir Sie endlich mal wieder zu einem kleinen Ausflug einladen. Gemeinsam machen wir uns am 04. September auf zum Hainer See\, um dort mit Alpakas an der Seepromenade entlangzuwandern und den Nachmittag bei Kaffee und Kuchen ausklingen zu lassen. Die Route ist barrierefrei und vor Ort gibt es eine rollstuhlgerechte Toilette.Anmeldeschluss: Mittwoch\, der 31.07.2024\, nur angemeldete Personen können am Ausflug teilnehmen! Es gibt noch ein paar wenige Plätze\, der Fahrdienst ist allerdings schon voll.Es wird eine Gruppe geben\, die gemeinsam mit Frau Keitel mit den öffentlichen Verkehrsmitteln anreist. Die Strecke wurde überprüft und ist barrierefrei. Dazu treffen wir uns um 12:40 Uhr am S-Bahnhof Connewitz\, nehmen dann die S-Bahn 5X Richtung Zwickau um 12:50 Uhr\, steigen in Böhlen (b. Leipzig) in den Bus 101 Richtung Borna um und kommen um 13:39 in Kahnsdorf an. Von dort aus sind es nur noch wenige Minuten zu Fuß.Bitte kümmern Sie sich eigenständig um den Erwerb von Tickets und melden Sie sich bei Frau Keitel\, wenn Sie hierfür Unterstützung wünschen. Falls Sie einen Schieberollstuhl haben und noch jemand zum Schieben brauchen\, sagen Sie Bescheid – wir versuchen es möglich zu machen.Wir freuen uns auf den gemeinsamen Nachmittag im Grünen!
URL:https://behindertenverband-leipzig.de/event/begegnungsfahrt-alpakawanderung-am-hainer-see/
END:VEVENT
END:VCALENDAR