BEGIN:VCALENDAR
VERSION:2.0
PRODID:-//Behindertenverband Leipzig e.V. - ECPv6.15.20//NONSGML v1.0//EN
CALSCALE:GREGORIAN
METHOD:PUBLISH
X-ORIGINAL-URL:https://behindertenverband-leipzig.de
X-WR-CALDESC:Veranstaltungen für Behindertenverband Leipzig e.V.
REFRESH-INTERVAL;VALUE=DURATION:PT1H
X-Robots-Tag:noindex
X-PUBLISHED-TTL:PT1H
BEGIN:VTIMEZONE
TZID:Europe/Berlin
BEGIN:DAYLIGHT
TZOFFSETFROM:+0100
TZOFFSETTO:+0200
TZNAME:CEST
DTSTART:20230326T010000
END:DAYLIGHT
BEGIN:STANDARD
TZOFFSETFROM:+0200
TZOFFSETTO:+0100
TZNAME:CET
DTSTART:20231029T010000
END:STANDARD
BEGIN:DAYLIGHT
TZOFFSETFROM:+0100
TZOFFSETTO:+0200
TZNAME:CEST
DTSTART:20240331T010000
END:DAYLIGHT
BEGIN:STANDARD
TZOFFSETFROM:+0200
TZOFFSETTO:+0100
TZNAME:CET
DTSTART:20241027T010000
END:STANDARD
BEGIN:DAYLIGHT
TZOFFSETFROM:+0100
TZOFFSETTO:+0200
TZNAME:CEST
DTSTART:20250330T010000
END:DAYLIGHT
BEGIN:STANDARD
TZOFFSETFROM:+0200
TZOFFSETTO:+0100
TZNAME:CET
DTSTART:20251026T010000
END:STANDARD
END:VTIMEZONE
BEGIN:VEVENT
DTSTART;TZID=Europe/Berlin:20240820T130000
DTEND;TZID=Europe/Berlin:20240820T180000
DTSTAMP:20260423T002804
CREATED:20240801T094536Z
LAST-MODIFIED:20240801T094719Z
UID:4276-1724158800-1724176800@behindertenverband-leipzig.de
SUMMARY:E-Rolli Wandergruppe
DESCRIPTION:Liebe Wanderfreunde\,im August werden wir uns im ZOO umschauen und treffen uns deshalb am Dienstag\, dem 20.08.2024 wie gewohnt um 13 Uhr vor dem Eingang. Ich habe keine Führung bestellt. Wer interessante Neuigkeiten hat\, kann dies natürlich gern als Wunschziel angeben. Das Ende unseres Rundgangs kann jeder selbst für sich festlegen. Bitte meldet euch an\, damit wir gemeinsam in den Zoo starten können.Bis dahin eine schöne Zeit und bleibt gesund. Ich freue mich.Eure Gaby
URL:https://behindertenverband-leipzig.de/event/e-rolli-wandergruppe-29/
LOCATION:Zoo Leipzig\, Pfaffendorfer Str. 29\, Leipzig\, 04105\, Deutschland
END:VEVENT
END:VCALENDAR