BEGIN:VCALENDAR
VERSION:2.0
PRODID:-//Behindertenverband Leipzig e.V. - ECPv6.15.20//NONSGML v1.0//EN
CALSCALE:GREGORIAN
METHOD:PUBLISH
X-ORIGINAL-URL:https://behindertenverband-leipzig.de
X-WR-CALDESC:Veranstaltungen für Behindertenverband Leipzig e.V.
REFRESH-INTERVAL;VALUE=DURATION:PT1H
X-Robots-Tag:noindex
X-PUBLISHED-TTL:PT1H
BEGIN:VTIMEZONE
TZID:Europe/Berlin
BEGIN:DAYLIGHT
TZOFFSETFROM:+0100
TZOFFSETTO:+0200
TZNAME:CEST
DTSTART:20230326T010000
END:DAYLIGHT
BEGIN:STANDARD
TZOFFSETFROM:+0200
TZOFFSETTO:+0100
TZNAME:CET
DTSTART:20231029T010000
END:STANDARD
BEGIN:DAYLIGHT
TZOFFSETFROM:+0100
TZOFFSETTO:+0200
TZNAME:CEST
DTSTART:20240331T010000
END:DAYLIGHT
BEGIN:STANDARD
TZOFFSETFROM:+0200
TZOFFSETTO:+0100
TZNAME:CET
DTSTART:20241027T010000
END:STANDARD
BEGIN:DAYLIGHT
TZOFFSETFROM:+0100
TZOFFSETTO:+0200
TZNAME:CEST
DTSTART:20250330T010000
END:DAYLIGHT
BEGIN:STANDARD
TZOFFSETFROM:+0200
TZOFFSETTO:+0100
TZNAME:CET
DTSTART:20251026T010000
END:STANDARD
END:VTIMEZONE
BEGIN:VEVENT
DTSTART;TZID=Europe/Berlin:20240716T130000
DTEND;TZID=Europe/Berlin:20240716T160000
DTSTAMP:20260423T014537
CREATED:20240627T082406Z
LAST-MODIFIED:20240627T082407Z
UID:4247-1721134800-1721145600@behindertenverband-leipzig.de
SUMMARY:E-Rolli Wandergruppe
DESCRIPTION:Liebe Wanderfreunde\,es ist Sommer und wir umrunden wieder einen unserer Neuen Seen. Wir treffen uns am 16. Juli 2024 um 13.00 Uhr am Badesteg des Cospudener Sees. Die Umrundung dauert etwa eine Stunde und führt über eine Strecke von rund 10 km. Wer sich das oder seinem Rolli nicht zutraut\, kann ja in der Zwischenzeit ein erfrischendes Bad nehmen. Gegen 16.00 Uhr beenden wir die Wanderung am Badesteg. Bitte meldet euern Fahrdienstwunsch oder eure Teilnahme in jedem Falle an\, auch wenn ihr mit dem ÖPNV kommen wollt.Bis dahin eine gute Zeit\, bleibt gesund und schiebt bitte die Wolken. Ich freue mich auf euch.Eure Gaby
URL:https://behindertenverband-leipzig.de/event/e-rolli-wandergruppe-28/
END:VEVENT
END:VCALENDAR