BEGIN:VCALENDAR
VERSION:2.0
PRODID:-//Behindertenverband Leipzig e.V. - ECPv6.15.20//NONSGML v1.0//EN
CALSCALE:GREGORIAN
METHOD:PUBLISH
X-WR-CALNAME:Behindertenverband Leipzig e.V.
X-ORIGINAL-URL:https://behindertenverband-leipzig.de
X-WR-CALDESC:Veranstaltungen für Behindertenverband Leipzig e.V.
REFRESH-INTERVAL;VALUE=DURATION:PT1H
X-Robots-Tag:noindex
X-PUBLISHED-TTL:PT1H
BEGIN:VTIMEZONE
TZID:Europe/Berlin
BEGIN:DAYLIGHT
TZOFFSETFROM:+0100
TZOFFSETTO:+0200
TZNAME:CEST
DTSTART:20230326T010000
END:DAYLIGHT
BEGIN:STANDARD
TZOFFSETFROM:+0200
TZOFFSETTO:+0100
TZNAME:CET
DTSTART:20231029T010000
END:STANDARD
BEGIN:DAYLIGHT
TZOFFSETFROM:+0100
TZOFFSETTO:+0200
TZNAME:CEST
DTSTART:20240331T010000
END:DAYLIGHT
BEGIN:STANDARD
TZOFFSETFROM:+0200
TZOFFSETTO:+0100
TZNAME:CET
DTSTART:20241027T010000
END:STANDARD
BEGIN:DAYLIGHT
TZOFFSETFROM:+0100
TZOFFSETTO:+0200
TZNAME:CEST
DTSTART:20250330T010000
END:DAYLIGHT
BEGIN:STANDARD
TZOFFSETFROM:+0200
TZOFFSETTO:+0100
TZNAME:CET
DTSTART:20251026T010000
END:STANDARD
END:VTIMEZONE
BEGIN:VEVENT
DTSTART;TZID=Europe/Berlin:20240711T150000
DTEND;TZID=Europe/Berlin:20240711T170000
DTSTAMP:20260423T014357
CREATED:20240627T082634Z
LAST-MODIFIED:20240627T082635Z
UID:4249-1720710000-1720717200@behindertenverband-leipzig.de
SUMMARY:Der BVL beim Hörspielsommer Leipzig
DESCRIPTION:Wir sind dieses Jahr im Programm des Hörspielsommer Leipzig.Und zwar mit unserem neuen Hörspiel „Selam Neue Blume – Löwe Leon reist nach Addis Abeba“\, welches wir dort auf der Bühne präsentieren und aufführen dürfen. Herr Becker wird uns mit ein paar einleitenden Worten zu ausgewählten Kapiteln der Geschichte an die Hand bzw. die Ohren nehmen und uns gemächlich durch das Hörspiel führen. Unsere Vorführung findet am Donnerstag\, dem 11. Juli 2024 um 15.00 Uhr statt.Der ganze Hörspielsommer findet vom 10. bis 17. Juli 2024 im Richard-Wagner-Hain auf der Innenstadtseite statt und ist kostenlos. Das gesamte Programm findet sich demnächst unterhttps://hoerspielsommer.de/Barrierefreier Zugang: aus Richtung Käthe-Kollwitz-Str. kommend über den Peterssteg (kleine Brücke)/von der Jahnallee (Haltestelle Sportforum Süd) kommend: oberhalb am DHFK-Gebäude entlang oder auf der anderen Straßenseite den Weg an der Festwiese nehmen und unter der Zeppelin Brücke durch.
URL:https://behindertenverband-leipzig.de/event/der-bvl-beim-hoerspielsommer-leipzig/
END:VEVENT
END:VCALENDAR