BEGIN:VCALENDAR
VERSION:2.0
PRODID:-//Behindertenverband Leipzig e.V. - ECPv6.15.20//NONSGML v1.0//EN
CALSCALE:GREGORIAN
METHOD:PUBLISH
X-WR-CALNAME:Behindertenverband Leipzig e.V.
X-ORIGINAL-URL:https://behindertenverband-leipzig.de
X-WR-CALDESC:Veranstaltungen für Behindertenverband Leipzig e.V.
REFRESH-INTERVAL;VALUE=DURATION:PT1H
X-Robots-Tag:noindex
X-PUBLISHED-TTL:PT1H
BEGIN:VTIMEZONE
TZID:Europe/Berlin
BEGIN:DAYLIGHT
TZOFFSETFROM:+0100
TZOFFSETTO:+0200
TZNAME:CEST
DTSTART:20230326T010000
END:DAYLIGHT
BEGIN:STANDARD
TZOFFSETFROM:+0200
TZOFFSETTO:+0100
TZNAME:CET
DTSTART:20231029T010000
END:STANDARD
BEGIN:DAYLIGHT
TZOFFSETFROM:+0100
TZOFFSETTO:+0200
TZNAME:CEST
DTSTART:20240331T010000
END:DAYLIGHT
BEGIN:STANDARD
TZOFFSETFROM:+0200
TZOFFSETTO:+0100
TZNAME:CET
DTSTART:20241027T010000
END:STANDARD
BEGIN:DAYLIGHT
TZOFFSETFROM:+0100
TZOFFSETTO:+0200
TZNAME:CEST
DTSTART:20250330T010000
END:DAYLIGHT
BEGIN:STANDARD
TZOFFSETFROM:+0200
TZOFFSETTO:+0100
TZNAME:CET
DTSTART:20251026T010000
END:STANDARD
END:VTIMEZONE
BEGIN:VEVENT
DTSTART;TZID=Europe/Berlin:20240627T140000
DTEND;TZID=Europe/Berlin:20240627T163000
DTSTAMP:20260423T030621
CREATED:20240529T084304Z
LAST-MODIFIED:20240529T084305Z
UID:4227-1719496800-1719505800@behindertenverband-leipzig.de
SUMMARY:Spielenachmittag im GRASSI
DESCRIPTION:Am Donnerstag\, den 27. Juni finden uns Spielbegeisterte im Bonvenon Raum im ersten Obergeschoss. Das Gebäude ist barrierefrei zugänglich. Alle sind herzlich willkommen\, wir bitten jedoch um eine kurze Anmeldung hier bei uns im Verband.
URL:https://behindertenverband-leipzig.de/event/spielenachmittag-im-grassi-4/
LOCATION:GRASSI Museum für Völkerkunde\, Johannisplatz 5-11\, Leipzig\, 04103
END:VEVENT
END:VCALENDAR