BEGIN:VCALENDAR
VERSION:2.0
PRODID:-//Behindertenverband Leipzig e.V. - ECPv6.15.20//NONSGML v1.0//EN
CALSCALE:GREGORIAN
METHOD:PUBLISH
X-ORIGINAL-URL:https://behindertenverband-leipzig.de
X-WR-CALDESC:Veranstaltungen für Behindertenverband Leipzig e.V.
REFRESH-INTERVAL;VALUE=DURATION:PT1H
X-Robots-Tag:noindex
X-PUBLISHED-TTL:PT1H
BEGIN:VTIMEZONE
TZID:Europe/Berlin
BEGIN:DAYLIGHT
TZOFFSETFROM:+0100
TZOFFSETTO:+0200
TZNAME:CEST
DTSTART:20230326T010000
END:DAYLIGHT
BEGIN:STANDARD
TZOFFSETFROM:+0200
TZOFFSETTO:+0100
TZNAME:CET
DTSTART:20231029T010000
END:STANDARD
BEGIN:DAYLIGHT
TZOFFSETFROM:+0100
TZOFFSETTO:+0200
TZNAME:CEST
DTSTART:20240331T010000
END:DAYLIGHT
BEGIN:STANDARD
TZOFFSETFROM:+0200
TZOFFSETTO:+0100
TZNAME:CET
DTSTART:20241027T010000
END:STANDARD
BEGIN:DAYLIGHT
TZOFFSETFROM:+0100
TZOFFSETTO:+0200
TZNAME:CEST
DTSTART:20250330T010000
END:DAYLIGHT
BEGIN:STANDARD
TZOFFSETFROM:+0200
TZOFFSETTO:+0100
TZNAME:CET
DTSTART:20251026T010000
END:STANDARD
END:VTIMEZONE
BEGIN:VEVENT
DTSTART;TZID=Europe/Berlin:20240626T140000
DTEND;TZID=Europe/Berlin:20240626T163000
DTSTAMP:20260423T030802
CREATED:20240529T083822Z
LAST-MODIFIED:20240529T083824Z
UID:4221-1719410400-1719419400@behindertenverband-leipzig.de
SUMMARY:Café Inklusiv(e) - Ausflug in den Botansichen Garten
DESCRIPTION:Passend zum warmen Wetter möchten wir diesen Mittwochnutzen\, um gemeinsam einen Ausflug in den BotanischenGarten zu machen. Dort blüht und sprießt nun alles – das wollenwir uns nicht entgehen lassen!Wir treffen uns um 14.00 Uhr vor dem Eingang Linnéstraßeund erkunden dort gemütlich beim einen oder anderen BecherKaffee den Kuriositätenpfad. Bei Regen treffen wir uns wiegewohnt im Café des Hauses der Demokratie.
URL:https://behindertenverband-leipzig.de/event/cafe-inklusive-ausflug-in-den-botansichen-garten/
LOCATION:Botanischer Garten\, Linnéstraße 1\, Leipzig\, 04103\, Deutschland
END:VEVENT
END:VCALENDAR