BEGIN:VCALENDAR
VERSION:2.0
PRODID:-//Behindertenverband Leipzig e.V. - ECPv6.15.20//NONSGML v1.0//EN
CALSCALE:GREGORIAN
METHOD:PUBLISH
X-ORIGINAL-URL:https://behindertenverband-leipzig.de
X-WR-CALDESC:Veranstaltungen für Behindertenverband Leipzig e.V.
REFRESH-INTERVAL;VALUE=DURATION:PT1H
X-Robots-Tag:noindex
X-PUBLISHED-TTL:PT1H
BEGIN:VTIMEZONE
TZID:Europe/Berlin
BEGIN:DAYLIGHT
TZOFFSETFROM:+0100
TZOFFSETTO:+0200
TZNAME:CEST
DTSTART:20230326T010000
END:DAYLIGHT
BEGIN:STANDARD
TZOFFSETFROM:+0200
TZOFFSETTO:+0100
TZNAME:CET
DTSTART:20231029T010000
END:STANDARD
BEGIN:DAYLIGHT
TZOFFSETFROM:+0100
TZOFFSETTO:+0200
TZNAME:CEST
DTSTART:20240331T010000
END:DAYLIGHT
BEGIN:STANDARD
TZOFFSETFROM:+0200
TZOFFSETTO:+0100
TZNAME:CET
DTSTART:20241027T010000
END:STANDARD
BEGIN:DAYLIGHT
TZOFFSETFROM:+0100
TZOFFSETTO:+0200
TZNAME:CEST
DTSTART:20250330T010000
END:DAYLIGHT
BEGIN:STANDARD
TZOFFSETFROM:+0200
TZOFFSETTO:+0100
TZNAME:CET
DTSTART:20251026T010000
END:STANDARD
END:VTIMEZONE
BEGIN:VEVENT
DTSTART;TZID=Europe/Berlin:20240525T130000
DTEND;TZID=Europe/Berlin:20240525T170000
DTSTAMP:20260423T042631
CREATED:20240502T072135Z
LAST-MODIFIED:20240502T072356Z
UID:4197-1716642000-1716656400@behindertenverband-leipzig.de
SUMMARY:Tag der Begegnung
DESCRIPTION:Der Tag der Begegnung für Menschen mit und ohneBehinderung hat eine lange Tradition in Leipzig. Seit 1992bieten sich an diesem Tag Leipzigerinnen und LeipzigernMöglichkeiten des Austauschs und gemeinsamer Erlebnisse.Am 25. Mai 2024 soll der nächste Tag der Begegnung fürMenschen mit und ohne Behinderung stattfinden. Diesmal lädter in den Leipziger Osten mit dem Stadtteilpark Rabet ein.Anlässlich der Fußballeuropameisterschaft\, die mit einigenSpielen 2024 auch in Leipzig stattfindet\, sollen diesmalsportliche Aktivitäten für Jung und Alt im Vordergrund stehen. \n\n\n\nWeitere Infos unter folgendem Link: https://www.leipzig.de/jugend-familie-und-soziales/menschen-mit-behinderungen/tag-der-begegnung
URL:https://behindertenverband-leipzig.de/event/tag-der-begegnung-2/
LOCATION:Stadtteilpark Rabet
END:VEVENT
END:VCALENDAR