BEGIN:VCALENDAR
VERSION:2.0
PRODID:-//Behindertenverband Leipzig e.V. - ECPv6.15.20//NONSGML v1.0//EN
CALSCALE:GREGORIAN
METHOD:PUBLISH
X-WR-CALNAME:Behindertenverband Leipzig e.V.
X-ORIGINAL-URL:https://behindertenverband-leipzig.de
X-WR-CALDESC:Veranstaltungen für Behindertenverband Leipzig e.V.
REFRESH-INTERVAL;VALUE=DURATION:PT1H
X-Robots-Tag:noindex
X-PUBLISHED-TTL:PT1H
BEGIN:VTIMEZONE
TZID:Europe/Berlin
BEGIN:DAYLIGHT
TZOFFSETFROM:+0100
TZOFFSETTO:+0200
TZNAME:CEST
DTSTART:20230326T010000
END:DAYLIGHT
BEGIN:STANDARD
TZOFFSETFROM:+0200
TZOFFSETTO:+0100
TZNAME:CET
DTSTART:20231029T010000
END:STANDARD
BEGIN:DAYLIGHT
TZOFFSETFROM:+0100
TZOFFSETTO:+0200
TZNAME:CEST
DTSTART:20240331T010000
END:DAYLIGHT
BEGIN:STANDARD
TZOFFSETFROM:+0200
TZOFFSETTO:+0100
TZNAME:CET
DTSTART:20241027T010000
END:STANDARD
BEGIN:DAYLIGHT
TZOFFSETFROM:+0100
TZOFFSETTO:+0200
TZNAME:CEST
DTSTART:20250330T010000
END:DAYLIGHT
BEGIN:STANDARD
TZOFFSETFROM:+0200
TZOFFSETTO:+0100
TZNAME:CET
DTSTART:20251026T010000
END:STANDARD
END:VTIMEZONE
BEGIN:VEVENT
DTSTART;TZID=Europe/Berlin:20240505T100000
DTEND;TZID=Europe/Berlin:20240505T140000
DTSTAMP:20260423T042422
CREATED:20240320T141019Z
LAST-MODIFIED:20240502T085413Z
UID:4164-1714903200-1714917600@behindertenverband-leipzig.de
SUMMARY:Europäischer Protesttag zur Gleichstellung von Menschen mit Behinderungen „Ein Stück vom Kuchen“
DESCRIPTION:Kundgebung\, Kaffeetafel & Gespräche in Kooperation mit dem Netzwerk „behindern verhindern“ und der Diakonie Leipzig.Datum: Sonntag\, 5. Mai 2024\, 10 Uhr – 14 UhrOrt: Nikolaikirchhof\, 04109 LeipzigSchirmherrschaft: Sozialbürgermeisterin der Stadt Leipzig\,Dr. Martina MünchEine große Kaffeetafel mitten auf dem Nikolaikirchhof in Leipzig\, Kuchen und Gespräche\, Tee und Transparente – Zum Europäischen Protesttag zur Gleichstellung von Menschen mit Behinderungen öffnen die BBW-Leipzig-Gruppe\, das Netzwerk „behindern verhindern“ und die Diakonie Leipzig den städtischen Raum für Austausch und Begegnung.Zentrales Thema am Tisch ist die Teilhabe und Mitbestimmung von Menschen mit Behinderungen: Wer darf und kann mit am Tisch sitzen? Wer bekommt ein Stück vom Kuchen und wer bestimmt die Rezeptur? Diese Fragen stellen sich Menschen mit und ohne Behinderungen aus Leipzig\, geladene Gäste und Passant*innen bei Kaffee\, Kuchen und künstlerischer Einmischung. Die Aktion ist eingebettet in die Kampagne „Nächstenliebe eine Stimme geben“\, die im Wahljahr 2024 für den Schutz und die Stärkung der Demokratie und ein gerechtes und friedliches Miteinander wirbt.
URL:https://behindertenverband-leipzig.de/event/europaeischer-protesttag-zur-gleichstellung-von-menschen-mit-behinderungenein-stueck-vom-kuchen/
LOCATION:Nikolaikirchhof\, Nikoleikirchhof\, Leipzig\, 04109
END:VEVENT
END:VCALENDAR