BEGIN:VCALENDAR
VERSION:2.0
PRODID:-//Behindertenverband Leipzig e.V. - ECPv6.15.20//NONSGML v1.0//EN
CALSCALE:GREGORIAN
METHOD:PUBLISH
X-ORIGINAL-URL:https://behindertenverband-leipzig.de
X-WR-CALDESC:Veranstaltungen für Behindertenverband Leipzig e.V.
REFRESH-INTERVAL;VALUE=DURATION:PT1H
X-Robots-Tag:noindex
X-PUBLISHED-TTL:PT1H
BEGIN:VTIMEZONE
TZID:Europe/Berlin
BEGIN:DAYLIGHT
TZOFFSETFROM:+0100
TZOFFSETTO:+0200
TZNAME:CEST
DTSTART:20230326T010000
END:DAYLIGHT
BEGIN:STANDARD
TZOFFSETFROM:+0200
TZOFFSETTO:+0100
TZNAME:CET
DTSTART:20231029T010000
END:STANDARD
BEGIN:DAYLIGHT
TZOFFSETFROM:+0100
TZOFFSETTO:+0200
TZNAME:CEST
DTSTART:20240331T010000
END:DAYLIGHT
BEGIN:STANDARD
TZOFFSETFROM:+0200
TZOFFSETTO:+0100
TZNAME:CET
DTSTART:20241027T010000
END:STANDARD
BEGIN:DAYLIGHT
TZOFFSETFROM:+0100
TZOFFSETTO:+0200
TZNAME:CEST
DTSTART:20250330T010000
END:DAYLIGHT
BEGIN:STANDARD
TZOFFSETFROM:+0200
TZOFFSETTO:+0100
TZNAME:CET
DTSTART:20251026T010000
END:STANDARD
END:VTIMEZONE
BEGIN:VEVENT
DTSTART;TZID=Europe/Berlin:20240417T140000
DTEND;TZID=Europe/Berlin:20240417T163000
DTSTAMP:20260423T060216
CREATED:20240320T103055Z
LAST-MODIFIED:20240320T103056Z
UID:4145-1713362400-1713371400@behindertenverband-leipzig.de
SUMMARY:Café Inklusiv(e) - Einkaufsfalle Supermarkt
DESCRIPTION:Mit dem Einkaufszettel starten\, mit anderen Produkten nach Hause kommen: Wer kennt das nicht vom wöchentlichen Lebensmitteleinkauf? Mit Regalgestaltung\, Wegeleitung\, Werbung\, Gerüchen und Kostproben werden Verbraucherinnen und Verbraucher zielgerichtet zum Kauf verführt.Das virtuelle Einkaufstraining zeigt\, mit welchen Tricks Einkaufende zum Kauf überzeugt werden. Dabei werden auch Fragen der Lebensmittelkennzeichnung beantwortet und dreiste Mogelpackungen entlarvt.
URL:https://behindertenverband-leipzig.de/event/cafe-inklusive-einkaufsfalle-supermarkt/
LOCATION:Haus der Demokratie\, Café\, Bernhard-Göring-Str. 152\, Leipzig\, 04277\, Deutschland
END:VEVENT
END:VCALENDAR