BEGIN:VCALENDAR
VERSION:2.0
PRODID:-//Behindertenverband Leipzig e.V. - ECPv6.15.20//NONSGML v1.0//EN
CALSCALE:GREGORIAN
METHOD:PUBLISH
X-ORIGINAL-URL:https://behindertenverband-leipzig.de
X-WR-CALDESC:Veranstaltungen für Behindertenverband Leipzig e.V.
REFRESH-INTERVAL;VALUE=DURATION:PT1H
X-Robots-Tag:noindex
X-PUBLISHED-TTL:PT1H
BEGIN:VTIMEZONE
TZID:Europe/Berlin
BEGIN:DAYLIGHT
TZOFFSETFROM:+0100
TZOFFSETTO:+0200
TZNAME:CEST
DTSTART:20230326T010000
END:DAYLIGHT
BEGIN:STANDARD
TZOFFSETFROM:+0200
TZOFFSETTO:+0100
TZNAME:CET
DTSTART:20231029T010000
END:STANDARD
BEGIN:DAYLIGHT
TZOFFSETFROM:+0100
TZOFFSETTO:+0200
TZNAME:CEST
DTSTART:20240331T010000
END:DAYLIGHT
BEGIN:STANDARD
TZOFFSETFROM:+0200
TZOFFSETTO:+0100
TZNAME:CET
DTSTART:20241027T010000
END:STANDARD
BEGIN:DAYLIGHT
TZOFFSETFROM:+0100
TZOFFSETTO:+0200
TZNAME:CEST
DTSTART:20250330T010000
END:DAYLIGHT
BEGIN:STANDARD
TZOFFSETFROM:+0200
TZOFFSETTO:+0100
TZNAME:CET
DTSTART:20251026T010000
END:STANDARD
END:VTIMEZONE
BEGIN:VEVENT
DTSTART;TZID=Europe/Berlin:20240416T120000
DTEND;TZID=Europe/Berlin:20240416T130000
DTSTAMP:20260423T060320
CREATED:20240320T140751Z
LAST-MODIFIED:20240320T140753Z
UID:4160-1713268800-1713272400@behindertenverband-leipzig.de
SUMMARY:Eröffnung des Mahnmals der Kinder Euthanasie
DESCRIPTION:Mit dem neu errichteten Mahnmal am Erziehungswissenschaftlichen Campus möchten wir den Kindern mit Behinderung oder psychischen Erkrankungen gedenken\, die den nationalsozialistischen „Euthanasie“- Verbrechen in Leipzig und der ehemaligen Universitätskinderklinik Leipzig zum Opfer fielen.Die Enthüllung des Mahnmals findet am Dienstag\, den 16. April 2024 in der Zeit von 12:00 bis 12:40 Uhr auf dem Campus Jahnallee\, Erziehungswissenschaftliche Fakultät der Universität Leipzig (vor dem Haus 5\, Seite Marschnerstraße) statt.Die Veranstaltung ist so barrierefrei wie möglich gestaltet. Daher werden die Redebeiträge in Deutsche Gebärdensprache übersetzt. Vor Ort stehen einige Sitzgelegenheiten zur Verfügung. Sollte darüber hinaus Unterstützung benötigt werden\, melden Sie sich bitte zeitnah bei der Stabsstelle Chancengleichheit der Universität LeipzigTelefon +49 341 97-30094E-Mail chancengleichheit@uni-leipzig.de
URL:https://behindertenverband-leipzig.de/event/eroeffnung-des-mahnmals-der-kinder-euthanasie/
LOCATION:Universität Leipzig – Erziehungswissenschaftliche Fakultät\, Marschnerstraße 31\, Leipzig\, 04109
END:VEVENT
BEGIN:VEVENT
DTSTART;TZID=Europe/Berlin:20240416T130000
DTEND;TZID=Europe/Berlin:20240416T170000
DTSTAMP:20260423T060320
CREATED:20240320T104005Z
LAST-MODIFIED:20240320T104007Z
UID:4151-1713272400-1713286800@behindertenverband-leipzig.de
SUMMARY:E-Rolli Wandergruppe
DESCRIPTION:Liebe Wanderfreunde\,im April wollen wir uns noch einmal eine Ausstellung anschauen\, bevor wir wieder in der Natur wandern werden. Die Ankündigung der Ausstellung „R.I.P. – Die letzte Adresse“ stieß ja bei allen Teilnehmern der Krippenausstellung auf offene Ohren. Deshalb habe ich für unsere Wanderung am Dienstag\, dem 16. April 2024 ab 13 Uhr im Städtischen Museumsneubau im Böttchergäßchen eine kurze Führung bestellt. Da es sich um eine Sonderausstellung handelt\, müssen wir einen ermäßigten Eintritt bezahlen.Ich wünsche euch allen ein schönes Osterfest\, bleibt gesund und meldet euch bitte an.Eure Gaby
URL:https://behindertenverband-leipzig.de/event/e-rolli-wandergruppe-25/
LOCATION:Stadtgeschichtliches Museum – Haus Böttchergäßchen\, Böttchergäßchen 3\, Leipzig\, 04109
END:VEVENT
END:VCALENDAR