BEGIN:VCALENDAR
VERSION:2.0
PRODID:-//Behindertenverband Leipzig e.V. - ECPv6.15.20//NONSGML v1.0//EN
CALSCALE:GREGORIAN
METHOD:PUBLISH
X-ORIGINAL-URL:https://behindertenverband-leipzig.de
X-WR-CALDESC:Veranstaltungen für Behindertenverband Leipzig e.V.
REFRESH-INTERVAL;VALUE=DURATION:PT1H
X-Robots-Tag:noindex
X-PUBLISHED-TTL:PT1H
BEGIN:VTIMEZONE
TZID:Europe/Berlin
BEGIN:DAYLIGHT
TZOFFSETFROM:+0100
TZOFFSETTO:+0200
TZNAME:CEST
DTSTART:20230326T010000
END:DAYLIGHT
BEGIN:STANDARD
TZOFFSETFROM:+0200
TZOFFSETTO:+0100
TZNAME:CET
DTSTART:20231029T010000
END:STANDARD
BEGIN:DAYLIGHT
TZOFFSETFROM:+0100
TZOFFSETTO:+0200
TZNAME:CEST
DTSTART:20240331T010000
END:DAYLIGHT
BEGIN:STANDARD
TZOFFSETFROM:+0200
TZOFFSETTO:+0100
TZNAME:CET
DTSTART:20241027T010000
END:STANDARD
BEGIN:DAYLIGHT
TZOFFSETFROM:+0100
TZOFFSETTO:+0200
TZNAME:CEST
DTSTART:20250330T010000
END:DAYLIGHT
BEGIN:STANDARD
TZOFFSETFROM:+0200
TZOFFSETTO:+0100
TZNAME:CET
DTSTART:20251026T010000
END:STANDARD
END:VTIMEZONE
BEGIN:VEVENT
DTSTART;TZID=Europe/Berlin:20240409T143000
DTEND;TZID=Europe/Berlin:20240409T160000
DTSTAMP:20260423T060354
CREATED:20240320T102312Z
LAST-MODIFIED:20240320T102314Z
UID:4141-1712673000-1712678400@behindertenverband-leipzig.de
SUMMARY:Kreatives Gestalten
DESCRIPTION:Liebe Bastelfreundinnen und -freunde\, \n\n\n\ndiesen Monat wollen wir uns wieder etwas die Hände schmutzig machen und mit Ton arbeiten. Diejenigen\, welche das letzte Mal dabei waren\, können auch schon glasieren.
URL:https://behindertenverband-leipzig.de/event/kreatives-gestalten-27/
LOCATION:Behindertenverband Leipzig e.V.\, Bernhard-Göring-Str. 152\, Leipzig\, Deutschland\, 04277
END:VEVENT
END:VCALENDAR